BEGIN:VCALENDAR
VERSION:2.0
PRODID:-//Odessa Arts - ECPv6.15.20//NONSGML v1.0//EN
CALSCALE:GREGORIAN
METHOD:PUBLISH
X-ORIGINAL-URL:https://odessaarts.org
X-WR-CALDESC:Events for Odessa Arts
REFRESH-INTERVAL;VALUE=DURATION:PT1H
X-Robots-Tag:noindex
X-PUBLISHED-TTL:PT1H
BEGIN:VTIMEZONE
TZID:America/Chicago
BEGIN:DAYLIGHT
TZOFFSETFROM:-0600
TZOFFSETTO:-0500
TZNAME:CDT
DTSTART:20230312T080000
END:DAYLIGHT
BEGIN:STANDARD
TZOFFSETFROM:-0500
TZOFFSETTO:-0600
TZNAME:CST
DTSTART:20231105T070000
END:STANDARD
BEGIN:DAYLIGHT
TZOFFSETFROM:-0600
TZOFFSETTO:-0500
TZNAME:CDT
DTSTART:20240310T080000
END:DAYLIGHT
BEGIN:STANDARD
TZOFFSETFROM:-0500
TZOFFSETTO:-0600
TZNAME:CST
DTSTART:20241103T070000
END:STANDARD
BEGIN:DAYLIGHT
TZOFFSETFROM:-0600
TZOFFSETTO:-0500
TZNAME:CDT
DTSTART:20250309T080000
END:DAYLIGHT
BEGIN:STANDARD
TZOFFSETFROM:-0500
TZOFFSETTO:-0600
TZNAME:CST
DTSTART:20251102T070000
END:STANDARD
END:VTIMEZONE
BEGIN:VEVENT
DTSTART;TZID=America/Chicago:20241017T180000
DTEND;TZID=America/Chicago:20241017T190000
DTSTAMP:20260425T135735
CREATED:20240904T164219Z
LAST-MODIFIED:20240904T164219Z
UID:73875-1729188000-1729191600@odessaarts.org
SUMMARY:Art Talk
DESCRIPTION:Join us for an engaging evening at the Ellen Noël Art Museum’s Art Talk! This event is a wonderful opportunity for art enthusiasts to come together and delve into the mysteries of a particular painting as they enhance their visual literacy skills. Gather with friends and fellow art lovers as we interpret\, comprehend\, and appreciate the art in ways that advance thinking\, decision-making\, communication and learning. \nArt Talk is all about exploring different perspectives and sparking lively conversation. Whether you’re an art aficionado or just curious\, share your thoughts and insights in a relaxed and friendly atmosphere. We go through a three question process that allows visitors to share their perceptions while viewing a piece of art from our Permanent Collection. \nCome be a part of Art Talk at the Ellen Noël Art Museum and experience art in a whole new way. We can’t wait to see you there!
URL:https://odessaarts.org/event/art-talk-9/2024-10-17/
LOCATION:Ellen Noel Art Museum\, 4909 E. University\, Odessa\, TX\, 79762\, United States
CATEGORIES:Humanities,Public Art,Visual Arts
END:VEVENT
BEGIN:VEVENT
DTSTART;TZID=America/Chicago:20240919T180000
DTEND;TZID=America/Chicago:20240919T190000
DTSTAMP:20260425T135735
CREATED:20240904T164219Z
LAST-MODIFIED:20240904T170742Z
UID:73861-1726768800-1726772400@odessaarts.org
SUMMARY:Art Talk
DESCRIPTION:Join us for an engaging evening at the Ellen Noël Art Museum’s Art Talk! This event is a wonderful opportunity for art enthusiasts to come together and delve into the mysteries of a particular painting as they enhance their visual literacy skills. Gather with friends and fellow art lovers as we interpret\, comprehend\, and appreciate the art in ways that advance thinking\, decision-making\, communication and learning. \nArt Talk is all about exploring different perspectives and sparking lively conversation. Whether you’re an art aficionado or just curious\, share your thoughts and insights in a relaxed and friendly atmosphere. We go through a three question process that allows visitors to share their perceptions while viewing a piece of art from our Permanent Collection. \nCome be a part of Art Talk at the Ellen Noël Art Museum and experience art in a whole new way. We can’t wait to see you there!
URL:https://odessaarts.org/event/art-talk-9/2024-09-19/
LOCATION:Ellen Noel Art Museum\, 4909 E. University\, Odessa\, TX\, 79762\, United States
CATEGORIES:Humanities,Public Art,Visual Arts
END:VEVENT
END:VCALENDAR