BEGIN:VCALENDAR
VERSION:2.0
PRODID:-//Odessa Arts - ECPv6.15.20//NONSGML v1.0//EN
CALSCALE:GREGORIAN
METHOD:PUBLISH
X-WR-CALNAME:Odessa Arts
X-ORIGINAL-URL:https://odessaarts.org
X-WR-CALDESC:Events for Odessa Arts
REFRESH-INTERVAL;VALUE=DURATION:PT1H
X-Robots-Tag:noindex
X-PUBLISHED-TTL:PT1H
BEGIN:VTIMEZONE
TZID:America/Chicago
BEGIN:DAYLIGHT
TZOFFSETFROM:-0600
TZOFFSETTO:-0500
TZNAME:CDT
DTSTART:20250309T080000
END:DAYLIGHT
BEGIN:STANDARD
TZOFFSETFROM:-0500
TZOFFSETTO:-0600
TZNAME:CST
DTSTART:20251102T070000
END:STANDARD
BEGIN:DAYLIGHT
TZOFFSETFROM:-0600
TZOFFSETTO:-0500
TZNAME:CDT
DTSTART:20260308T080000
END:DAYLIGHT
BEGIN:STANDARD
TZOFFSETFROM:-0500
TZOFFSETTO:-0600
TZNAME:CST
DTSTART:20261101T070000
END:STANDARD
BEGIN:DAYLIGHT
TZOFFSETFROM:-0600
TZOFFSETTO:-0500
TZNAME:CDT
DTSTART:20270314T080000
END:DAYLIGHT
BEGIN:STANDARD
TZOFFSETFROM:-0500
TZOFFSETTO:-0600
TZNAME:CST
DTSTART:20271107T070000
END:STANDARD
END:VTIMEZONE
BEGIN:VEVENT
DTSTART;TZID=America/Chicago:20260130T100000
DTEND;TZID=America/Chicago:20260130T110000
DTSTAMP:20260424T063826
CREATED:20260108T220917Z
LAST-MODIFIED:20260108T220917Z
UID:77149-1769767200-1769770800@odessaarts.org
SUMMARY:Children’s Passive Program: We’re Going on a Gnome Hunt
DESCRIPTION:Details \n\nThe gnomes have left their garden and are causing trouble in the children’s department. Can you help find them? They like to move our books\, play with out things\, and pester staff with they are trying to run. Come to the children’s department to get your counting sheet. Runs all month long.
URL:https://odessaarts.org/event/childrens-passive-program-were-going-on-a-gnome-hunt/2026-01-30/
LOCATION:Discover Odessa
CATEGORIES:Humanities,Theatre & Literary Arts
END:VEVENT
BEGIN:VEVENT
DTSTART;TZID=America/Chicago:20260129T100000
DTEND;TZID=America/Chicago:20260129T110000
DTSTAMP:20260424T063826
CREATED:20260108T220917Z
LAST-MODIFIED:20260108T220917Z
UID:77148-1769680800-1769684400@odessaarts.org
SUMMARY:Children’s Passive Program: We’re Going on a Gnome Hunt
DESCRIPTION:Details \n\nThe gnomes have left their garden and are causing trouble in the children’s department. Can you help find them? They like to move our books\, play with out things\, and pester staff with they are trying to run. Come to the children’s department to get your counting sheet. Runs all month long.
URL:https://odessaarts.org/event/childrens-passive-program-were-going-on-a-gnome-hunt/2026-01-29/
LOCATION:Discover Odessa
CATEGORIES:Humanities,Theatre & Literary Arts
END:VEVENT
BEGIN:VEVENT
DTSTART;TZID=America/Chicago:20260128T100000
DTEND;TZID=America/Chicago:20260128T110000
DTSTAMP:20260424T063826
CREATED:20260108T220917Z
LAST-MODIFIED:20260108T220917Z
UID:77147-1769594400-1769598000@odessaarts.org
SUMMARY:Children’s Passive Program: We’re Going on a Gnome Hunt
DESCRIPTION:Details \n\nThe gnomes have left their garden and are causing trouble in the children’s department. Can you help find them? They like to move our books\, play with out things\, and pester staff with they are trying to run. Come to the children’s department to get your counting sheet. Runs all month long.
URL:https://odessaarts.org/event/childrens-passive-program-were-going-on-a-gnome-hunt/2026-01-28/
LOCATION:Discover Odessa
CATEGORIES:Humanities,Theatre & Literary Arts
END:VEVENT
BEGIN:VEVENT
DTSTART;TZID=America/Chicago:20260127T100000
DTEND;TZID=America/Chicago:20260127T110000
DTSTAMP:20260424T063826
CREATED:20260108T220917Z
LAST-MODIFIED:20260108T220917Z
UID:77146-1769508000-1769511600@odessaarts.org
SUMMARY:Children’s Passive Program: We’re Going on a Gnome Hunt
DESCRIPTION:Details \n\nThe gnomes have left their garden and are causing trouble in the children’s department. Can you help find them? They like to move our books\, play with out things\, and pester staff with they are trying to run. Come to the children’s department to get your counting sheet. Runs all month long.
URL:https://odessaarts.org/event/childrens-passive-program-were-going-on-a-gnome-hunt/2026-01-27/
LOCATION:Discover Odessa
CATEGORIES:Humanities,Theatre & Literary Arts
END:VEVENT
BEGIN:VEVENT
DTSTART;TZID=America/Chicago:20260126T100000
DTEND;TZID=America/Chicago:20260126T110000
DTSTAMP:20260424T063826
CREATED:20260108T220917Z
LAST-MODIFIED:20260108T220917Z
UID:77145-1769421600-1769425200@odessaarts.org
SUMMARY:Children’s Passive Program: We’re Going on a Gnome Hunt
DESCRIPTION:Details \n\nThe gnomes have left their garden and are causing trouble in the children’s department. Can you help find them? They like to move our books\, play with out things\, and pester staff with they are trying to run. Come to the children’s department to get your counting sheet. Runs all month long.
URL:https://odessaarts.org/event/childrens-passive-program-were-going-on-a-gnome-hunt/2026-01-26/
LOCATION:Discover Odessa
CATEGORIES:Humanities,Theatre & Literary Arts
END:VEVENT
BEGIN:VEVENT
DTSTART;TZID=America/Chicago:20260125T100000
DTEND;TZID=America/Chicago:20260125T110000
DTSTAMP:20260424T063826
CREATED:20260108T220917Z
LAST-MODIFIED:20260108T220917Z
UID:77144-1769335200-1769338800@odessaarts.org
SUMMARY:Children’s Passive Program: We’re Going on a Gnome Hunt
DESCRIPTION:Details \n\nThe gnomes have left their garden and are causing trouble in the children’s department. Can you help find them? They like to move our books\, play with out things\, and pester staff with they are trying to run. Come to the children’s department to get your counting sheet. Runs all month long.
URL:https://odessaarts.org/event/childrens-passive-program-were-going-on-a-gnome-hunt/2026-01-25/
LOCATION:Discover Odessa
CATEGORIES:Humanities,Theatre & Literary Arts
END:VEVENT
BEGIN:VEVENT
DTSTART;TZID=America/Chicago:20260124T100000
DTEND;TZID=America/Chicago:20260124T110000
DTSTAMP:20260424T063826
CREATED:20260108T220917Z
LAST-MODIFIED:20260108T220917Z
UID:77143-1769248800-1769252400@odessaarts.org
SUMMARY:Children’s Passive Program: We’re Going on a Gnome Hunt
DESCRIPTION:Details \n\nThe gnomes have left their garden and are causing trouble in the children’s department. Can you help find them? They like to move our books\, play with out things\, and pester staff with they are trying to run. Come to the children’s department to get your counting sheet. Runs all month long.
URL:https://odessaarts.org/event/childrens-passive-program-were-going-on-a-gnome-hunt/2026-01-24/
LOCATION:Discover Odessa
CATEGORIES:Humanities,Theatre & Literary Arts
END:VEVENT
BEGIN:VEVENT
DTSTART;TZID=America/Chicago:20260123T100000
DTEND;TZID=America/Chicago:20260123T110000
DTSTAMP:20260424T063826
CREATED:20260108T220917Z
LAST-MODIFIED:20260108T220917Z
UID:77142-1769162400-1769166000@odessaarts.org
SUMMARY:Children’s Passive Program: We’re Going on a Gnome Hunt
DESCRIPTION:Details \n\nThe gnomes have left their garden and are causing trouble in the children’s department. Can you help find them? They like to move our books\, play with out things\, and pester staff with they are trying to run. Come to the children’s department to get your counting sheet. Runs all month long.
URL:https://odessaarts.org/event/childrens-passive-program-were-going-on-a-gnome-hunt/2026-01-23/
LOCATION:Discover Odessa
CATEGORIES:Humanities,Theatre & Literary Arts
END:VEVENT
BEGIN:VEVENT
DTSTART;TZID=America/Chicago:20260122T100000
DTEND;TZID=America/Chicago:20260122T110000
DTSTAMP:20260424T063826
CREATED:20260108T220917Z
LAST-MODIFIED:20260108T220917Z
UID:77141-1769076000-1769079600@odessaarts.org
SUMMARY:Children’s Passive Program: We’re Going on a Gnome Hunt
DESCRIPTION:Details \n\nThe gnomes have left their garden and are causing trouble in the children’s department. Can you help find them? They like to move our books\, play with out things\, and pester staff with they are trying to run. Come to the children’s department to get your counting sheet. Runs all month long.
URL:https://odessaarts.org/event/childrens-passive-program-were-going-on-a-gnome-hunt/2026-01-22/
LOCATION:Discover Odessa
CATEGORIES:Humanities,Theatre & Literary Arts
END:VEVENT
BEGIN:VEVENT
DTSTART;TZID=America/Chicago:20260121T100000
DTEND;TZID=America/Chicago:20260121T110000
DTSTAMP:20260424T063826
CREATED:20260108T220917Z
LAST-MODIFIED:20260108T220917Z
UID:77140-1768989600-1768993200@odessaarts.org
SUMMARY:Children’s Passive Program: We’re Going on a Gnome Hunt
DESCRIPTION:Details \n\nThe gnomes have left their garden and are causing trouble in the children’s department. Can you help find them? They like to move our books\, play with out things\, and pester staff with they are trying to run. Come to the children’s department to get your counting sheet. Runs all month long.
URL:https://odessaarts.org/event/childrens-passive-program-were-going-on-a-gnome-hunt/2026-01-21/
LOCATION:Discover Odessa
CATEGORIES:Humanities,Theatre & Literary Arts
END:VEVENT
BEGIN:VEVENT
DTSTART;TZID=America/Chicago:20260120T100000
DTEND;TZID=America/Chicago:20260120T110000
DTSTAMP:20260424T063826
CREATED:20260108T220917Z
LAST-MODIFIED:20260108T220917Z
UID:77139-1768903200-1768906800@odessaarts.org
SUMMARY:Children’s Passive Program: We’re Going on a Gnome Hunt
DESCRIPTION:Details \n\nThe gnomes have left their garden and are causing trouble in the children’s department. Can you help find them? They like to move our books\, play with out things\, and pester staff with they are trying to run. Come to the children’s department to get your counting sheet. Runs all month long.
URL:https://odessaarts.org/event/childrens-passive-program-were-going-on-a-gnome-hunt/2026-01-20/
LOCATION:Discover Odessa
CATEGORIES:Humanities,Theatre & Literary Arts
END:VEVENT
BEGIN:VEVENT
DTSTART;TZID=America/Chicago:20260119T100000
DTEND;TZID=America/Chicago:20260119T110000
DTSTAMP:20260424T063826
CREATED:20260108T220917Z
LAST-MODIFIED:20260108T220917Z
UID:77137-1768816800-1768820400@odessaarts.org
SUMMARY:Children’s Passive Program: We’re Going on a Gnome Hunt
DESCRIPTION:Details \n\nThe gnomes have left their garden and are causing trouble in the children’s department. Can you help find them? They like to move our books\, play with out things\, and pester staff with they are trying to run. Come to the children’s department to get your counting sheet. Runs all month long.
URL:https://odessaarts.org/event/childrens-passive-program-were-going-on-a-gnome-hunt/2026-01-19/
LOCATION:Discover Odessa
CATEGORIES:Humanities,Theatre & Literary Arts
END:VEVENT
BEGIN:VEVENT
DTSTART;TZID=America/Chicago:20260118T100000
DTEND;TZID=America/Chicago:20260118T110000
DTSTAMP:20260424T063826
CREATED:20260108T220917Z
LAST-MODIFIED:20260108T220917Z
UID:77136-1768730400-1768734000@odessaarts.org
SUMMARY:Children’s Passive Program: We’re Going on a Gnome Hunt
DESCRIPTION:Details \n\nThe gnomes have left their garden and are causing trouble in the children’s department. Can you help find them? They like to move our books\, play with out things\, and pester staff with they are trying to run. Come to the children’s department to get your counting sheet. Runs all month long.
URL:https://odessaarts.org/event/childrens-passive-program-were-going-on-a-gnome-hunt/2026-01-18/
LOCATION:Discover Odessa
CATEGORIES:Humanities,Theatre & Literary Arts
END:VEVENT
BEGIN:VEVENT
DTSTART;TZID=America/Chicago:20260117T100000
DTEND;TZID=America/Chicago:20260117T110000
DTSTAMP:20260424T063826
CREATED:20260108T220917Z
LAST-MODIFIED:20260108T220917Z
UID:77135-1768644000-1768647600@odessaarts.org
SUMMARY:Children’s Passive Program: We’re Going on a Gnome Hunt
DESCRIPTION:Details \n\nThe gnomes have left their garden and are causing trouble in the children’s department. Can you help find them? They like to move our books\, play with out things\, and pester staff with they are trying to run. Come to the children’s department to get your counting sheet. Runs all month long.
URL:https://odessaarts.org/event/childrens-passive-program-were-going-on-a-gnome-hunt/2026-01-17/
LOCATION:Discover Odessa
CATEGORIES:Humanities,Theatre & Literary Arts
END:VEVENT
BEGIN:VEVENT
DTSTART;TZID=America/Chicago:20260116T100000
DTEND;TZID=America/Chicago:20260116T110000
DTSTAMP:20260424T063826
CREATED:20260108T220917Z
LAST-MODIFIED:20260108T220917Z
UID:77134-1768557600-1768561200@odessaarts.org
SUMMARY:Children’s Passive Program: We’re Going on a Gnome Hunt
DESCRIPTION:Details \n\nThe gnomes have left their garden and are causing trouble in the children’s department. Can you help find them? They like to move our books\, play with out things\, and pester staff with they are trying to run. Come to the children’s department to get your counting sheet. Runs all month long.
URL:https://odessaarts.org/event/childrens-passive-program-were-going-on-a-gnome-hunt/2026-01-16/
LOCATION:Discover Odessa
CATEGORIES:Humanities,Theatre & Literary Arts
END:VEVENT
BEGIN:VEVENT
DTSTART;TZID=America/Chicago:20260115T100000
DTEND;TZID=America/Chicago:20260115T110000
DTSTAMP:20260424T063826
CREATED:20260108T220917Z
LAST-MODIFIED:20260108T220917Z
UID:77133-1768471200-1768474800@odessaarts.org
SUMMARY:Children’s Passive Program: We’re Going on a Gnome Hunt
DESCRIPTION:Details \n\nThe gnomes have left their garden and are causing trouble in the children’s department. Can you help find them? They like to move our books\, play with out things\, and pester staff with they are trying to run. Come to the children’s department to get your counting sheet. Runs all month long.
URL:https://odessaarts.org/event/childrens-passive-program-were-going-on-a-gnome-hunt/2026-01-15/
LOCATION:Discover Odessa
CATEGORIES:Humanities,Theatre & Literary Arts
END:VEVENT
BEGIN:VEVENT
DTSTART;TZID=America/Chicago:20260114T100000
DTEND;TZID=America/Chicago:20260114T110000
DTSTAMP:20260424T063826
CREATED:20260108T220917Z
LAST-MODIFIED:20260108T220917Z
UID:77132-1768384800-1768388400@odessaarts.org
SUMMARY:Children’s Passive Program: We’re Going on a Gnome Hunt
DESCRIPTION:Details \n\nThe gnomes have left their garden and are causing trouble in the children’s department. Can you help find them? They like to move our books\, play with out things\, and pester staff with they are trying to run. Come to the children’s department to get your counting sheet. Runs all month long.
URL:https://odessaarts.org/event/childrens-passive-program-were-going-on-a-gnome-hunt/2026-01-14/
LOCATION:Discover Odessa
CATEGORIES:Humanities,Theatre & Literary Arts
END:VEVENT
BEGIN:VEVENT
DTSTART;TZID=America/Chicago:20260113T100000
DTEND;TZID=America/Chicago:20260113T110000
DTSTAMP:20260424T063826
CREATED:20260108T220917Z
LAST-MODIFIED:20260108T220917Z
UID:77131-1768298400-1768302000@odessaarts.org
SUMMARY:Children’s Passive Program: We’re Going on a Gnome Hunt
DESCRIPTION:Details \n\nThe gnomes have left their garden and are causing trouble in the children’s department. Can you help find them? They like to move our books\, play with out things\, and pester staff with they are trying to run. Come to the children’s department to get your counting sheet. Runs all month long.
URL:https://odessaarts.org/event/childrens-passive-program-were-going-on-a-gnome-hunt/2026-01-13/
LOCATION:Discover Odessa
CATEGORIES:Humanities,Theatre & Literary Arts
END:VEVENT
BEGIN:VEVENT
DTSTART;TZID=America/Chicago:20260112T100000
DTEND;TZID=America/Chicago:20260112T110000
DTSTAMP:20260424T063826
CREATED:20260108T220917Z
LAST-MODIFIED:20260108T220917Z
UID:77130-1768212000-1768215600@odessaarts.org
SUMMARY:Children’s Passive Program: We’re Going on a Gnome Hunt
DESCRIPTION:Details \n\nThe gnomes have left their garden and are causing trouble in the children’s department. Can you help find them? They like to move our books\, play with out things\, and pester staff with they are trying to run. Come to the children’s department to get your counting sheet. Runs all month long.
URL:https://odessaarts.org/event/childrens-passive-program-were-going-on-a-gnome-hunt/2026-01-12/
LOCATION:Discover Odessa
CATEGORIES:Humanities,Theatre & Literary Arts
END:VEVENT
BEGIN:VEVENT
DTSTART;TZID=America/Chicago:20260111T100000
DTEND;TZID=America/Chicago:20260111T110000
DTSTAMP:20260424T063826
CREATED:20260108T220917Z
LAST-MODIFIED:20260108T220917Z
UID:77129-1768125600-1768129200@odessaarts.org
SUMMARY:Children’s Passive Program: We’re Going on a Gnome Hunt
DESCRIPTION:Details \n\nThe gnomes have left their garden and are causing trouble in the children’s department. Can you help find them? They like to move our books\, play with out things\, and pester staff with they are trying to run. Come to the children’s department to get your counting sheet. Runs all month long.
URL:https://odessaarts.org/event/childrens-passive-program-were-going-on-a-gnome-hunt/2026-01-11/
LOCATION:Discover Odessa
CATEGORIES:Humanities,Theatre & Literary Arts
END:VEVENT
BEGIN:VEVENT
DTSTART;TZID=America/Chicago:20260110T100000
DTEND;TZID=America/Chicago:20260110T110000
DTSTAMP:20260424T063826
CREATED:20260108T220917Z
LAST-MODIFIED:20260108T220917Z
UID:77128-1768039200-1768042800@odessaarts.org
SUMMARY:Children’s Passive Program: We’re Going on a Gnome Hunt
DESCRIPTION:Details \n\nThe gnomes have left their garden and are causing trouble in the children’s department. Can you help find them? They like to move our books\, play with out things\, and pester staff with they are trying to run. Come to the children’s department to get your counting sheet. Runs all month long.
URL:https://odessaarts.org/event/childrens-passive-program-were-going-on-a-gnome-hunt/2026-01-10/
LOCATION:Discover Odessa
CATEGORIES:Humanities,Theatre & Literary Arts
END:VEVENT
BEGIN:VEVENT
DTSTART;TZID=America/Chicago:20260109T100000
DTEND;TZID=America/Chicago:20260109T110000
DTSTAMP:20260424T063826
CREATED:20260108T220917Z
LAST-MODIFIED:20260108T220917Z
UID:77118-1767952800-1767956400@odessaarts.org
SUMMARY:Children’s Passive Program: We’re Going on a Gnome Hunt
DESCRIPTION:Details \n\nThe gnomes have left their garden and are causing trouble in the children’s department. Can you help find them? They like to move our books\, play with out things\, and pester staff with they are trying to run. Come to the children’s department to get your counting sheet. Runs all month long.
URL:https://odessaarts.org/event/childrens-passive-program-were-going-on-a-gnome-hunt/2026-01-09/
LOCATION:Discover Odessa
CATEGORIES:Humanities,Theatre & Literary Arts
END:VEVENT
END:VCALENDAR