BEGIN:VCALENDAR
VERSION:2.0
PRODID:-//Odessa Arts - ECPv6.15.20//NONSGML v1.0//EN
CALSCALE:GREGORIAN
METHOD:PUBLISH
X-WR-CALNAME:Odessa Arts
X-ORIGINAL-URL:https://odessaarts.org
X-WR-CALDESC:Events for Odessa Arts
REFRESH-INTERVAL;VALUE=DURATION:PT1H
X-Robots-Tag:noindex
X-PUBLISHED-TTL:PT1H
BEGIN:VTIMEZONE
TZID:America/Chicago
BEGIN:DAYLIGHT
TZOFFSETFROM:-0600
TZOFFSETTO:-0500
TZNAME:CDT
DTSTART:20230312T080000
END:DAYLIGHT
BEGIN:STANDARD
TZOFFSETFROM:-0500
TZOFFSETTO:-0600
TZNAME:CST
DTSTART:20231105T070000
END:STANDARD
BEGIN:DAYLIGHT
TZOFFSETFROM:-0600
TZOFFSETTO:-0500
TZNAME:CDT
DTSTART:20240310T080000
END:DAYLIGHT
BEGIN:STANDARD
TZOFFSETFROM:-0500
TZOFFSETTO:-0600
TZNAME:CST
DTSTART:20241103T070000
END:STANDARD
BEGIN:DAYLIGHT
TZOFFSETFROM:-0600
TZOFFSETTO:-0500
TZNAME:CDT
DTSTART:20250309T080000
END:DAYLIGHT
BEGIN:STANDARD
TZOFFSETFROM:-0500
TZOFFSETTO:-0600
TZNAME:CST
DTSTART:20251102T070000
END:STANDARD
END:VTIMEZONE
BEGIN:VEVENT
DTSTART;TZID=America/Chicago:20240219T180000
DTEND;TZID=America/Chicago:20240219T210000
DTSTAMP:20260425T211526
CREATED:20240209T202931Z
LAST-MODIFIED:20240209T203752Z
UID:72487-1708365600-1708376400@odessaarts.org
SUMMARY:Country Door Hanger Painting Class
DESCRIPTION:Unleash your inner artist with Cheers To Paint Studio’s fun & creative painting classes in Odessa\, TX! Learn new techniques\, paint unique masterpieces\, and enjoy a night out with friends. Relax\, socialize\, and Paint! \nBOOK YOUR SPOT 
URL:https://odessaarts.org/event/country-door-hanger-painting-class/2024-02-19/
LOCATION:Cheers to Paint Studio\, 3952 E. 42nd Street\, Ste G\, Odessa\, TX\, 79762\, United States
CATEGORIES:Visual Arts
END:VEVENT
END:VCALENDAR