BEGIN:VCALENDAR
VERSION:2.0
PRODID:-//Odessa Arts - ECPv6.15.20//NONSGML v1.0//EN
CALSCALE:GREGORIAN
METHOD:PUBLISH
X-WR-CALNAME:Odessa Arts
X-ORIGINAL-URL:https://odessaarts.org
X-WR-CALDESC:Events for Odessa Arts
REFRESH-INTERVAL;VALUE=DURATION:PT1H
X-Robots-Tag:noindex
X-PUBLISHED-TTL:PT1H
BEGIN:VTIMEZONE
TZID:America/Chicago
BEGIN:DAYLIGHT
TZOFFSETFROM:-0600
TZOFFSETTO:-0500
TZNAME:CDT
DTSTART:20210314T080000
END:DAYLIGHT
BEGIN:STANDARD
TZOFFSETFROM:-0500
TZOFFSETTO:-0600
TZNAME:CST
DTSTART:20211107T070000
END:STANDARD
BEGIN:DAYLIGHT
TZOFFSETFROM:-0600
TZOFFSETTO:-0500
TZNAME:CDT
DTSTART:20220313T080000
END:DAYLIGHT
BEGIN:STANDARD
TZOFFSETFROM:-0500
TZOFFSETTO:-0600
TZNAME:CST
DTSTART:20221106T070000
END:STANDARD
BEGIN:DAYLIGHT
TZOFFSETFROM:-0600
TZOFFSETTO:-0500
TZNAME:CDT
DTSTART:20230312T080000
END:DAYLIGHT
BEGIN:STANDARD
TZOFFSETFROM:-0500
TZOFFSETTO:-0600
TZNAME:CST
DTSTART:20231105T070000
END:STANDARD
END:VTIMEZONE
BEGIN:VEVENT
DTSTART;TZID=America/Chicago:20220627T180000
DTEND;TZID=America/Chicago:20220627T193000
DTSTAMP:20260425T140506
CREATED:20220510T161855Z
LAST-MODIFIED:20220510T161926Z
UID:10052-1656352800-1656358200@odessaarts.org
SUMMARY:Family Activity: Coloring Night
DESCRIPTION:Coloring is a wonderful activity for the whole family. We provide the materials\, you provide the fun! This activity is designed for all ages. Call 432-332-0633 for more information.
URL:https://odessaarts.org/event/family-activity-coloring-night/2022-06-27/
LOCATION:Ector County Library
CATEGORIES:Theatre & Literary Arts,Visual Arts
ORGANIZER;CN="Ector County Library":MAILTO:webmaster@ector.lib.tx.us
END:VEVENT
END:VCALENDAR