BEGIN:VCALENDAR
VERSION:2.0
PRODID:-//Odessa Arts - ECPv6.15.20//NONSGML v1.0//EN
CALSCALE:GREGORIAN
METHOD:PUBLISH
X-WR-CALNAME:Odessa Arts
X-ORIGINAL-URL:https://odessaarts.org
X-WR-CALDESC:Events for Odessa Arts
REFRESH-INTERVAL;VALUE=DURATION:PT1H
X-Robots-Tag:noindex
X-PUBLISHED-TTL:PT1H
BEGIN:VTIMEZONE
TZID:America/Chicago
BEGIN:DAYLIGHT
TZOFFSETFROM:-0600
TZOFFSETTO:-0500
TZNAME:CDT
DTSTART:20240310T080000
END:DAYLIGHT
BEGIN:STANDARD
TZOFFSETFROM:-0500
TZOFFSETTO:-0600
TZNAME:CST
DTSTART:20241103T070000
END:STANDARD
BEGIN:DAYLIGHT
TZOFFSETFROM:-0600
TZOFFSETTO:-0500
TZNAME:CDT
DTSTART:20250309T080000
END:DAYLIGHT
BEGIN:STANDARD
TZOFFSETFROM:-0500
TZOFFSETTO:-0600
TZNAME:CST
DTSTART:20251102T070000
END:STANDARD
BEGIN:DAYLIGHT
TZOFFSETFROM:-0600
TZOFFSETTO:-0500
TZNAME:CDT
DTSTART:20260308T080000
END:DAYLIGHT
BEGIN:STANDARD
TZOFFSETFROM:-0500
TZOFFSETTO:-0600
TZNAME:CST
DTSTART:20261101T070000
END:STANDARD
END:VTIMEZONE
BEGIN:VEVENT
DTSTART;TZID=America/Chicago:20250316T100000
DTEND;TZID=America/Chicago:20250316T190000
DTSTAMP:20260425T065514
CREATED:20250304T152500Z
LAST-MODIFIED:20250304T152500Z
UID:75458-1742119200-1742151600@odessaarts.org
SUMMARY:Inflatable Wonderland - Spring Break Bounce Bash & Pop Up Event
DESCRIPTION:**Inflatable Wonderland Spring Break 2025**\nSpring Break just got a whole lot more fun for West Odessa! Imagine the kids running through a giant obstacle course while the adults relax and enjoy the fun atmosphere with some shopping and adult beverages. Bring the whole family for 2 weekends full of bouncing\, laughing\, playing and shopping at Inflatable Wonderland!\n** 𝐖𝐡𝐞𝐧:** March 8th-9th and March 15th-16th** 𝗧𝗶𝗺𝗲:** 10:00 AM – 7:00 PM** 𝐖𝐡𝐞𝐫𝐞:** The Scene ** 𝗔𝗱𝗺𝗶𝘀𝘀𝗶𝗼𝗻:**– Children 3+: ** $36 for 3 hours – $10 each additional hour\n𝐆𝐞𝐭 𝐫𝐞𝐚𝐝𝐲 𝐟𝐨𝐫: 30+ Bounce houses & inflatables for all ages! Fun activities for the whole family! Kid friendly vendors – toys\, games\, face painting etc.Character costumes walking around taking pictures  Mechanical bull rides Basketball – Connect 4 challenges (prize winners) Live DJ performance Photobooth 360 Food Truck & Food Vendors\nParents and event organizers\, seize this perfect opportunity to rent our top-quality bounce houses\, thrilling water slides\, and challenging obstacle courses. Whether you’re planning a community event\, a family reunion\, or simply want to give the kids a memorable day/weekend of fun and sun\, we have everything you need.\nOur equipment is clean\, safe\, and ready for action. We ensure prompt delivery and setup so that you can focus on enjoying the festivities. Let’s make your next event one for the books – with laughter echoing from the bouncing corners and splashing sounds creating ripples of joy.\nIf you’re interested in being a vendor\, setting up a booth or donating your services (face painting\, bounce house\, balloon animals\, carnival style games or other kid friendly booth) please contact Sergio at 830-313-3478\n𝑫𝒐𝒏’𝒕 𝒎𝒊𝒔𝒔 𝒐𝒖𝒕—𝒎𝒂𝒓𝒌 𝒚𝒐𝒖𝒓 𝒄𝒂𝒍𝒆𝒏𝒅𝒂𝒓𝒔 𝒂𝒏𝒅 𝒍𝒆𝒕’𝒔 𝒎𝒂𝒌𝒆 𝒕𝒉𝒊𝒔 𝑺𝒑𝒓𝒊𝒏𝒈 𝑩𝒓𝒆𝒂𝒌 𝒖𝒏𝒇𝒐𝒓𝒈𝒆𝒕𝒕𝒂𝒃𝒍𝒆! \nEvent brought to you by La Pop up Pulga de West Odessa\, Play Station Party Rentals and Epic Party and Bounce Rentals!
URL:https://odessaarts.org/event/inflatable-wonderland-spring-break-bounce-bash-pop-up-event/2025-03-16/
LOCATION:The Scene\, 2997 N Torrance Ave\, Odessa\, TX\, 79764\, United States
CATEGORIES:Humanities
END:VEVENT
BEGIN:VEVENT
DTSTART;TZID=America/Chicago:20250315T100000
DTEND;TZID=America/Chicago:20250315T190000
DTSTAMP:20260425T065514
CREATED:20250304T152500Z
LAST-MODIFIED:20250304T152500Z
UID:75457-1742032800-1742065200@odessaarts.org
SUMMARY:Inflatable Wonderland - Spring Break Bounce Bash & Pop Up Event
DESCRIPTION:**Inflatable Wonderland Spring Break 2025**\nSpring Break just got a whole lot more fun for West Odessa! Imagine the kids running through a giant obstacle course while the adults relax and enjoy the fun atmosphere with some shopping and adult beverages. Bring the whole family for 2 weekends full of bouncing\, laughing\, playing and shopping at Inflatable Wonderland!\n** 𝐖𝐡𝐞𝐧:** March 8th-9th and March 15th-16th** 𝗧𝗶𝗺𝗲:** 10:00 AM – 7:00 PM** 𝐖𝐡𝐞𝐫𝐞:** The Scene ** 𝗔𝗱𝗺𝗶𝘀𝘀𝗶𝗼𝗻:**– Children 3+: ** $36 for 3 hours – $10 each additional hour\n𝐆𝐞𝐭 𝐫𝐞𝐚𝐝𝐲 𝐟𝐨𝐫: 30+ Bounce houses & inflatables for all ages! Fun activities for the whole family! Kid friendly vendors – toys\, games\, face painting etc.Character costumes walking around taking pictures  Mechanical bull rides Basketball – Connect 4 challenges (prize winners) Live DJ performance Photobooth 360 Food Truck & Food Vendors\nParents and event organizers\, seize this perfect opportunity to rent our top-quality bounce houses\, thrilling water slides\, and challenging obstacle courses. Whether you’re planning a community event\, a family reunion\, or simply want to give the kids a memorable day/weekend of fun and sun\, we have everything you need.\nOur equipment is clean\, safe\, and ready for action. We ensure prompt delivery and setup so that you can focus on enjoying the festivities. Let’s make your next event one for the books – with laughter echoing from the bouncing corners and splashing sounds creating ripples of joy.\nIf you’re interested in being a vendor\, setting up a booth or donating your services (face painting\, bounce house\, balloon animals\, carnival style games or other kid friendly booth) please contact Sergio at 830-313-3478\n𝑫𝒐𝒏’𝒕 𝒎𝒊𝒔𝒔 𝒐𝒖𝒕—𝒎𝒂𝒓𝒌 𝒚𝒐𝒖𝒓 𝒄𝒂𝒍𝒆𝒏𝒅𝒂𝒓𝒔 𝒂𝒏𝒅 𝒍𝒆𝒕’𝒔 𝒎𝒂𝒌𝒆 𝒕𝒉𝒊𝒔 𝑺𝒑𝒓𝒊𝒏𝒈 𝑩𝒓𝒆𝒂𝒌 𝒖𝒏𝒇𝒐𝒓𝒈𝒆𝒕𝒕𝒂𝒃𝒍𝒆! \nEvent brought to you by La Pop up Pulga de West Odessa\, Play Station Party Rentals and Epic Party and Bounce Rentals!
URL:https://odessaarts.org/event/inflatable-wonderland-spring-break-bounce-bash-pop-up-event/2025-03-15/
LOCATION:The Scene\, 2997 N Torrance Ave\, Odessa\, TX\, 79764\, United States
CATEGORIES:Humanities
END:VEVENT
BEGIN:VEVENT
DTSTART;TZID=America/Chicago:20250309T100000
DTEND;TZID=America/Chicago:20250309T190000
DTSTAMP:20260425T065514
CREATED:20250304T152500Z
LAST-MODIFIED:20250304T152500Z
UID:75456-1741514400-1741546800@odessaarts.org
SUMMARY:Inflatable Wonderland - Spring Break Bounce Bash & Pop Up Event
DESCRIPTION:**Inflatable Wonderland Spring Break 2025**\nSpring Break just got a whole lot more fun for West Odessa! Imagine the kids running through a giant obstacle course while the adults relax and enjoy the fun atmosphere with some shopping and adult beverages. Bring the whole family for 2 weekends full of bouncing\, laughing\, playing and shopping at Inflatable Wonderland!\n** 𝐖𝐡𝐞𝐧:** March 8th-9th and March 15th-16th** 𝗧𝗶𝗺𝗲:** 10:00 AM – 7:00 PM** 𝐖𝐡𝐞𝐫𝐞:** The Scene ** 𝗔𝗱𝗺𝗶𝘀𝘀𝗶𝗼𝗻:**– Children 3+: ** $36 for 3 hours – $10 each additional hour\n𝐆𝐞𝐭 𝐫𝐞𝐚𝐝𝐲 𝐟𝐨𝐫: 30+ Bounce houses & inflatables for all ages! Fun activities for the whole family! Kid friendly vendors – toys\, games\, face painting etc.Character costumes walking around taking pictures  Mechanical bull rides Basketball – Connect 4 challenges (prize winners) Live DJ performance Photobooth 360 Food Truck & Food Vendors\nParents and event organizers\, seize this perfect opportunity to rent our top-quality bounce houses\, thrilling water slides\, and challenging obstacle courses. Whether you’re planning a community event\, a family reunion\, or simply want to give the kids a memorable day/weekend of fun and sun\, we have everything you need.\nOur equipment is clean\, safe\, and ready for action. We ensure prompt delivery and setup so that you can focus on enjoying the festivities. Let’s make your next event one for the books – with laughter echoing from the bouncing corners and splashing sounds creating ripples of joy.\nIf you’re interested in being a vendor\, setting up a booth or donating your services (face painting\, bounce house\, balloon animals\, carnival style games or other kid friendly booth) please contact Sergio at 830-313-3478\n𝑫𝒐𝒏’𝒕 𝒎𝒊𝒔𝒔 𝒐𝒖𝒕—𝒎𝒂𝒓𝒌 𝒚𝒐𝒖𝒓 𝒄𝒂𝒍𝒆𝒏𝒅𝒂𝒓𝒔 𝒂𝒏𝒅 𝒍𝒆𝒕’𝒔 𝒎𝒂𝒌𝒆 𝒕𝒉𝒊𝒔 𝑺𝒑𝒓𝒊𝒏𝒈 𝑩𝒓𝒆𝒂𝒌 𝒖𝒏𝒇𝒐𝒓𝒈𝒆𝒕𝒕𝒂𝒃𝒍𝒆! \nEvent brought to you by La Pop up Pulga de West Odessa\, Play Station Party Rentals and Epic Party and Bounce Rentals!
URL:https://odessaarts.org/event/inflatable-wonderland-spring-break-bounce-bash-pop-up-event/2025-03-09/
LOCATION:The Scene\, 2997 N Torrance Ave\, Odessa\, TX\, 79764\, United States
CATEGORIES:Humanities
END:VEVENT
BEGIN:VEVENT
DTSTART;TZID=America/Chicago:20250308T100000
DTEND;TZID=America/Chicago:20250308T190000
DTSTAMP:20260425T065514
CREATED:20250304T152500Z
LAST-MODIFIED:20250304T152500Z
UID:75454-1741428000-1741460400@odessaarts.org
SUMMARY:Inflatable Wonderland - Spring Break Bounce Bash & Pop Up Event
DESCRIPTION:**Inflatable Wonderland Spring Break 2025**\nSpring Break just got a whole lot more fun for West Odessa! Imagine the kids running through a giant obstacle course while the adults relax and enjoy the fun atmosphere with some shopping and adult beverages. Bring the whole family for 2 weekends full of bouncing\, laughing\, playing and shopping at Inflatable Wonderland!\n** 𝐖𝐡𝐞𝐧:** March 8th-9th and March 15th-16th** 𝗧𝗶𝗺𝗲:** 10:00 AM – 7:00 PM** 𝐖𝐡𝐞𝐫𝐞:** The Scene ** 𝗔𝗱𝗺𝗶𝘀𝘀𝗶𝗼𝗻:**– Children 3+: ** $36 for 3 hours – $10 each additional hour\n𝐆𝐞𝐭 𝐫𝐞𝐚𝐝𝐲 𝐟𝐨𝐫: 30+ Bounce houses & inflatables for all ages! Fun activities for the whole family! Kid friendly vendors – toys\, games\, face painting etc.Character costumes walking around taking pictures  Mechanical bull rides Basketball – Connect 4 challenges (prize winners) Live DJ performance Photobooth 360 Food Truck & Food Vendors\nParents and event organizers\, seize this perfect opportunity to rent our top-quality bounce houses\, thrilling water slides\, and challenging obstacle courses. Whether you’re planning a community event\, a family reunion\, or simply want to give the kids a memorable day/weekend of fun and sun\, we have everything you need.\nOur equipment is clean\, safe\, and ready for action. We ensure prompt delivery and setup so that you can focus on enjoying the festivities. Let’s make your next event one for the books – with laughter echoing from the bouncing corners and splashing sounds creating ripples of joy.\nIf you’re interested in being a vendor\, setting up a booth or donating your services (face painting\, bounce house\, balloon animals\, carnival style games or other kid friendly booth) please contact Sergio at 830-313-3478\n𝑫𝒐𝒏’𝒕 𝒎𝒊𝒔𝒔 𝒐𝒖𝒕—𝒎𝒂𝒓𝒌 𝒚𝒐𝒖𝒓 𝒄𝒂𝒍𝒆𝒏𝒅𝒂𝒓𝒔 𝒂𝒏𝒅 𝒍𝒆𝒕’𝒔 𝒎𝒂𝒌𝒆 𝒕𝒉𝒊𝒔 𝑺𝒑𝒓𝒊𝒏𝒈 𝑩𝒓𝒆𝒂𝒌 𝒖𝒏𝒇𝒐𝒓𝒈𝒆𝒕𝒕𝒂𝒃𝒍𝒆! \nEvent brought to you by La Pop up Pulga de West Odessa\, Play Station Party Rentals and Epic Party and Bounce Rentals!
URL:https://odessaarts.org/event/inflatable-wonderland-spring-break-bounce-bash-pop-up-event/2025-03-08/
LOCATION:The Scene\, 2997 N Torrance Ave\, Odessa\, TX\, 79764\, United States
CATEGORIES:Humanities
END:VEVENT
END:VCALENDAR