BEGIN:VCALENDAR
VERSION:2.0
PRODID:-//Odessa Arts - ECPv6.15.20//NONSGML v1.0//EN
CALSCALE:GREGORIAN
METHOD:PUBLISH
X-ORIGINAL-URL:https://odessaarts.org
X-WR-CALDESC:Events for Odessa Arts
REFRESH-INTERVAL;VALUE=DURATION:PT1H
X-Robots-Tag:noindex
X-PUBLISHED-TTL:PT1H
BEGIN:VTIMEZONE
TZID:America/Chicago
BEGIN:DAYLIGHT
TZOFFSETFROM:-0600
TZOFFSETTO:-0500
TZNAME:CDT
DTSTART:20230312T080000
END:DAYLIGHT
BEGIN:STANDARD
TZOFFSETFROM:-0500
TZOFFSETTO:-0600
TZNAME:CST
DTSTART:20231105T070000
END:STANDARD
BEGIN:DAYLIGHT
TZOFFSETFROM:-0600
TZOFFSETTO:-0500
TZNAME:CDT
DTSTART:20240310T080000
END:DAYLIGHT
BEGIN:STANDARD
TZOFFSETFROM:-0500
TZOFFSETTO:-0600
TZNAME:CST
DTSTART:20241103T070000
END:STANDARD
BEGIN:DAYLIGHT
TZOFFSETFROM:-0600
TZOFFSETTO:-0500
TZNAME:CDT
DTSTART:20250309T080000
END:DAYLIGHT
BEGIN:STANDARD
TZOFFSETFROM:-0500
TZOFFSETTO:-0600
TZNAME:CST
DTSTART:20251102T070000
END:STANDARD
END:VTIMEZONE
BEGIN:VEVENT
DTSTART;TZID=America/Chicago:20240713T150000
DTEND;TZID=America/Chicago:20240713T150000
DTSTAMP:20260425T090215
CREATED:20240424T145321Z
LAST-MODIFIED:20240424T145321Z
UID:73150-1720882800-1720882800@odessaarts.org
SUMMARY:Jeff Dunham:  Still Not Canceled
DESCRIPTION:One of the Top Touring Artists of the Pollstar Era\, Jeff Dunham\, has consistently delivered laughs and shattered ratings with his broadcast specials\, global tours\, and a best-selling autobiography. His successes have been commemorated with a star on the Hollywood Walk of Fame as well as the Guinness Book of World Records for “Most tickets sold for a stand-up comedy tour\,” cementing the ventriloquist as a comedy icon. \n 
URL:https://odessaarts.org/event/jeff-dunham-still-not-canceled/2024-07-13/
LOCATION:Wagner Noël Performing Arts Center\, 1310 FM 1788\, Midland\, Texas
CATEGORIES:Theatre & Literary Arts
END:VEVENT
BEGIN:VEVENT
DTSTART;TZID=America/Chicago:20240712T190000
DTEND;TZID=America/Chicago:20240712T190000
DTSTAMP:20260425T090215
CREATED:20240424T145321Z
LAST-MODIFIED:20240424T145321Z
UID:73149-1720810800-1720810800@odessaarts.org
SUMMARY:Jeff Dunham:  Still Not Canceled
DESCRIPTION:One of the Top Touring Artists of the Pollstar Era\, Jeff Dunham\, has consistently delivered laughs and shattered ratings with his broadcast specials\, global tours\, and a best-selling autobiography. His successes have been commemorated with a star on the Hollywood Walk of Fame as well as the Guinness Book of World Records for “Most tickets sold for a stand-up comedy tour\,” cementing the ventriloquist as a comedy icon. \n 
URL:https://odessaarts.org/event/jeff-dunham-still-not-canceled/2024-07-12/
LOCATION:Wagner Noël Performing Arts Center\, 1310 FM 1788\, Midland\, Texas
CATEGORIES:Theatre & Literary Arts
END:VEVENT
END:VCALENDAR