BEGIN:VCALENDAR
VERSION:2.0
PRODID:-//Odessa Arts - ECPv6.15.20//NONSGML v1.0//EN
CALSCALE:GREGORIAN
METHOD:PUBLISH
X-WR-CALNAME:Odessa Arts
X-ORIGINAL-URL:https://odessaarts.org
X-WR-CALDESC:Events for Odessa Arts
REFRESH-INTERVAL;VALUE=DURATION:PT1H
X-Robots-Tag:noindex
X-PUBLISHED-TTL:PT1H
BEGIN:VTIMEZONE
TZID:America/Chicago
BEGIN:DAYLIGHT
TZOFFSETFROM:-0600
TZOFFSETTO:-0500
TZNAME:CDT
DTSTART:20240310T080000
END:DAYLIGHT
BEGIN:STANDARD
TZOFFSETFROM:-0500
TZOFFSETTO:-0600
TZNAME:CST
DTSTART:20241103T070000
END:STANDARD
BEGIN:DAYLIGHT
TZOFFSETFROM:-0600
TZOFFSETTO:-0500
TZNAME:CDT
DTSTART:20250309T080000
END:DAYLIGHT
BEGIN:STANDARD
TZOFFSETFROM:-0500
TZOFFSETTO:-0600
TZNAME:CST
DTSTART:20251102T070000
END:STANDARD
BEGIN:DAYLIGHT
TZOFFSETFROM:-0600
TZOFFSETTO:-0500
TZNAME:CDT
DTSTART:20260308T080000
END:DAYLIGHT
BEGIN:STANDARD
TZOFFSETFROM:-0500
TZOFFSETTO:-0600
TZNAME:CST
DTSTART:20261101T070000
END:STANDARD
END:VTIMEZONE
BEGIN:VEVENT
DTSTART;TZID=America/Chicago:20250626T113000
DTEND;TZID=America/Chicago:20250626T120000
DTSTAMP:20260424T224953
CREATED:20250421T183312Z
LAST-MODIFIED:20250421T183312Z
UID:76019-1750937400-1750939200@odessaarts.org
SUMMARY:Object of the Month: Pyramid
DESCRIPTION:Object of the Month \nFree for Members | Included with general admission for the general public \nReserve your spot at the Visitor Services desk.  \nJoin Museum Docents for an in-depth exploration of a single work of art. These 30-minute\, interactive gallery talks spark connections and conversation about the featured object’s history\, meaning\, and relationship to other works in the collection. \nPyramid\, Keith Haring \nThe Collection: Keith Haring highlights the dynamic relationship between Haring and the Museum during the vibrant 1980s. Join Docent Dave Obuck as he explores Pyramid\, a work in which each side is dedicated to the elements-earth\, sea\, air\, and outer space. Haring’s signature style\, with its bold\, simplified forms\, transcends race\, gender\, creed\, and sexuality\, making his work universally resonant.
URL:https://odessaarts.org/event/object-of-the-month-pyramid/2025-06-26/
LOCATION:Phoenix Art Museum\, 1625 North Central Ave.\, Phoenix\, AZ\, 85004\, United States
CATEGORIES:Museum,Visual Arts
END:VEVENT
BEGIN:VEVENT
DTSTART;TZID=America/Chicago:20250619T113000
DTEND;TZID=America/Chicago:20250619T120000
DTSTAMP:20260424T224953
CREATED:20250421T183312Z
LAST-MODIFIED:20250421T183312Z
UID:76018-1750332600-1750334400@odessaarts.org
SUMMARY:Object of the Month: Pyramid
DESCRIPTION:Object of the Month \nFree for Members | Included with general admission for the general public \nReserve your spot at the Visitor Services desk.  \nJoin Museum Docents for an in-depth exploration of a single work of art. These 30-minute\, interactive gallery talks spark connections and conversation about the featured object’s history\, meaning\, and relationship to other works in the collection. \nPyramid\, Keith Haring \nThe Collection: Keith Haring highlights the dynamic relationship between Haring and the Museum during the vibrant 1980s. Join Docent Dave Obuck as he explores Pyramid\, a work in which each side is dedicated to the elements-earth\, sea\, air\, and outer space. Haring’s signature style\, with its bold\, simplified forms\, transcends race\, gender\, creed\, and sexuality\, making his work universally resonant.
URL:https://odessaarts.org/event/object-of-the-month-pyramid/2025-06-19/
LOCATION:Phoenix Art Museum\, 1625 North Central Ave.\, Phoenix\, AZ\, 85004\, United States
CATEGORIES:Museum,Visual Arts
END:VEVENT
BEGIN:VEVENT
DTSTART;TZID=America/Chicago:20250607T113000
DTEND;TZID=America/Chicago:20250607T120000
DTSTAMP:20260424T224953
CREATED:20250421T183312Z
LAST-MODIFIED:20250421T183312Z
UID:76017-1749295800-1749297600@odessaarts.org
SUMMARY:Object of the Month: Pyramid
DESCRIPTION:Object of the Month \nFree for Members | Included with general admission for the general public \nReserve your spot at the Visitor Services desk.  \nJoin Museum Docents for an in-depth exploration of a single work of art. These 30-minute\, interactive gallery talks spark connections and conversation about the featured object’s history\, meaning\, and relationship to other works in the collection. \nPyramid\, Keith Haring \nThe Collection: Keith Haring highlights the dynamic relationship between Haring and the Museum during the vibrant 1980s. Join Docent Dave Obuck as he explores Pyramid\, a work in which each side is dedicated to the elements-earth\, sea\, air\, and outer space. Haring’s signature style\, with its bold\, simplified forms\, transcends race\, gender\, creed\, and sexuality\, making his work universally resonant.
URL:https://odessaarts.org/event/object-of-the-month-pyramid/2025-06-07/
LOCATION:Phoenix Art Museum\, 1625 North Central Ave.\, Phoenix\, AZ\, 85004\, United States
CATEGORIES:Museum,Visual Arts
END:VEVENT
BEGIN:VEVENT
DTSTART;TZID=America/Chicago:20250605T113000
DTEND;TZID=America/Chicago:20250605T120000
DTSTAMP:20260424T224953
CREATED:20250421T183312Z
LAST-MODIFIED:20250421T183312Z
UID:76016-1749123000-1749124800@odessaarts.org
SUMMARY:Object of the Month: Pyramid
DESCRIPTION:Object of the Month \nFree for Members | Included with general admission for the general public \nReserve your spot at the Visitor Services desk.  \nJoin Museum Docents for an in-depth exploration of a single work of art. These 30-minute\, interactive gallery talks spark connections and conversation about the featured object’s history\, meaning\, and relationship to other works in the collection. \nPyramid\, Keith Haring \nThe Collection: Keith Haring highlights the dynamic relationship between Haring and the Museum during the vibrant 1980s. Join Docent Dave Obuck as he explores Pyramid\, a work in which each side is dedicated to the elements-earth\, sea\, air\, and outer space. Haring’s signature style\, with its bold\, simplified forms\, transcends race\, gender\, creed\, and sexuality\, making his work universally resonant.
URL:https://odessaarts.org/event/object-of-the-month-pyramid/2025-06-05/
LOCATION:Phoenix Art Museum\, 1625 North Central Ave.\, Phoenix\, AZ\, 85004\, United States
CATEGORIES:Museum,Visual Arts
END:VEVENT
END:VCALENDAR