BEGIN:VCALENDAR
VERSION:2.0
PRODID:-//Odessa Arts - ECPv6.15.20//NONSGML v1.0//EN
CALSCALE:GREGORIAN
METHOD:PUBLISH
X-WR-CALNAME:Odessa Arts
X-ORIGINAL-URL:https://odessaarts.org
X-WR-CALDESC:Events for Odessa Arts
REFRESH-INTERVAL;VALUE=DURATION:PT1H
X-Robots-Tag:noindex
X-PUBLISHED-TTL:PT1H
BEGIN:VTIMEZONE
TZID:America/Chicago
BEGIN:DAYLIGHT
TZOFFSETFROM:-0600
TZOFFSETTO:-0500
TZNAME:CDT
DTSTART:20230312T080000
END:DAYLIGHT
BEGIN:STANDARD
TZOFFSETFROM:-0500
TZOFFSETTO:-0600
TZNAME:CST
DTSTART:20231105T070000
END:STANDARD
BEGIN:DAYLIGHT
TZOFFSETFROM:-0600
TZOFFSETTO:-0500
TZNAME:CDT
DTSTART:20240310T080000
END:DAYLIGHT
BEGIN:STANDARD
TZOFFSETFROM:-0500
TZOFFSETTO:-0600
TZNAME:CST
DTSTART:20241103T070000
END:STANDARD
BEGIN:DAYLIGHT
TZOFFSETFROM:-0600
TZOFFSETTO:-0500
TZNAME:CDT
DTSTART:20250309T080000
END:DAYLIGHT
BEGIN:STANDARD
TZOFFSETFROM:-0500
TZOFFSETTO:-0600
TZNAME:CST
DTSTART:20251102T070000
END:STANDARD
END:VTIMEZONE
BEGIN:VEVENT
DTSTART;TZID=America/Chicago:20241106T180000
DTEND;TZID=America/Chicago:20241106T180000
DTSTAMP:20260424T034408
CREATED:20240815T215801Z
LAST-MODIFIED:20240815T215801Z
UID:73761-1730916000-1730916000@odessaarts.org
SUMMARY:Paw Patrol Live! A Mighty Adventure
DESCRIPTION:Join the PAW Patrol pups as they unleash their mighty superpowers in the all-new live show\, PAW Patrol Live! “A Mighty Adventure” coming to MIDLAND/ODESSA! \nAfter Chase\, Marshall\, Skye and the gang save Adventure City with their Mighty Pup Powers\, it’s time for the paw-some-est street party ever. But when Supervillain Scientist Victoria Vance feels left out of the festivities\, she unleashes her latest invention to crash the party and steal the spotlight for herself! Can the Mighty Pups\, armed with their super-charged powers\, outsmart Victoria to ensure Adventure City’s biggest bash goes off without a hitch? It’ll take the power of pup-spiration and mighty teamwork to foil her plans and keep the party pumping!
URL:https://odessaarts.org/event/paw-patrol-live-a-mighty-adventure/2024-11-06/
LOCATION:Wagner Noël Performing Arts Center\, 1310 FM 1788\, Midland\, Texas
CATEGORIES:Theatre & Literary Arts
END:VEVENT
BEGIN:VEVENT
DTSTART;TZID=America/Chicago:20241105T180000
DTEND;TZID=America/Chicago:20241105T180000
DTSTAMP:20260424T034408
CREATED:20240815T215801Z
LAST-MODIFIED:20240815T215801Z
UID:73760-1730829600-1730829600@odessaarts.org
SUMMARY:Paw Patrol Live! A Mighty Adventure
DESCRIPTION:Join the PAW Patrol pups as they unleash their mighty superpowers in the all-new live show\, PAW Patrol Live! “A Mighty Adventure” coming to MIDLAND/ODESSA! \nAfter Chase\, Marshall\, Skye and the gang save Adventure City with their Mighty Pup Powers\, it’s time for the paw-some-est street party ever. But when Supervillain Scientist Victoria Vance feels left out of the festivities\, she unleashes her latest invention to crash the party and steal the spotlight for herself! Can the Mighty Pups\, armed with their super-charged powers\, outsmart Victoria to ensure Adventure City’s biggest bash goes off without a hitch? It’ll take the power of pup-spiration and mighty teamwork to foil her plans and keep the party pumping!
URL:https://odessaarts.org/event/paw-patrol-live-a-mighty-adventure/2024-11-05/
LOCATION:Wagner Noël Performing Arts Center\, 1310 FM 1788\, Midland\, Texas
CATEGORIES:Theatre & Literary Arts
END:VEVENT
END:VCALENDAR