BEGIN:VCALENDAR
VERSION:2.0
PRODID:-//Odessa Arts - ECPv6.15.20//NONSGML v1.0//EN
CALSCALE:GREGORIAN
METHOD:PUBLISH
X-ORIGINAL-URL:https://odessaarts.org
X-WR-CALDESC:Events for Odessa Arts
REFRESH-INTERVAL;VALUE=DURATION:PT1H
X-Robots-Tag:noindex
X-PUBLISHED-TTL:PT1H
BEGIN:VTIMEZONE
TZID:America/Chicago
BEGIN:DAYLIGHT
TZOFFSETFROM:-0600
TZOFFSETTO:-0500
TZNAME:CDT
DTSTART:20250309T080000
END:DAYLIGHT
BEGIN:STANDARD
TZOFFSETFROM:-0500
TZOFFSETTO:-0600
TZNAME:CST
DTSTART:20251102T070000
END:STANDARD
BEGIN:DAYLIGHT
TZOFFSETFROM:-0600
TZOFFSETTO:-0500
TZNAME:CDT
DTSTART:20260308T080000
END:DAYLIGHT
BEGIN:STANDARD
TZOFFSETFROM:-0500
TZOFFSETTO:-0600
TZNAME:CST
DTSTART:20261101T070000
END:STANDARD
BEGIN:DAYLIGHT
TZOFFSETFROM:-0600
TZOFFSETTO:-0500
TZNAME:CDT
DTSTART:20270314T080000
END:DAYLIGHT
BEGIN:STANDARD
TZOFFSETFROM:-0500
TZOFFSETTO:-0600
TZNAME:CST
DTSTART:20271107T070000
END:STANDARD
END:VTIMEZONE
BEGIN:VEVENT
DTSTART;TZID=America/Chicago:20260425T180000
DTEND;TZID=America/Chicago:20260425T180000
DTSTAMP:20260424T002921
CREATED:20260423T171621Z
LAST-MODIFIED:20260423T171621Z
UID:78577-1777140000-1777140000@odessaarts.org
SUMMARY:Rock & Roll - Odessa College
DESCRIPTION:A classic story like you’ve never seen it before. \n\n\nJoin us this spring at The Globe Theatre at Odessa College for A Soldier’s Tale (2026)—a bold reimagining of Igor Stravinsky’s timeless tale as a high-energy rock concert experience.\n\n\nWith live music\, video artistry\, movement\, and inventive storytelling\, this electrifying production follows a soldier who sells his soul to the devil and fights to find his way back.\n\n\n Performances are at 6 PM\n\n\n Free Previews for OC employees\, staff & students\n• Thursday\, April 23\n• Friday\, April 24\n\n\n Opening Night – Saturday\, April 25\n Closing Night – Sunday\, April 26\n\n\n General Admission: $10\n Discounted VIP Tickets: $5 for OC employees/students\, ages 18 & under\, military\, healthcare workers\, educators\, firefighters\, and police officers.\n\n\n Reserve tickets now: https://events.com/…/a-soldiers-tale-2026-odessa-april…\n\n\nDon’t miss this one-of-a-kind fusion of theatre and rock. \n\n 
URL:https://odessaarts.org/event/rock-roll-odessa-college/2026-04-25/
LOCATION:The Globe of the Great Southwest\, 2308 Shakespeare Road\, Odessa\, TX\, 79761\, United States
CATEGORIES:Performing Arts
END:VEVENT
BEGIN:VEVENT
DTSTART;TZID=America/Chicago:20260426T180000
DTEND;TZID=America/Chicago:20260426T180000
DTSTAMP:20260424T002921
CREATED:20260423T171621Z
LAST-MODIFIED:20260423T171621Z
UID:78578-1777226400-1777226400@odessaarts.org
SUMMARY:Rock & Roll - Odessa College
DESCRIPTION:A classic story like you’ve never seen it before. \n\n\nJoin us this spring at The Globe Theatre at Odessa College for A Soldier’s Tale (2026)—a bold reimagining of Igor Stravinsky’s timeless tale as a high-energy rock concert experience.\n\n\nWith live music\, video artistry\, movement\, and inventive storytelling\, this electrifying production follows a soldier who sells his soul to the devil and fights to find his way back.\n\n\n Performances are at 6 PM\n\n\n Free Previews for OC employees\, staff & students\n• Thursday\, April 23\n• Friday\, April 24\n\n\n Opening Night – Saturday\, April 25\n Closing Night – Sunday\, April 26\n\n\n General Admission: $10\n Discounted VIP Tickets: $5 for OC employees/students\, ages 18 & under\, military\, healthcare workers\, educators\, firefighters\, and police officers.\n\n\n Reserve tickets now: https://events.com/…/a-soldiers-tale-2026-odessa-april…\n\n\nDon’t miss this one-of-a-kind fusion of theatre and rock. \n\n 
URL:https://odessaarts.org/event/rock-roll-odessa-college/2026-04-26/
LOCATION:The Globe of the Great Southwest\, 2308 Shakespeare Road\, Odessa\, TX\, 79761\, United States
CATEGORIES:Performing Arts
END:VEVENT
END:VCALENDAR