BEGIN:VCALENDAR
VERSION:2.0
PRODID:-//Odessa Arts - ECPv6.15.20//NONSGML v1.0//EN
CALSCALE:GREGORIAN
METHOD:PUBLISH
X-ORIGINAL-URL:https://odessaarts.org
X-WR-CALDESC:Events for Odessa Arts
REFRESH-INTERVAL;VALUE=DURATION:PT1H
X-Robots-Tag:noindex
X-PUBLISHED-TTL:PT1H
BEGIN:VTIMEZONE
TZID:America/Chicago
BEGIN:DAYLIGHT
TZOFFSETFROM:-0600
TZOFFSETTO:-0500
TZNAME:CDT
DTSTART:20220313T080000
END:DAYLIGHT
BEGIN:STANDARD
TZOFFSETFROM:-0500
TZOFFSETTO:-0600
TZNAME:CST
DTSTART:20221106T070000
END:STANDARD
BEGIN:DAYLIGHT
TZOFFSETFROM:-0600
TZOFFSETTO:-0500
TZNAME:CDT
DTSTART:20230312T080000
END:DAYLIGHT
BEGIN:STANDARD
TZOFFSETFROM:-0500
TZOFFSETTO:-0600
TZNAME:CST
DTSTART:20231105T070000
END:STANDARD
BEGIN:DAYLIGHT
TZOFFSETFROM:-0600
TZOFFSETTO:-0500
TZNAME:CDT
DTSTART:20240310T080000
END:DAYLIGHT
BEGIN:STANDARD
TZOFFSETFROM:-0500
TZOFFSETTO:-0600
TZNAME:CST
DTSTART:20241103T070000
END:STANDARD
END:VTIMEZONE
BEGIN:VEVENT
DTSTART;TZID=America/Chicago:20231208T193000
DTEND;TZID=America/Chicago:20231208T193000
DTSTAMP:20260425T140612
CREATED:20231115T184722Z
LAST-MODIFIED:20231115T184722Z
UID:71754-1702063800-1702063800@odessaarts.org
SUMMARY:The Best Christmas Pageant Ever
DESCRIPTION:We are so excited to bring you The Best Christmas Pageant Ever this holiday season! \nIn this hilarious Christmas classic\, a couple struggling to put on a church Christmas pageant is faced with casting the Herdman kids – probably the most inventively awful kids in history. You won’t believe the mayhem – and the fun – when the Herdmans collide head-on with the story of Christmas! \n        Tickets      
URL:https://odessaarts.org/event/the-best-christmas-pageant-ever/2023-12-08/
LOCATION:Basin Theatre Works\, 310 W. 42nd Street\, Odessa\, TX\, 79764\, United States
CATEGORIES:Theatre & Literary Arts
END:VEVENT
END:VCALENDAR