BEGIN:VCALENDAR
VERSION:2.0
PRODID:-//Odessa Arts - ECPv6.15.20//NONSGML v1.0//EN
CALSCALE:GREGORIAN
METHOD:PUBLISH
X-WR-CALNAME:Odessa Arts
X-ORIGINAL-URL:https://odessaarts.org
X-WR-CALDESC:Events for Odessa Arts
REFRESH-INTERVAL;VALUE=DURATION:PT1H
X-Robots-Tag:noindex
X-PUBLISHED-TTL:PT1H
BEGIN:VTIMEZONE
TZID:America/Chicago
BEGIN:DAYLIGHT
TZOFFSETFROM:-0600
TZOFFSETTO:-0500
TZNAME:CDT
DTSTART:20250309T080000
END:DAYLIGHT
BEGIN:STANDARD
TZOFFSETFROM:-0500
TZOFFSETTO:-0600
TZNAME:CST
DTSTART:20251102T070000
END:STANDARD
BEGIN:DAYLIGHT
TZOFFSETFROM:-0600
TZOFFSETTO:-0500
TZNAME:CDT
DTSTART:20260308T080000
END:DAYLIGHT
BEGIN:STANDARD
TZOFFSETFROM:-0500
TZOFFSETTO:-0600
TZNAME:CST
DTSTART:20261101T070000
END:STANDARD
BEGIN:DAYLIGHT
TZOFFSETFROM:-0600
TZOFFSETTO:-0500
TZNAME:CDT
DTSTART:20270314T080000
END:DAYLIGHT
BEGIN:STANDARD
TZOFFSETFROM:-0500
TZOFFSETTO:-0600
TZNAME:CST
DTSTART:20271107T070000
END:STANDARD
END:VTIMEZONE
BEGIN:VEVENT
DTSTART;TZID=America/Chicago:20260214T190000
DTEND;TZID=America/Chicago:20260214T190000
DTSTAMP:20260424T185949
CREATED:20260202T224630Z
LAST-MODIFIED:20260202T224630Z
UID:77777-1771095600-1771095600@odessaarts.org
SUMMARY:Tomas and the Library Lady
DESCRIPTION:oin us for Tomás and the Library Lady at Blackshear Elementary! Performances are on February 6 & 7 and February 13 & 14 at 7 PM. Don’t miss seeing this heartwarming story come to life on stage!\nTickets Here: https://buy.ticketstothecity.com/purchase.php?event_id=18908
URL:https://odessaarts.org/event/tomas-and-the-library-lady/2026-02-14/
LOCATION:Blackshear Elementary\, 501 S. Dixie Blvd.\, Odessa\, TX\, 79761\, United States
CATEGORIES:Theatre & Literary Arts
END:VEVENT
BEGIN:VEVENT
DTSTART;TZID=America/Chicago:20260213T190000
DTEND;TZID=America/Chicago:20260213T190000
DTSTAMP:20260424T185949
CREATED:20260202T224630Z
LAST-MODIFIED:20260202T224630Z
UID:77776-1771009200-1771009200@odessaarts.org
SUMMARY:Tomas and the Library Lady
DESCRIPTION:oin us for Tomás and the Library Lady at Blackshear Elementary! Performances are on February 6 & 7 and February 13 & 14 at 7 PM. Don’t miss seeing this heartwarming story come to life on stage!\nTickets Here: https://buy.ticketstothecity.com/purchase.php?event_id=18908
URL:https://odessaarts.org/event/tomas-and-the-library-lady/2026-02-13/
LOCATION:Blackshear Elementary\, 501 S. Dixie Blvd.\, Odessa\, TX\, 79761\, United States
CATEGORIES:Theatre & Literary Arts
END:VEVENT
BEGIN:VEVENT
DTSTART;TZID=America/Chicago:20260207T190000
DTEND;TZID=America/Chicago:20260207T190000
DTSTAMP:20260424T185949
CREATED:20260202T224630Z
LAST-MODIFIED:20260202T224630Z
UID:77775-1770490800-1770490800@odessaarts.org
SUMMARY:Tomas and the Library Lady
DESCRIPTION:oin us for Tomás and the Library Lady at Blackshear Elementary! Performances are on February 6 & 7 and February 13 & 14 at 7 PM. Don’t miss seeing this heartwarming story come to life on stage!\nTickets Here: https://buy.ticketstothecity.com/purchase.php?event_id=18908
URL:https://odessaarts.org/event/tomas-and-the-library-lady/2026-02-07/
LOCATION:Blackshear Elementary\, 501 S. Dixie Blvd.\, Odessa\, TX\, 79761\, United States
CATEGORIES:Theatre & Literary Arts
END:VEVENT
BEGIN:VEVENT
DTSTART;TZID=America/Chicago:20260206T190000
DTEND;TZID=America/Chicago:20260206T190000
DTSTAMP:20260424T185949
CREATED:20260202T224630Z
LAST-MODIFIED:20260202T224630Z
UID:77773-1770404400-1770404400@odessaarts.org
SUMMARY:Tomas and the Library Lady
DESCRIPTION:oin us for Tomás and the Library Lady at Blackshear Elementary! Performances are on February 6 & 7 and February 13 & 14 at 7 PM. Don’t miss seeing this heartwarming story come to life on stage!\nTickets Here: https://buy.ticketstothecity.com/purchase.php?event_id=18908
URL:https://odessaarts.org/event/tomas-and-the-library-lady/2026-02-06/
LOCATION:Blackshear Elementary\, 501 S. Dixie Blvd.\, Odessa\, TX\, 79761\, United States
CATEGORIES:Theatre & Literary Arts
END:VEVENT
END:VCALENDAR