BEGIN:VCALENDAR
VERSION:2.0
PRODID:-//Odessa Arts - ECPv6.15.20//NONSGML v1.0//EN
CALSCALE:GREGORIAN
METHOD:PUBLISH
X-WR-CALNAME:Odessa Arts
X-ORIGINAL-URL:https://odessaarts.org
X-WR-CALDESC:Events for Odessa Arts
REFRESH-INTERVAL;VALUE=DURATION:PT1H
X-Robots-Tag:noindex
X-PUBLISHED-TTL:PT1H
BEGIN:VTIMEZONE
TZID:America/Chicago
BEGIN:DAYLIGHT
TZOFFSETFROM:-0600
TZOFFSETTO:-0500
TZNAME:CDT
DTSTART:20250309T080000
END:DAYLIGHT
BEGIN:STANDARD
TZOFFSETFROM:-0500
TZOFFSETTO:-0600
TZNAME:CST
DTSTART:20251102T070000
END:STANDARD
BEGIN:DAYLIGHT
TZOFFSETFROM:-0600
TZOFFSETTO:-0500
TZNAME:CDT
DTSTART:20260308T080000
END:DAYLIGHT
BEGIN:STANDARD
TZOFFSETFROM:-0500
TZOFFSETTO:-0600
TZNAME:CST
DTSTART:20261101T070000
END:STANDARD
BEGIN:DAYLIGHT
TZOFFSETFROM:-0600
TZOFFSETTO:-0500
TZNAME:CDT
DTSTART:20270314T080000
END:DAYLIGHT
BEGIN:STANDARD
TZOFFSETFROM:-0500
TZOFFSETTO:-0600
TZNAME:CST
DTSTART:20271107T070000
END:STANDARD
END:VTIMEZONE
BEGIN:VEVENT
DTSTART;TZID=America/Chicago:20260326T080000
DTEND;TZID=America/Chicago:20260607T170000
DTSTAMP:20260424T015916
CREATED:20260317T164239Z
LAST-MODIFIED:20260317T164239Z
UID:78430-1774512000-1780851600@odessaarts.org
SUMMARY:Midland Arts Association 2026 Spring Juried Exhibition
DESCRIPTION:The Midland Arts Association proudly presents the 2026 Spring Juried Exhibition\, hosted in partnership with the Museum of the Southwest. This annual exhibition celebrates exceptional contemporary artwork by artists from Texas\, New Mexico\, and Arizona. \nExhibition Dates\nMarch 26 – June 7\, 2026 \nOpening Reception & Awards\nThursday\, March 26\, 20265:30 – 7:00 PMOpen to the public \nLocation\nMuseum of the Southwest1705 W. Missouri Ave.Midland\, TX 79701 \nAbout the Exhibition\nSince 1978\, the Midland Arts Association’s Spring Juried Exhibition has been a cornerstone of the region’s arts calendar. Juried by a respected professional in the field\, the exhibition highlights a wide range of media and artistic perspectives\, offering visitors a unique opportunity to experience outstanding regional talent in a museum setting. \nJuror\nLaura Romer HuckabyCurator of Collections & ExhibitionsSan Angelo Museum of Fine Arts \nAwards\nThe exhibition features $2\,500 in cash awards\, including Best of Show\, recognizing artistic excellence across multiple disciplines. \nPlan Your Visit\nThe exhibition is on view during regular museum hours from March 26 through June 7\, 2026. Admission policies follow those of the Museum of the Southwest.
URL:https://odessaarts.org/event/midland-arts-association-2026-spring-juried-exhibition/
LOCATION:Museum of the Southwest\, 1705 W. Missouri Ave\, Midland\, 79701\, United States
CATEGORIES:Museum,Visual Arts
END:VEVENT
BEGIN:VEVENT
DTSTART;TZID=America/Chicago:20260326T100000
DTEND;TZID=America/Chicago:20260430T110000
DTSTAMP:20260424T015916
CREATED:20260219T150926Z
LAST-MODIFIED:20260219T150926Z
UID:78048-1774519200-1777546800@odessaarts.org
SUMMARY:Books and Babies
DESCRIPTION:March 26 @ 10:00 am – April 30 @ 11:00 am\n\n\n\n\nBundle up your little tikes amd bring them to Books and Babies where we read a couple of books\, sing songs\, and get to play in the baby play room.\n\n\nAbriga bien a tus pequeños y tráelos a Books and Babies\, donde leeremos un par de libros\, cantaremos canciones y podrán jugar en la sala de juegos para bebés.
URL:https://odessaarts.org/event/books-and-babies-10/
LOCATION:Ector County Library
CATEGORIES:Theatre & Literary Arts
END:VEVENT
BEGIN:VEVENT
DTSTART;TZID=America/Chicago:20260402T100000
DTEND;TZID=America/Chicago:20260531T170000
DTSTAMP:20260424T015916
CREATED:20260227T171235Z
LAST-MODIFIED:20260227T171235Z
UID:78137-1775124000-1780246800@odessaarts.org
SUMMARY:Shifting Subjects: Heroes of the West: Exhibition Opening
DESCRIPTION:The first hero was nature herself; sweeping landscapes awed early audiences and are still prominent in modern pieces. Then\, the people took their turn. Though early depictions of cowboys and Native Americans were often flawed in interpretation and depiction\, it is the heroic moments of perseverance within a harsh landscape that made them worthy of immortalization through art. Finally\, wildlife stole the focus. \nThe simple yet powerful balance animals create in nature harmonized the disruptiveness of people and the emptiness of a landscape. Each of these subjects has created visual lessons on what the West is\, was\, and how it has changed today. \nAdmission to the Museum and it’s exhibitions is always free. Shifting Subjects: Heroes of the West is on view April 2 through May 31.
URL:https://odessaarts.org/event/shifting-subjects-heroes-of-the-west-exhibition-opening/
LOCATION:Ellen Noel Art Museum\, 4909 E. University\, Odessa\, TX\, 79762\, United States
CATEGORIES:Museum,Visual Arts
END:VEVENT
BEGIN:VEVENT
DTSTART;TZID=America/Chicago:20260402T100000
DTEND;TZID=America/Chicago:20260726T170000
DTSTAMP:20260424T015916
CREATED:20260227T171617Z
LAST-MODIFIED:20260227T171617Z
UID:78139-1775124000-1785085200@odessaarts.org
SUMMARY:Home\, Love\, and Loss: Exhibition Opening
DESCRIPTION:This exhibition is the third in a series of American art exhibitions created through a multiyear\, multi-institutional partnership formed by the Amon Carter Museum of American Art as part of the Art Bridges Cohort Program. Bringing together more than 66 works from the collection of Art Bridges\, the Amarillo Museum of Art\, Art Museum of South Texas\, Amon Carter Museum of American Art\, and the Ellen Noël Art Museum\, this exhibition features family lifecycles from aging to death. This collection of works\, comprised of paintings\, photographs\, works on paper\, and video\, delves into the milestones and challenges of family and community life—from birth to aging\, and from the bonds of joy to the fractures of loss. The exhibition invites visitors to reflect on how we form families and communities; how those relationships are disrupted by adversity\, such as illness\, poverty\, or immigration; and how they are fortified through love\, celebration\, and resilience.
URL:https://odessaarts.org/event/home-love-and-loss-exhibition-opening/
LOCATION:Ellen Noel Art Museum\, 4909 E. University\, Odessa\, TX\, 79762\, United States
CATEGORIES:Museum,Visual Arts
END:VEVENT
BEGIN:VEVENT
DTSTART;TZID=America/Chicago:20260413T080000
DTEND;TZID=America/Chicago:20260501T170000
DTSTAMP:20260424T015916
CREATED:20260317T174207Z
LAST-MODIFIED:20260317T174207Z
UID:78443-1776067200-1777654800@odessaarts.org
SUMMARY:Odessa College Student Art Show
DESCRIPTION:Are you a student artist? Share your creativity with the campus community by submitting your artwork to the Student Art Show at the Phillips Goff Gallery at Odessa College.\n\n\n Submit up to 3 artworks (high-resolution images\, 4MB max each). Selected pieces will be displayed in the gallery for the duration of the show.\n\n\n Online Entry Deadline: Sunday\, March 29 at 11:59 PM\n\n\n Accepted Works To Gallery : Friday\, April 10 | 10 AM – 12 PM (Sedate Hall)\n\n\n Artwork Pick-Up: Friday\, May 1 | 10 AM – 12 PM\n\n\n Don’t miss this chance to showcase your work and be part of the student exhibition!
URL:https://odessaarts.org/event/odessa-college-student-art-show/
LOCATION:Phillips Goff Gallery at Odessa College\, 201 W University Blvd\, Odessa\, TX\, 79764\, United States
CATEGORIES:Visual Arts
END:VEVENT
BEGIN:VEVENT
DTSTART;TZID=America/Chicago:20260424T073000
DTEND;TZID=America/Chicago:20260424T113000
DTSTAMP:20260424T015916
CREATED:20260305T003108Z
LAST-MODIFIED:20260305T003108Z
UID:78365-1777015800-1777030200@odessaarts.org
SUMMARY:Clay Shoot for Education
DESCRIPTION:
URL:https://odessaarts.org/event/clay-shoot-for-education/
LOCATION:Midland Shotgun Range\, 7400 West County Rd 170\, Midland\, TX\, 79706\, United States
CATEGORIES:Fundraiser
ORGANIZER;CN="Education Partnership of the Permian Basin":MAILTO:SHANNON.TORRES@EDUCATEPB.ORG
END:VEVENT
END:VCALENDAR