BEGIN:VCALENDAR
VERSION:2.0
PRODID:-//Odessa Arts - ECPv6.15.20//NONSGML v1.0//EN
CALSCALE:GREGORIAN
METHOD:PUBLISH
X-WR-CALNAME:Odessa Arts
X-ORIGINAL-URL:https://odessaarts.org
X-WR-CALDESC:Events for Odessa Arts
REFRESH-INTERVAL;VALUE=DURATION:PT1H
X-Robots-Tag:noindex
X-PUBLISHED-TTL:PT1H
BEGIN:VTIMEZONE
TZID:America/Chicago
BEGIN:DAYLIGHT
TZOFFSETFROM:-0600
TZOFFSETTO:-0500
TZNAME:CDT
DTSTART:20250309T080000
END:DAYLIGHT
BEGIN:STANDARD
TZOFFSETFROM:-0500
TZOFFSETTO:-0600
TZNAME:CST
DTSTART:20251102T070000
END:STANDARD
BEGIN:DAYLIGHT
TZOFFSETFROM:-0600
TZOFFSETTO:-0500
TZNAME:CDT
DTSTART:20260308T080000
END:DAYLIGHT
BEGIN:STANDARD
TZOFFSETFROM:-0500
TZOFFSETTO:-0600
TZNAME:CST
DTSTART:20261101T070000
END:STANDARD
BEGIN:DAYLIGHT
TZOFFSETFROM:-0600
TZOFFSETTO:-0500
TZNAME:CDT
DTSTART:20270314T080000
END:DAYLIGHT
BEGIN:STANDARD
TZOFFSETFROM:-0500
TZOFFSETTO:-0600
TZNAME:CST
DTSTART:20271107T070000
END:STANDARD
END:VTIMEZONE
BEGIN:VEVENT
DTSTART;TZID=America/Chicago:20260424T073000
DTEND;TZID=America/Chicago:20260424T113000
DTSTAMP:20260424T145021
CREATED:20260305T003108Z
LAST-MODIFIED:20260305T003108Z
UID:78365-1777015800-1777030200@odessaarts.org
SUMMARY:Clay Shoot for Education
DESCRIPTION:
URL:https://odessaarts.org/event/clay-shoot-for-education/
LOCATION:Midland Shotgun Range\, 7400 West County Rd 170\, Midland\, TX\, 79706\, United States
CATEGORIES:Fundraiser
ORGANIZER;CN="Education Partnership of the Permian Basin":MAILTO:SHANNON.TORRES@EDUCATEPB.ORG
END:VEVENT
BEGIN:VEVENT
DTSTART;TZID=America/Chicago:20260425T080000
DTEND;TZID=America/Chicago:20260425T120000
DTSTAMP:20260424T145021
CREATED:20260423T170603Z
LAST-MODIFIED:20260423T170603Z
UID:78575-1777104000-1777118400@odessaarts.org
SUMMARY:Color Splash Race - Odessa College
DESCRIPTION:  \n\noin Odessa College on Saturday\, April 25th for Color Splash 5K 2026\, benefitting our OC Cares Fund\, which supports our Odessa College students in need of social services and assistance.\n\n\n1st 150 Runners to finish\, gets a custom event medal!\n\n\nRegistration Fee:\n– Includes: One (1) Entry\, Participant Bib\n– $25/Participant\n\n\nLocation:\nSherwood Park | 4819 N. Everglade Ave\, Odessa\, TX 79762\nRun Start Time | 8:00AM\n\n\nPacket Pick Up:\n– From OC Sports Center beginning Friday\, April 24th\, 8AM until 12PM.\n– Event Day at Sherwood Park beginning Saturday\, April 25th at 7:30AM\n\n\nEvent Shirts:\n– Event shirts will be available for purchase while supplies last at the event.\n– $20/Shirt\n\n\nParking | Free street parking located around the event location.\n\n\nDogs/Pets are welcome along run route per owner’s discretion/responsibility.\n\n\nRegistration – A free user account is required for registration\n– University Account: Odessa College students and employees (Use OC Login Info)\n– Local Account: Sports Center Members and Public\n\n\nQuestions? Contact Event Organizer\, Olga Salazar at OSalazar@odessa.edu
URL:https://odessaarts.org/event/color-splash-race-odessa-college/
LOCATION:Odessa College\, 201 W. Univeristy Ave.\, Odessa\, TX\, 79764\, United States
CATEGORIES:Fundraiser
END:VEVENT
BEGIN:VEVENT
DTSTART;VALUE=DATE:20260429
DTEND;VALUE=DATE:20260502
DTSTAMP:20260424T145021
CREATED:20260317T155241Z
LAST-MODIFIED:20260317T155241Z
UID:78422-1777420800-1777679999@odessaarts.org
SUMMARY:13 Annual Bustin' for Badges Clay Shoot Fundraiser for Law Enforcement
DESCRIPTION:Bustin’ for Badges is an annual sporting clays tournament benefiting the Midland and Ector County Sheriff’s Offices\, and the Midland and Odessa Police Departments. \nSince its establishment in 2014\, the tournament has raised over $5 million in gross proceeds for our local law enforcement agencies. Each of the four law enforcement agencies use the funds to purchase new equipment and technology to better serve and protect our community. \nThere are many opportunities to contribute to the event such as sponsor levels\, team entries\, individual entries and in-kind donations. Please contact us if you are interested in sponsoring. \nBustin’ for Badges is a non-profit organization. Your donations are tax deductible to the extent allowed by law. Click here for our 501(c)(3) certification letter. \n\n\n\n\n\n\n\nRegister Now for the 2026 Bustin for Badges Clay Shoot\n\n\nThe 13th Annual Bustin for Badges Clay Shoot will be held Wednesday\, April 29th\, Thursday\, April 30th\, and Friday\, May 1st at Windwalker Farms in Martin County. This event benefits local law enforcement (OPD\, MPD\, ECSO & MCSO) and helps pay for much needed equipment. To register\, please go to www.bustinforbadges.com or call 432-335-3322 with any questions regarding the event.
URL:https://odessaarts.org/event/13-annual-bustin-for-badges-clay-shoot-fundraiser-for-law-enforcement/
LOCATION:Windwalker Farms\, 2551 County Rd C2801\, Stanton\, TX\, 79782\, United States
CATEGORIES:Fundraiser
END:VEVENT
END:VCALENDAR