BEGIN:VCALENDAR
VERSION:2.0
PRODID:-//Odessa Arts - ECPv6.15.20//NONSGML v1.0//EN
CALSCALE:GREGORIAN
METHOD:PUBLISH
X-WR-CALNAME:Odessa Arts
X-ORIGINAL-URL:https://odessaarts.org
X-WR-CALDESC:Events for Odessa Arts
REFRESH-INTERVAL;VALUE=DURATION:PT1H
X-Robots-Tag:noindex
X-PUBLISHED-TTL:PT1H
BEGIN:VTIMEZONE
TZID:America/Chicago
BEGIN:DAYLIGHT
TZOFFSETFROM:-0600
TZOFFSETTO:-0500
TZNAME:CDT
DTSTART:20220313T080000
END:DAYLIGHT
BEGIN:STANDARD
TZOFFSETFROM:-0500
TZOFFSETTO:-0600
TZNAME:CST
DTSTART:20221106T070000
END:STANDARD
BEGIN:DAYLIGHT
TZOFFSETFROM:-0600
TZOFFSETTO:-0500
TZNAME:CDT
DTSTART:20230312T080000
END:DAYLIGHT
BEGIN:STANDARD
TZOFFSETFROM:-0500
TZOFFSETTO:-0600
TZNAME:CST
DTSTART:20231105T070000
END:STANDARD
BEGIN:DAYLIGHT
TZOFFSETFROM:-0600
TZOFFSETTO:-0500
TZNAME:CDT
DTSTART:20240310T080000
END:DAYLIGHT
BEGIN:STANDARD
TZOFFSETFROM:-0500
TZOFFSETTO:-0600
TZNAME:CST
DTSTART:20241103T070000
END:STANDARD
BEGIN:DAYLIGHT
TZOFFSETFROM:-0600
TZOFFSETTO:-0500
TZNAME:CDT
DTSTART:20250309T080000
END:DAYLIGHT
BEGIN:STANDARD
TZOFFSETFROM:-0500
TZOFFSETTO:-0600
TZNAME:CST
DTSTART:20251102T070000
END:STANDARD
END:VTIMEZONE
BEGIN:VEVENT
DTSTART;TZID=America/Chicago:20231207T180000
DTEND;TZID=America/Chicago:20240102T230000
DTSTAMP:20260425T232021
CREATED:20231116T203442Z
LAST-MODIFIED:20231116T203442Z
UID:71791-1701972000-1704236400@odessaarts.org
SUMMARY:Starbright Village
DESCRIPTION:Date / Time: December 7th through January 2\, 2024 – 6 pm to 11 pm (open nightly) \nLocation: McKinney Park\, 625 W Pool Road \nJoin us at McKinney Park (off of Interstate-20 and Highway 385)\, during the month of December as the City of Odessa invite you to Starbright Village (presented by First Basin Credit Union)\, the largest display of lights in the Permian Basin. Over 300\,000 lights and holiday themed displays bring the holiday season to life. Whether you’re walking or driving through\, this event will bring out your holiday spirit as the lights shine bright and the holiday music plays over the radio.
URL:https://odessaarts.org/event/starbright-village/
LOCATION:McKinney Park\, 625 W Pool Road\, Odessa\, TX\, 79763\, United States
CATEGORIES:Music,Visual Arts
END:VEVENT
BEGIN:VEVENT
DTSTART;TZID=America/Chicago:20240104T180000
DTEND;TZID=America/Chicago:20240104T210000
DTSTAMP:20260425T232021
CREATED:20231229T022150Z
LAST-MODIFIED:20231229T022150Z
UID:72114-1704391200-1704402000@odessaarts.org
SUMMARY:Jazz Nights with Flair: Moments Notice
DESCRIPTION:
URL:https://odessaarts.org/event/jazz-nights-with-flair-moments-notice-2/
LOCATION:Flair Taverna\, 2701 JBS Parkway\, Odessa\, Texas
CATEGORIES:Music
ATTACH;FMTTYPE=image/png:https://odessaarts.org/wp-content/uploads/2023/12/Flair-Jan-Moments-Notice-SQ-2.png
END:VEVENT
BEGIN:VEVENT
DTSTART;TZID=America/Chicago:20240105T180000
DTEND;TZID=America/Chicago:20240105T210000
DTSTAMP:20260425T232021
CREATED:20231208T182558Z
LAST-MODIFIED:20231208T182558Z
UID:71956-1704477600-1704488400@odessaarts.org
SUMMARY:First Friday
DESCRIPTION:WHAT IS FIRST FRIDAY?\n\n\n\n\n\nFirst Friday ODTX is a monthly gathering every first Friday of the month for residents and visitors of downtown Odessa. Each month\, the streets are lively and colorful with music\, games\, and delicious food. There are unbeatable deals from local businesses and exciting opportunities to collect amazing giveaways. The event is open to all ages and caters to everyone’s interests. For music lovers\, there are live performances by local bands and artists\, while foodies can indulge in a diverse range of street eats. Downtown shops and eateries will offer special promotions. First Friday ODTX event brings vibrancy and community spirit to downtown Odessa\, making it the perfect place to spend a Friday evening.
URL:https://odessaarts.org/event/first-friday-3/
LOCATION:Downtown Odessa\, 79761\, United States
CATEGORIES:Humanities,Music,Visual Arts
END:VEVENT
BEGIN:VEVENT
DTSTART;TZID=America/Chicago:20240105T180000
DTEND;TZID=America/Chicago:20240105T210000
DTSTAMP:20260425T232021
CREATED:20231229T022704Z
LAST-MODIFIED:20231229T022704Z
UID:72122-1704477600-1704488400@odessaarts.org
SUMMARY:Live Music with Flair: Black Gold
DESCRIPTION:
URL:https://odessaarts.org/event/live-music-with-flair-black-gold-8/
LOCATION:Flair Taverna\, 2701 JBS Parkway\, Odessa\, Texas
CATEGORIES:Music
ATTACH;FMTTYPE=image/png:https://odessaarts.org/wp-content/uploads/2023/12/Flair-Jan-Black-Gold-SQ.png
END:VEVENT
BEGIN:VEVENT
DTSTART;TZID=America/Chicago:20240106T180000
DTEND;TZID=America/Chicago:20240106T210000
DTSTAMP:20260425T232021
CREATED:20231229T022756Z
LAST-MODIFIED:20231229T022756Z
UID:72124-1704564000-1704574800@odessaarts.org
SUMMARY:Live Music with Flair: Capital Limits
DESCRIPTION:
URL:https://odessaarts.org/event/live-music-with-flair-capital-limits-2/
LOCATION:Flair Taverna\, 2701 JBS Parkway\, Odessa\, Texas
CATEGORIES:Music
ATTACH;FMTTYPE=image/png:https://odessaarts.org/wp-content/uploads/2023/12/Flair-Jan-Capital-Limits-SQ-1.png
END:VEVENT
BEGIN:VEVENT
DTSTART;TZID=America/Chicago:20240106T190000
DTEND;TZID=America/Chicago:20240106T220000
DTSTAMP:20260425T232021
CREATED:20231213T184201Z
LAST-MODIFIED:20231213T184201Z
UID:71983-1704567600-1704578400@odessaarts.org
SUMMARY:Live Music at Homemade Wines
DESCRIPTION:Hop into Homemade Wines every Saturday from 7pm – 10pm and enjoy live music from a local artist! 
URL:https://odessaarts.org/event/live-music-at-homemade-wines-2/
LOCATION:Homemade Wines\, 400 N. Texas Avenue\, Odessa\, 79761\, United States
CATEGORIES:Music
END:VEVENT
BEGIN:VEVENT
DTSTART;TZID=America/Chicago:20240111T100000
DTEND;TZID=America/Chicago:20240111T110000
DTSTAMP:20260425T232021
CREATED:20231213T203959Z
LAST-MODIFIED:20231213T203959Z
UID:72017-1704967200-1704970800@odessaarts.org
SUMMARY:Books and Babies
DESCRIPTION:Babies need books and songs to enjoy\, too! Join us in the auditorium for the show and then take the babies to play in the baby room.  \n*3rd Floor Auditorium
URL:https://odessaarts.org/event/books-and-babies/
LOCATION:Ector County Library
CATEGORIES:Music,Theatre & Literary Arts
END:VEVENT
BEGIN:VEVENT
DTSTART;TZID=America/Chicago:20240111T180000
DTEND;TZID=America/Chicago:20240111T210000
DTSTAMP:20260425T232021
CREATED:20231229T022425Z
LAST-MODIFIED:20231229T022425Z
UID:72116-1704996000-1705006800@odessaarts.org
SUMMARY:Jazz Nights with Flair: Eric Baker
DESCRIPTION:
URL:https://odessaarts.org/event/jazz-nights-with-flair-eric-baker/
LOCATION:Flair Taverna\, 2701 JBS Parkway\, Odessa\, Texas
CATEGORIES:Music
ATTACH;FMTTYPE=image/png:https://odessaarts.org/wp-content/uploads/2023/12/flair-jan-w2-eric-baker-sq-2.png
END:VEVENT
BEGIN:VEVENT
DTSTART;TZID=America/Chicago:20240112T180000
DTEND;TZID=America/Chicago:20240112T210000
DTSTAMP:20260425T232021
CREATED:20231229T022846Z
LAST-MODIFIED:20231229T022846Z
UID:72126-1705082400-1705093200@odessaarts.org
SUMMARY:Live Music with Flair: Wolf 359
DESCRIPTION:
URL:https://odessaarts.org/event/live-music-with-flair-wolf-359/
LOCATION:Flair Taverna\, 2701 JBS Parkway\, Odessa\, Texas
CATEGORIES:Music
ATTACH;FMTTYPE=image/png:https://odessaarts.org/wp-content/uploads/2023/12/Flair-Jan-w2-Wolf-359-SQ.png
END:VEVENT
BEGIN:VEVENT
DTSTART;TZID=America/Chicago:20240112T200000
DTEND;TZID=America/Chicago:20240112T200000
DTSTAMP:20260425T232021
CREATED:20240110T220338Z
LAST-MODIFIED:20240110T220338Z
UID:72181-1705089600-1705089600@odessaarts.org
SUMMARY:All Request Sing-A-Long Dueling Piano Show
DESCRIPTION:We’re back and turning Stein’s into a full scale dueling piano bar once again. 3 piano players\, with a non-stop all request show.\nNo Cover
URL:https://odessaarts.org/event/all-request-sing-a-long-dueling-piano-show/
LOCATION:Steins Ultra Bar\, 4555 E University Blvd.\, Unit A\, Odessa\, TX\, 79762\, United States
CATEGORIES:Music
END:VEVENT
BEGIN:VEVENT
DTSTART;TZID=America/Chicago:20240112T200000
DTEND;TZID=America/Chicago:20240112T200000
DTSTAMP:20260425T232021
CREATED:20240110T221626Z
LAST-MODIFIED:20240110T221626Z
UID:72195-1705089600-1705089600@odessaarts.org
SUMMARY:Live Music with Monica Garcia
DESCRIPTION:Monica Garcia\, live presentation at Mojitos Mexican Bar and Grill every Friday and Saturday from 8 to close.
URL:https://odessaarts.org/event/live-music-with-monica-garcia/
LOCATION:Mojitos Mexican Bar and Grill\, 4101 E. 42nds Street\, Suite 105\, Odessa\, TX\, 79762\, United States
CATEGORIES:Music
END:VEVENT
BEGIN:VEVENT
DTSTART;TZID=America/Chicago:20240112T200000
DTEND;TZID=America/Chicago:20240112T203000
DTSTAMP:20260425T232021
CREATED:20231207T205329Z
LAST-MODIFIED:20231207T205329Z
UID:71934-1705089600-1705091400@odessaarts.org
SUMMARY:Jon Wolfe at the Sandhills Stock Show and Rodeo
DESCRIPTION:JON WOLFE • JANUARY 12 @ 8:00 PM – Barn G \nGet ready to unwind and dance the night away on January 12 with John Wolfe. The best introduction to Jon Wolfe is the basic yet not so simple fact that he’s a country singer and songwriter. Country music\, as it was\, is and always should be\, with boots firmly standing on the bedrock of tradition and an eye focused on taking it into the future. And that\, as any fan of true country knows\, is no simple proposition. \nMore about country artist\, Jon Wolfe.  or check out his new music here.  \nFIND TICKETS 
URL:https://odessaarts.org/event/jon-wolfe-at-the-sandhills-stock-show-and-rodeo/
LOCATION:Ector County Coliseum\, 4201 Andrews Highway\, Odessa\, TX\, 79762\, United States
CATEGORIES:Music
END:VEVENT
BEGIN:VEVENT
DTSTART;TZID=America/Chicago:20240113T180000
DTEND;TZID=America/Chicago:20240113T210000
DTSTAMP:20260425T232021
CREATED:20231229T022954Z
LAST-MODIFIED:20231229T022954Z
UID:72128-1705168800-1705179600@odessaarts.org
SUMMARY:Live Music with Flair: KT and the Blues Scientists
DESCRIPTION:
URL:https://odessaarts.org/event/live-music-with-flair-kt-and-the-blues-scientists-12/
LOCATION:Flair Taverna\, 2701 JBS Parkway\, Odessa\, Texas
CATEGORIES:Music
ATTACH;FMTTYPE=image/png:https://odessaarts.org/wp-content/uploads/2023/12/jan-w2-KT-SQ.png
END:VEVENT
BEGIN:VEVENT
DTSTART;TZID=America/Chicago:20240114T200000
DTEND;TZID=America/Chicago:20240114T200000
DTSTAMP:20260425T232021
CREATED:20231018T174453Z
LAST-MODIFIED:20231018T174453Z
UID:71454-1705262400-1705262400@odessaarts.org
SUMMARY:The Panhandlers
DESCRIPTION:It’s easy to dismiss West Texas as just a vast\, barren wasteland void of nuance or life. Those West Texans born and bred\, they often daydream of escaping the endless miles of mesquite bush pastures\, cotton field patches\, and iron orchard oil wells. Still\, something draws them back time and again. For millennia\, its inhabitants have etched out corners and dugouts to break from the wind and fight off the sun. And through it all\, they attempt to capture the brazen beauty of the land and the spirit of its people in song and story. It ain’t for the faint of heart. It’s a tough\, bold country. \nThe Panhandlers are four native sons from the outskirts of Texas society\, having spent much of their lives in the high desert and southern prairie. Individually\, Josh Abbott\, John Baumann\, William Clark Green\, and Flatland Cavalry’s Cleto Cordero have long pursued that Far West Texas mythos and Panhandle lore. Scattered throughout their solo catalogs\, the four frontmen have delivered earnest anthems and endearing balladry that embodies a Flatland life and South Plains dreams. \nStill\, that hasn’t ever been quite enough for Abbott\, Baumann\, Cordero\, and Green\, who in early 2020 released The Panhandlers. Built around a collection of organic and visceral rural reflections\, hardscrabbled character sketches\, and a wide open spaces state of mind\, The Panhandlers thrived under the guidance of songwriting scholar and album producer Bruce Robison. With a Who’s Who of musicians in tow and recorded on analog two-inch tape at Robison’s The Bunker Studio\, the pairings fit hand-in-glove for the set of windswept vignettes and honky-tonk mosaics. \nNow\, some three years later\, they pick right up where The Panhandlers left off. Tough Country finds the four songwriters diving further into rough West Texas caliche and rich Panhandle soil\, unearthing campfire compositions\, forlorn ballads\, romantic rendezvous\, and charming singalongs. Like their previous efforts\, Tough Country finds the four working with Robison together once again at The Bunker for a desert-swept sonic punch that offers hints of Western Swing\, Flatland folk\, and rollicking country ambiance. \nMuch like the plainspoken poets\, dancehall desperados\, iconoclast artists\, and the cowboy wordsmiths they call heroes\, The Panhandlers walk the fine line between romanticizing the rugged land and its hearty inhabitants with gentle acknowledgments and sincere homages\, all the while blazing their own trails and reveling in the satisfaction of unveiling their own fresh spin on old traditions.
URL:https://odessaarts.org/event/the-panhandlers/
LOCATION:Wagner Noël Performing Arts Center\, 1310 FM 1788\, Midland\, Texas
CATEGORIES:Music
END:VEVENT
BEGIN:VEVENT
DTSTART;TZID=America/Chicago:20240117T073000
DTEND;TZID=America/Chicago:20240117T193000
DTSTAMP:20260425T232021
CREATED:20240109T222355Z
LAST-MODIFIED:20240109T222355Z
UID:72158-1705476600-1705519800@odessaarts.org
SUMMARY:Jazz & Beyond:  A Free Musical Extravaganza!
DESCRIPTION:Experience the Evolution of Jazz! \nGet ready to groove with LA’s finest musicians at “Jazz & Beyond\,” a spectacular free concert like no other! Our talented artists aren’t just any performers; they’re seasoned pros who have sparkled on TV and film\, and have collaborated with major pop sensations! \n–  Journey Through Jazz: From the soulful rhythms of classic jazz to the electrifying beats of modern hits\, travel through the rich history of this incredible genre. \n–  Star-Studded Talent: Witness LA’s top musicians\, whose skills have graced both the big screen and the recording studios of popular music icons. \n–  Family-Friendly Fun: Bring the whole family! There’s something for everyone in this celebration of music and culture. \n Spread the Word! Share this event with friends and family\, and let’s make “Jazz & Beyond” the talk of the town! \nAdmission is FREE! Limited seating available\, so arrive early to secure your spot! \nJoin us for an evening where music\, history\, and community come alive! See you at Jazz & Beyond!
URL:https://odessaarts.org/event/jazz-beyond-a-free-musical-extravaganza/
LOCATION:Wagner Noël Performing Arts Center\, 1310 FM 1788\, Midland\, Texas
CATEGORIES:Music
END:VEVENT
BEGIN:VEVENT
DTSTART;TZID=America/Chicago:20240118T180000
DTEND;TZID=America/Chicago:20240118T210000
DTSTAMP:20260425T232021
CREATED:20231229T022522Z
LAST-MODIFIED:20231229T022522Z
UID:72118-1705600800-1705611600@odessaarts.org
SUMMARY:Jazz Nights with Flair: Craig Elliott Jazz Trio
DESCRIPTION:
URL:https://odessaarts.org/event/jazz-nights-with-flair-craig-elliott-jazz-trio-2/
LOCATION:Flair Taverna\, 2701 JBS Parkway\, Odessa\, Texas
CATEGORIES:Music
ATTACH;FMTTYPE=image/png:https://odessaarts.org/wp-content/uploads/2023/12/jan-w3-Craig-Elliott-SQ-2.png
END:VEVENT
BEGIN:VEVENT
DTSTART;TZID=America/Chicago:20240119T180000
DTEND;TZID=America/Chicago:20240119T210000
DTSTAMP:20260425T232021
CREATED:20231229T023051Z
LAST-MODIFIED:20231229T023051Z
UID:72130-1705687200-1705698000@odessaarts.org
SUMMARY:Live Music with Flair: ZBD Band
DESCRIPTION:
URL:https://odessaarts.org/event/live-music-with-flair-zbd-band-7/
LOCATION:Flair Taverna\, 2701 JBS Parkway\, Odessa\, Texas
CATEGORIES:Music
ATTACH;FMTTYPE=image/png:https://odessaarts.org/wp-content/uploads/2023/12/flair-Jan-w3-ZBD-Band-Square.png
END:VEVENT
BEGIN:VEVENT
DTSTART;TZID=America/Chicago:20240120T180000
DTEND;TZID=America/Chicago:20240120T210000
DTSTAMP:20260425T232021
CREATED:20231229T023253Z
LAST-MODIFIED:20231229T023253Z
UID:72132-1705773600-1705784400@odessaarts.org
SUMMARY:Live Music with Flair: Jukebox Duo
DESCRIPTION:
URL:https://odessaarts.org/event/live-music-with-flair-jukebox-duo-3/
LOCATION:Flair Taverna\, 2701 JBS Parkway\, Odessa\, Texas
CATEGORIES:Music
ATTACH;FMTTYPE=image/png:https://odessaarts.org/wp-content/uploads/2023/12/Jan-w3-Jukebox-SQ.png
END:VEVENT
BEGIN:VEVENT
DTSTART;TZID=America/Chicago:20240123T200000
DTEND;TZID=America/Chicago:20240123T200000
DTSTAMP:20260425T232021
CREATED:20231207T200641Z
LAST-MODIFIED:20231207T200641Z
UID:71920-1706040000-1706040000@odessaarts.org
SUMMARY:Breaking Benjamin:  Unplugged - A solo set by Keith Wallen
DESCRIPTION:Breaking Benjamin are no strangers to the upper echelons of the rock charts. Since bursting onto the scene with 2002’s Saturate\, the band has amassed an impressive string of mainstream rock radio hits\, with ten songs hitting #1\, numerous platinum and multi-platinum songs and albums\, 8.5 billion combined streams worldwide and a social imprint of over 6.5 million — a testament to the band’s global influence and loyal fan base. Their most recent release\, AURORA\, gave Breaking Benjamin their 10th #1 song at rock radio with “Far Away ft. Scooter Ward.” \nBreaking Benjamin’s last studio album\, EMBER debuted at #3 on the Billboard Top 200 and marked the multiplatinum band’s fourth Top 5 debut on the Billboard Top 200\, following 2015’s #1 debut for DARK BEFORE DAWN (Gold)\, 2009’s DEAR AGONY (Platinum) at #4 and 2006’s PHOBIA (Platinum) at #2. EMBER spun off two #1 hits at Active Rock Radio with “Red Cold River” and “Torn in Two.” AURORA and EMBER charted Top 10 across numerous countries worldwide and topping #1 charts across multiple genres\, including Top Alternative Albums\, Top Rock Albums\, Top Hard Rock Albums and Top Digital Albums.
URL:https://odessaarts.org/event/breaking-benjamin-unplugged-a-solo-set-by-keith-wallen/
LOCATION:Wagner Noël Performing Arts Center\, 1310 FM 1788\, Midland\, Texas
CATEGORIES:Music
END:VEVENT
BEGIN:VEVENT
DTSTART;TZID=America/Chicago:20240125T180000
DTEND;TZID=America/Chicago:20240125T210000
DTSTAMP:20260425T232021
CREATED:20231229T022611Z
LAST-MODIFIED:20231229T022611Z
UID:72120-1706205600-1706216400@odessaarts.org
SUMMARY:Jazz Nights with Flair: Emily Baker & Dan Ferguson
DESCRIPTION:
URL:https://odessaarts.org/event/jazz-nights-with-flair-emily-baker-dan-ferguson-2/
LOCATION:Flair Taverna\, 2701 JBS Parkway\, Odessa\, Texas
CATEGORIES:Music
ATTACH;FMTTYPE=image/png:https://odessaarts.org/wp-content/uploads/2023/12/FLAIR-JAN-W4-Emily-Baker-Dan-Ferguson-SQ.png
END:VEVENT
BEGIN:VEVENT
DTSTART;TZID=America/Chicago:20240126T180000
DTEND;TZID=America/Chicago:20240126T210000
DTSTAMP:20260425T232021
CREATED:20231229T023641Z
LAST-MODIFIED:20231229T023641Z
UID:72134-1706292000-1706302800@odessaarts.org
SUMMARY:Live Music with Flair: Groove City
DESCRIPTION:
URL:https://odessaarts.org/event/live-music-with-flair-groove-city-14/
LOCATION:Flair Taverna\, 2701 JBS Parkway\, Odessa\, Texas
CATEGORIES:Music
ATTACH;FMTTYPE=image/png:https://odessaarts.org/wp-content/uploads/2023/12/JAN-w4-Sergio-Tarin-SQ.png
END:VEVENT
BEGIN:VEVENT
DTSTART;TZID=America/Chicago:20240127T180000
DTEND;TZID=America/Chicago:20240127T210000
DTSTAMP:20260425T232021
CREATED:20231229T023737Z
LAST-MODIFIED:20231229T023737Z
UID:72136-1706378400-1706389200@odessaarts.org
SUMMARY:Live Music with Flair: Colton Fox
DESCRIPTION:
URL:https://odessaarts.org/event/live-music-with-flair-colton-fox-6/
LOCATION:Flair Taverna\, 2701 JBS Parkway\, Odessa\, Texas
CATEGORIES:Music
ATTACH;FMTTYPE=image/png:https://odessaarts.org/wp-content/uploads/2023/12/flair-jan-w4-colton-sq.png
END:VEVENT
BEGIN:VEVENT
DTSTART;TZID=America/Chicago:20240127T193000
DTEND;TZID=America/Chicago:20240127T193000
DTSTAMP:20260425T232021
CREATED:20231207T201744Z
LAST-MODIFIED:20231207T201822Z
UID:71926-1706383800-1706383800@odessaarts.org
SUMMARY:Jason Fabus Trio
DESCRIPTION:A staple in the budding Los Angeles jazz & swing scene\, the Jason Fabus Trio features highly sought-after saxophone player and songwriter/arranger\, Jason Fabus\, on saxophone\, vocals and piano\, joined by guitar and upright bass. The group’s repertoire focuses on tight and swinging arrangements of songs from the Golden Era of American music\, spanning from the 1920s to the 1950s.
URL:https://odessaarts.org/event/jason-fabus-trio/
LOCATION:Wagner Noël Performing Arts Center\, 1310 FM 1788\, Midland\, Texas
CATEGORIES:Music
END:VEVENT
BEGIN:VEVENT
DTSTART;TZID=America/Chicago:20240127T193000
DTEND;TZID=America/Chicago:20240127T213000
DTSTAMP:20260425T232021
CREATED:20240111T202021Z
LAST-MODIFIED:20240111T202021Z
UID:72248-1706383800-1706391000@odessaarts.org
SUMMARY:Wouldn't It Be Lovely:  A Modern Fairytale
DESCRIPTION:Come join us for an unforgettable evening at The Globe of the Great Southwest in Odessa\, TX.\nAdapted from George Bernard Shaw’s PYGMALION and the beloved stage musical MY FAIR LADY\, The Globe of the Great Southwest presents audiences with a modern fairy tale … WOULDN’T IT BE LOVELY.\nJoin us for an immersive celebration of Shaw’s dynamic language with innovatively infused modern dance and music threaded through the heart of the iconic story we all know and love.\nWOULDN’T IT BE LOVELY is a passionate\, hilarious and devastating story – delving deep into the the simple desire to be seen for who we really are.\n\n\nOpens:\nSaturday\, January 27th\nPerforms:\nSunday\, January 28th\,\nThursday\, February 1st\,\nFriday\, February 2nd\nCloses:\nSaturday\, February 3rd\nCurtain:\n7:30pm
URL:https://odessaarts.org/event/wouldnt-it-be-lovely-a-modern-fairytale/
LOCATION:The Globe of the Great Southwest\, 2308 Shakespeare Road\, Odessa\, TX\, 79761\, United States
CATEGORIES:Music,Theatre & Literary Arts
END:VEVENT
END:VCALENDAR