BEGIN:VCALENDAR
VERSION:2.0
PRODID:-//Odessa Arts - ECPv6.15.20//NONSGML v1.0//EN
CALSCALE:GREGORIAN
METHOD:PUBLISH
X-WR-CALNAME:Odessa Arts
X-ORIGINAL-URL:https://odessaarts.org
X-WR-CALDESC:Events for Odessa Arts
REFRESH-INTERVAL;VALUE=DURATION:PT1H
X-Robots-Tag:noindex
X-PUBLISHED-TTL:PT1H
BEGIN:VTIMEZONE
TZID:America/Chicago
BEGIN:DAYLIGHT
TZOFFSETFROM:-0600
TZOFFSETTO:-0500
TZNAME:CDT
DTSTART:20230312T080000
END:DAYLIGHT
BEGIN:STANDARD
TZOFFSETFROM:-0500
TZOFFSETTO:-0600
TZNAME:CST
DTSTART:20231105T070000
END:STANDARD
BEGIN:DAYLIGHT
TZOFFSETFROM:-0600
TZOFFSETTO:-0500
TZNAME:CDT
DTSTART:20240310T080000
END:DAYLIGHT
BEGIN:STANDARD
TZOFFSETFROM:-0500
TZOFFSETTO:-0600
TZNAME:CST
DTSTART:20241103T070000
END:STANDARD
BEGIN:DAYLIGHT
TZOFFSETFROM:-0600
TZOFFSETTO:-0500
TZNAME:CDT
DTSTART:20250309T080000
END:DAYLIGHT
BEGIN:STANDARD
TZOFFSETFROM:-0500
TZOFFSETTO:-0600
TZNAME:CST
DTSTART:20251102T070000
END:STANDARD
END:VTIMEZONE
BEGIN:VEVENT
DTSTART;TZID=America/Chicago:20241101T180000
DTEND;TZID=America/Chicago:20241101T210000
DTSTAMP:20260425T053729
CREATED:20231208T182558Z
LAST-MODIFIED:20231208T182558Z
UID:71967-1730484000-1730494800@odessaarts.org
SUMMARY:First Friday
DESCRIPTION:WHAT IS FIRST FRIDAY?\n\n\n\n\n\nFirst Friday ODTX is a monthly gathering every first Friday of the month for residents and visitors of downtown Odessa. Each month\, the streets are lively and colorful with music\, games\, and delicious food. There are unbeatable deals from local businesses and exciting opportunities to collect amazing giveaways. The event is open to all ages and caters to everyone’s interests. For music lovers\, there are live performances by local bands and artists\, while foodies can indulge in a diverse range of street eats. Downtown shops and eateries will offer special promotions. First Friday ODTX event brings vibrancy and community spirit to downtown Odessa\, making it the perfect place to spend a Friday evening.
URL:https://odessaarts.org/event/first-friday-3/2024-11-01/
LOCATION:Downtown Odessa\, 79761\, United States
CATEGORIES:Humanities,Music,Visual Arts
END:VEVENT
BEGIN:VEVENT
DTSTART;TZID=America/Chicago:20241101T180000
DTEND;TZID=America/Chicago:20241101T210000
DTSTAMP:20260425T053729
CREATED:20240930T030205Z
LAST-MODIFIED:20240930T030205Z
UID:74072-1730484000-1730494800@odessaarts.org
SUMMARY:Live Music with Flair: John Sprott Blues Band
DESCRIPTION:
URL:https://odessaarts.org/event/live-music-with-flair-john-sprott-blues-band/
LOCATION:Flair Taverna\, 2701 JBS Parkway\, Odessa\, Texas
CATEGORIES:Music
ATTACH;FMTTYPE=image/png:https://odessaarts.org/wp-content/uploads/2024/09/Oct-w5-Sprott-SQ.png
END:VEVENT
BEGIN:VEVENT
DTSTART;TZID=America/Chicago:20241102T173000
DTEND;TZID=America/Chicago:20241102T173000
DTSTAMP:20260425T053729
CREATED:20241028T185033Z
LAST-MODIFIED:20241028T185033Z
UID:74249-1730568600-1730568600@odessaarts.org
SUMMARY:Region 6 High School Choir Concert
DESCRIPTION: 
URL:https://odessaarts.org/event/region-6-high-school-choir-concert/
LOCATION:Wagner Noël Performing Arts Center\, 1310 FM 1788\, Midland\, Texas
CATEGORIES:Humanities,Music
END:VEVENT
BEGIN:VEVENT
DTSTART;TZID=America/Chicago:20241102T180000
DTEND;TZID=America/Chicago:20241102T210000
DTSTAMP:20260425T053729
CREATED:20240930T030412Z
LAST-MODIFIED:20240930T030412Z
UID:74074-1730570400-1730581200@odessaarts.org
SUMMARY:Live Music with Flair: Colton Fox
DESCRIPTION:
URL:https://odessaarts.org/event/live-music-with-flair-colton-fox-9/
LOCATION:Flair Taverna\, 2701 JBS Parkway\, Odessa\, Texas
CATEGORIES:Music
ATTACH;FMTTYPE=image/png:https://odessaarts.org/wp-content/uploads/2024/09/Colton-Fox-SQ-1.png
END:VEVENT
BEGIN:VEVENT
DTSTART;TZID=America/Chicago:20241103T193000
DTEND;TZID=America/Chicago:20241103T193000
DTSTAMP:20260425T053729
CREATED:20240521T202530Z
LAST-MODIFIED:20240521T202530Z
UID:73336-1730662200-1730662200@odessaarts.org
SUMMARY:UTPB Dia de Los Muertos Concert (Mariachi & Orchestra)
DESCRIPTION:
URL:https://odessaarts.org/event/utpb-dia-de-los-muertos-concert-mariachi-orchestra/
LOCATION:Wagner Noël Performing Arts Center\, 1310 FM 1788\, Midland\, Texas
CATEGORIES:Music
END:VEVENT
BEGIN:VEVENT
DTSTART;TZID=America/Chicago:20241106T140000
DTEND;TZID=America/Chicago:20241106T140000
DTSTAMP:20260425T053729
CREATED:20241030T193709Z
LAST-MODIFIED:20241030T194333Z
UID:74283-1730901600-1730901600@odessaarts.org
SUMMARY:Texas Sounds & Cities Conference
DESCRIPTION:Join the City of Lubbock\, the Lubbock Cultural Arts Foundation\, the Lubbock Music Advisory Committee\, and the Office of the Governor’s Texas Music Office for the 6th Annual Texas Sounds & Cities Conference in Lubbock\, TX November 6-8\, 2024! \nThis two-day conference will include panel discussions on Texas music scene development\, conversations about potential state-wide collaboration between the certified communities\, as well as conversations spotlighting economic development best practices which in turn lead to increased music tourism and music scene cohesion. This yearly conference is a time for our Music Friendly Texas Certified Communities to come together and learn from each other. Music Friendly Texas Community Liaisons are invited to present updates from their respective programs. There will be time for round table discussions to learn from the successes and challenges of their fellow certified communities.
URL:https://odessaarts.org/event/texas-sounds-cities-conference/2024-11-06/
LOCATION:Cactus Theater\, 1812 Buddy Holly Ave\, Lubbock\, TX\, 79401\, United States
CATEGORIES:Humanities,Music,Public Art,Visual Arts
END:VEVENT
BEGIN:VEVENT
DTSTART;TZID=America/Chicago:20241107T080000
DTEND;TZID=America/Chicago:20241107T173000
DTSTAMP:20260425T053729
CREATED:20241030T193709Z
LAST-MODIFIED:20241030T194336Z
UID:74286-1730966400-1731000600@odessaarts.org
SUMMARY:Texas Sounds & Cities Conference
DESCRIPTION:Join the City of Lubbock\, the Lubbock Cultural Arts Foundation\, the Lubbock Music Advisory Committee\, and the Office of the Governor’s Texas Music Office for the 6th Annual Texas Sounds & Cities Conference in Lubbock\, TX November 6-8\, 2024! \nThis two-day conference will include panel discussions on Texas music scene development\, conversations about potential state-wide collaboration between the certified communities\, as well as conversations spotlighting economic development best practices which in turn lead to increased music tourism and music scene cohesion. This yearly conference is a time for our Music Friendly Texas Certified Communities to come together and learn from each other. Music Friendly Texas Community Liaisons are invited to present updates from their respective programs. There will be time for round table discussions to learn from the successes and challenges of their fellow certified communities.
URL:https://odessaarts.org/event/texas-sounds-cities-conference/2024-11-07/
LOCATION:Cactus Theater\, 1812 Buddy Holly Ave\, Lubbock\, TX\, 79401\, United States
CATEGORIES:Humanities,Music,Public Art,Visual Arts
END:VEVENT
BEGIN:VEVENT
DTSTART;TZID=America/Chicago:20241107T180000
DTEND;TZID=America/Chicago:20241107T210000
DTSTAMP:20260425T053729
CREATED:20241003T130130Z
LAST-MODIFIED:20241003T130130Z
UID:74112-1731002400-1731013200@odessaarts.org
SUMMARY:Jazz Nights at Flair: Four on the Floor
DESCRIPTION:
URL:https://odessaarts.org/event/jazz-nights-at-flair-four-on-the-floor-2/
LOCATION:Flair Taverna\, 2701 JBS Parkway\, Odessa\, Texas
CATEGORIES:Music
ATTACH;FMTTYPE=image/png:https://odessaarts.org/wp-content/uploads/2024/10/Four-on-the-floor-SQ.png
END:VEVENT
BEGIN:VEVENT
DTSTART;TZID=America/Chicago:20241107T190000
DTEND;TZID=America/Chicago:20241107T213000
DTSTAMP:20260425T053729
CREATED:20240717T154940Z
LAST-MODIFIED:20240717T154940Z
UID:73626-1731006000-1731015000@odessaarts.org
SUMMARY:Sara Evans
DESCRIPTION:Join us for a night you won’t forget with multi-platinum entertainer Sara Evans performing her Unbroke Tour at The Ector Theatre on Thursday\, November 7\, 2024\, at 7 PM! \nRead More About Sara Evans… \nMulti-platinum entertainer SARA EVANS is at the top of her game. As the fifth most-played female artist at country radio in nearly the last two decades — she’s notched over 20 top 15 singles\, including her five No. 1 singles “No Place That Far\,” “A Real Fine Place To Start\,” “Born to Fly\,” and “Suds In The Bucket &amp; “A Little Bit Stronger\,” both which spent 2 weeks in the top spot and were certified platinum by the R.I.A.A. — Sara thrills audiences across the U.S. playing close to100 shows each year. Sara’s “stunning\, country voice” (Rolling Stone) has earnedher the prestigious Academy of Country Music Top Female vocalist accolade as well as numerous American Music Awards\, Billboard Music Awards\, Country Music Association\, CMT and Grammy Awards nominations. In addition\, the CMA awarded Video of the Year honors for her hit chart-topping single\, “Born to Fly”\, from her double-platinum album of the same name. Evans’ discography also includes the platinum-selling studio albums Real Fine Place and Restless as well as the gold-certified projects Stronger and No Place That Far. Her new album\, Unbroke\, will be released June 7th. \nSara released her memoir\, Born To Fly\, on September 8\, 2020 through Howard Books\, an imprint of Simon & Schuster. Named after her landmark double- platinum album\, which celebrated its 20th anniversary this year\, Born To Fly finds Evans opening up and sharing stories not only about her career and what it is like living in the spotlight\, but about what inspires her and how her faith keeps her strong. \nTo continue where the book left off\, Sara has just launched a new honest and revealing podcast series called “Diving in Deep with Sara Evans”. The show includes not only Sara sharing personal stories and experiences from her anything but dull life\, but also shares her candid conversations with other celebrities and interesting guests. “Diving in Deep with Sara Evans” is available on YouTube and anywhere podcasts are streamed. \nIn addition to a prolific country music career\, Sara has been honored for her philanthropic work and in 2018 was presented the NAB Education Foundation’s Service To America Leadership Award. A Red Cross ambassador\, Sara received the national Crystal Cross award for her work with the disaster-relief organization and recently raised more than $10\,000 for CMA Foundation and music education from the sale of her ONEHope Sara Evans Signature Series 2014 Napa Valley Cabernet Sauvignon.
URL:https://odessaarts.org/event/sara-evans/
LOCATION:The Ector Theatre\, 500 N. Texas\, Odessa\, TX\, 79761\, United States
CATEGORIES:Music
END:VEVENT
BEGIN:VEVENT
DTSTART;TZID=America/Chicago:20241108T180000
DTEND;TZID=America/Chicago:20241108T210000
DTSTAMP:20260425T053729
CREATED:20241003T130322Z
LAST-MODIFIED:20241003T130322Z
UID:74114-1731088800-1731099600@odessaarts.org
SUMMARY:Live Music with Flair: Part Bee
DESCRIPTION:
URL:https://odessaarts.org/event/live-music-with-flair-part-bee-9/
LOCATION:Flair Taverna\, 2701 JBS Parkway\, Odessa\, Texas
CATEGORIES:Music
ATTACH;FMTTYPE=image/png:https://odessaarts.org/wp-content/uploads/2024/10/Part-Bee-SQ-1.png
END:VEVENT
BEGIN:VEVENT
DTSTART;TZID=America/Chicago:20241109T180000
DTEND;TZID=America/Chicago:20241109T210000
DTSTAMP:20260425T053729
CREATED:20241003T130505Z
LAST-MODIFIED:20241003T130505Z
UID:74116-1731175200-1731186000@odessaarts.org
SUMMARY:Live Music with Flair: Ben Hulett
DESCRIPTION:
URL:https://odessaarts.org/event/live-music-with-flair-ben-hulett/
LOCATION:Flair Taverna\, 2701 JBS Parkway\, Odessa\, Texas
CATEGORIES:Music
ATTACH;FMTTYPE=image/png:https://odessaarts.org/wp-content/uploads/2024/10/Ben-hulett-SQ-2.png
END:VEVENT
BEGIN:VEVENT
DTSTART;TZID=America/Chicago:20241109T193000
DTEND;TZID=America/Chicago:20241109T193000
DTSTAMP:20260425T053729
CREATED:20240510T200307Z
LAST-MODIFIED:20240510T200307Z
UID:73211-1731180600-1731180600@odessaarts.org
SUMMARY:Folk Tales
DESCRIPTION:Dr. Andrew Cooperstock\, Piano \nTil Eulenspiegel’s Merry Pranks – RICHARD STRAUSS \nDer Rosenkavalier Suite – RICHARD STRAUSS \nPiano Concerto in A minor – EDVARD GRIEG
URL:https://odessaarts.org/event/folk-tales/
LOCATION:Wagner Noël Performing Arts Center\, 1310 FM 1788\, Midland\, Texas
CATEGORIES:Music
END:VEVENT
BEGIN:VEVENT
DTSTART;TZID=America/Chicago:20241109T193000
DTEND;TZID=America/Chicago:20241109T193000
DTSTAMP:20260425T053729
CREATED:20240911T194731Z
LAST-MODIFIED:20240912T154954Z
UID:73954-1731180600-1731180600@odessaarts.org
SUMMARY:Driving Miss Daisy
DESCRIPTION:  \n  \n  \n  \n  \nPlaced in the Deep South in 1948\, Driving Miss Daisy follows a rich\, sharp-tongued Jewish widow of seventy-two and her newly appointment chauffeur\, Hoke\, who is thoughtful black man. Miss Daisy immediately regards Hoke with disdain and who\, in turn\, is not impressed with his employer’s patronizing tone and\, he believes\, her latent prejudice. Will they be able to overcome their differences?
URL:https://odessaarts.org/event/driving-miss-daisy-2/
LOCATION:Midland Community Theatre\, 2000 W. Wadley\, Midland\, 79705\, United States
CATEGORIES:Humanities,Music,Theatre & Literary Arts
END:VEVENT
BEGIN:VEVENT
DTSTART;TZID=America/Chicago:20241110T143000
DTEND;TZID=America/Chicago:20241110T143000
DTSTAMP:20260425T053729
CREATED:20240307T200612Z
LAST-MODIFIED:20240307T200612Z
UID:72635-1731249000-1731249000@odessaarts.org
SUMMARY:The Hall Sisters
DESCRIPTION:The Hall Sisters have established themselves as one of the up-and-coming and premier acts in the country pop genre. Drawing from inspirational groups of decades past\, The Hall Sisters combine their favorite bits and pieces of all those iconic sounds to create a unique sound of their own. “Synergy” best defines these young women in that the combined output of their talents and musicality is greater than the sum of each individual part. \nA vocal/instrumental foursome of talented siblings\, The Hall Sisters marry stunning harmonies along with a brilliance and excellence on their instruments to create an entirely unique sound. \nThe Hall Sisters grew up in a home filled with music from a wide range of genres and artists\, which influenced them individually and collectively. Imagine going to a concert and hearing not just one style of music\, but music that spans genres and generations.
URL:https://odessaarts.org/event/the-hall-sisters/
LOCATION:Wagner Noël Performing Arts Center\, 1310 FM 1788\, Midland\, Texas
CATEGORIES:Music
END:VEVENT
BEGIN:VEVENT
DTSTART;TZID=America/Chicago:20241114T180000
DTEND;TZID=America/Chicago:20241114T210000
DTSTAMP:20260425T053729
CREATED:20241012T030352Z
LAST-MODIFIED:20241012T030352Z
UID:74160-1731607200-1731618000@odessaarts.org
SUMMARY:Jazz Nights at Flair: Craig Elliott
DESCRIPTION:
URL:https://odessaarts.org/event/jazz-nights-at-flair-craig-elliott-2/
LOCATION:Flair Taverna\, 2701 JBS Parkway\, Odessa\, Texas
CATEGORIES:Music
ATTACH;FMTTYPE=image/png:https://odessaarts.org/wp-content/uploads/2024/10/Nov-Craig-SQ.png
END:VEVENT
BEGIN:VEVENT
DTSTART;TZID=America/Chicago:20241115T180000
DTEND;TZID=America/Chicago:20241115T210000
DTSTAMP:20260425T053729
CREATED:20241012T030553Z
LAST-MODIFIED:20241012T030553Z
UID:74162-1731693600-1731704400@odessaarts.org
SUMMARY:Live Music with Flair: Wolf 359
DESCRIPTION:
URL:https://odessaarts.org/event/live-music-with-flair-wolf-359-5/
LOCATION:Flair Taverna\, 2701 JBS Parkway\, Odessa\, Texas
CATEGORIES:Music
ATTACH;FMTTYPE=image/png:https://odessaarts.org/wp-content/uploads/2024/10/Nov-w2-Wolf-359-SQ.png
END:VEVENT
BEGIN:VEVENT
DTSTART;TZID=America/Chicago:20241115T190000
DTEND;TZID=America/Chicago:20241115T213000
DTSTAMP:20260425T053729
CREATED:20240815T213717Z
LAST-MODIFIED:20240815T213717Z
UID:73754-1731697200-1731706200@odessaarts.org
SUMMARY:William Beckmann
DESCRIPTION:Pre-sale tickets available now! Public tickets on sale Friday 8/16 @ 10 AM! \nHailing from the small border town of Del Rio\, TX\, William Beckmann was raised on classic country as well as the mariachi and Norteño sounds of northern Mexico. He delivers a fresh blend of vintage country\, Americana and Latin music with a timeless baritone and an old soul maturity that belies his youth. His new album Faded Memories released in 2022\, featuring the slow-burn single “Bourbon Whiskey” as well as a mesmerizing cover of Bruce Springsteen’s “I’m On Fire” and the haunting “In The Dark.” The album has garnered praise from critics including American Songwriter\, Billboard\, CMT and more\, and his current track “Damn This Heart Of Mine” is Beckmann’s fourth consecutive single to hit the Top 20 at Texas Regional Radio Chart. Beckmann has amassed an incredible fanbase\, independently garnering more 670\,000 followers on TikTok and over 2 million streams of Faded Memories. He has spent the last year touring with artists including Parker McCollum\, Koe Wetzel\, Randy Rogers Band and Wade Bowen and sold out three shows at legendary Gruene Hall in New Braunfels\, TX in 2022.
URL:https://odessaarts.org/event/william-beckmann/
LOCATION:The Ector Theatre\, 500 N. Texas\, Odessa\, TX\, 79761\, United States
CATEGORIES:Music
END:VEVENT
BEGIN:VEVENT
DTSTART;TZID=America/Chicago:20241115T193000
DTEND;TZID=America/Chicago:20241115T193000
DTSTAMP:20260425T053729
CREATED:20240911T195136Z
LAST-MODIFIED:20240911T195136Z
UID:73956-1731699000-1731699000@odessaarts.org
SUMMARY:White Christmas
DESCRIPTION:  \n  \n  \nVeterans Bob Wallace and Phil Davis have a successful song-and-dance act after World War II. With romance in mind\, the two follow a duo of beautiful singing sisters en route to their Christmas show at a Vermont lodge\, which just happens to be owned by Bob and Phil’s former army commander. With a dazzling score featuring well-known standards including “Blue Skies\,” “I Love A Piano\,” “How Deep Is the Ocean” and the perennial title song\, White Christmas is an uplifting\, wholesome musical that will delight audiences of all ages.
URL:https://odessaarts.org/event/white-christmas/2024-11-15/
LOCATION:2000 W. Wadley\, Midland TX 79705\, 200 W. Wadley\, Midland\, TX\, 79705\, United States
CATEGORIES:Humanities,Music,Theatre & Literary Arts
END:VEVENT
BEGIN:VEVENT
DTSTART;TZID=America/Chicago:20241115T200000
DTEND;TZID=America/Chicago:20241115T200000
DTSTAMP:20260425T053729
CREATED:20241024T154256Z
LAST-MODIFIED:20241024T154256Z
UID:74193-1731700800-1731700800@odessaarts.org
SUMMARY:Conjunto Rienda Real\, La Pocima Norteña\, Los Reales del Rio\, Distinto Norte\, Los de la Norte
DESCRIPTION:
URL:https://odessaarts.org/event/conjunto-rienda-real-la-pocima-nortena-los-reales-del-rio-distinto-norte-los-de-la-norte/
LOCATION:La Hacienda Event Center\, 12600 TX-191 Hwy\, Midland\, TX\, 79705\, United States
CATEGORIES:Humanities,Music
END:VEVENT
BEGIN:VEVENT
DTSTART;TZID=America/Chicago:20241116T180000
DTEND;TZID=America/Chicago:20241116T210000
DTSTAMP:20260425T053729
CREATED:20241012T031105Z
LAST-MODIFIED:20241012T031105Z
UID:74164-1731780000-1731790800@odessaarts.org
SUMMARY:Live Music with Flair: Brighton Serrato
DESCRIPTION:
URL:https://odessaarts.org/event/live-music-with-flair-brighton-serrato-2/
LOCATION:Flair Taverna\, 2701 JBS Parkway\, Odessa\, Texas
CATEGORIES:Music
ATTACH;FMTTYPE=image/png:https://odessaarts.org/wp-content/uploads/2024/10/Nov-w2-Brighton.png
END:VEVENT
BEGIN:VEVENT
DTSTART;TZID=America/Chicago:20241116T193000
DTEND;TZID=America/Chicago:20241116T193000
DTSTAMP:20260425T053729
CREATED:20240911T195136Z
LAST-MODIFIED:20240911T195136Z
UID:73958-1731785400-1731785400@odessaarts.org
SUMMARY:White Christmas
DESCRIPTION:  \n  \n  \nVeterans Bob Wallace and Phil Davis have a successful song-and-dance act after World War II. With romance in mind\, the two follow a duo of beautiful singing sisters en route to their Christmas show at a Vermont lodge\, which just happens to be owned by Bob and Phil’s former army commander. With a dazzling score featuring well-known standards including “Blue Skies\,” “I Love A Piano\,” “How Deep Is the Ocean” and the perennial title song\, White Christmas is an uplifting\, wholesome musical that will delight audiences of all ages.
URL:https://odessaarts.org/event/white-christmas/2024-11-16/
LOCATION:2000 W. Wadley\, Midland TX 79705\, 200 W. Wadley\, Midland\, TX\, 79705\, United States
CATEGORIES:Humanities,Music,Theatre & Literary Arts
END:VEVENT
BEGIN:VEVENT
DTSTART;TZID=America/Chicago:20241117T190000
DTEND;TZID=America/Chicago:20241117T190000
DTSTAMP:20260425T053729
CREATED:20240412T182350Z
LAST-MODIFIED:20240412T182350Z
UID:73049-1731870000-1731870000@odessaarts.org
SUMMARY:Intocable 30 Aniversario MMXXIV
DESCRIPTION:Intocable es uno de los grupos más influyentes en la escena musical tejana / norteña en la actualidad.  Su camino hacia el éxito comenzó hace más de veinticinco años en Zapata\, Texas\, cuando los amigos Ricky Muñoz y René Martínez soñaron con llevar sus canciones al mundo mientras creaban un estilo de música único y extraordinario que fusiona hábilmente la música de conjunto tejano\, los ritmos folklóricos norteños\, las baladas pop y el rock. \nDespués de años de dedicación y pasión\, el sueño se convirtió en una realidad indiscutible. Continúan entreteniendo y deleitando al público en todas partes del mundo. No te pierdas su “30 Aniversario MMXXIC” en vivo este 2024. \nEnglish \nIntocable is one of the most influential groups in the Tejano / Norteño music scene today.  Their road to success began over twenty-five years ago in Zapata\, Texas when friends Ricky Muñoz and René Martínez dreamed of bringing their songs to the world as they crafted a unique and extraordinary style of music that expertly fuses Tejano conjunto music\, Norteño folk rhythms\, pop ballads\, and rock. \nAfter years of dedication and passion\, the dream became an indisputable reality.  They continue to entertain and delight audiences across the world.  Don’t miss their “30 Aniversario MMXXIV” Live in 2024.
URL:https://odessaarts.org/event/intocable-30-aniversario-mmxxiv/
LOCATION:Wagner Noël Performing Arts Center\, 1310 FM 1788\, Midland\, Texas
CATEGORIES:Music
END:VEVENT
BEGIN:VEVENT
DTSTART;TZID=America/Chicago:20241118T193000
DTEND;TZID=America/Chicago:20241118T193000
DTSTAMP:20260425T053729
CREATED:20240521T202952Z
LAST-MODIFIED:20240521T202952Z
UID:73341-1731958200-1731958200@odessaarts.org
SUMMARY:UTPB Percussion Ensemble Concert
DESCRIPTION:
URL:https://odessaarts.org/event/utpb-percussion-ensemble-concert/
LOCATION:Rea-Greathouse Recital Hall\, 1310 Farm to Market 1788\, Midlan\, TX\, 79707\, United States
CATEGORIES:Music
END:VEVENT
BEGIN:VEVENT
DTSTART;TZID=America/Chicago:20241119T073000
DTEND;TZID=America/Chicago:20241119T213000
DTSTAMP:20260425T053729
CREATED:20240520T191113Z
LAST-MODIFIED:20240520T192723Z
UID:73274-1732001400-1732051800@odessaarts.org
SUMMARY:Chamber Chorale - Fall Recital
DESCRIPTION:
URL:https://odessaarts.org/event/chamber-chorale/
LOCATION:TX
CATEGORIES:Music
ORGANIZER;CN="West Texas Symphony":MAILTO:symphony@wtxs.org
END:VEVENT
BEGIN:VEVENT
DTSTART;TZID=America/Chicago:20241121T180000
DTEND;TZID=America/Chicago:20241121T210000
DTSTAMP:20260425T053729
CREATED:20241017T220430Z
LAST-MODIFIED:20241017T220430Z
UID:74171-1732212000-1732222800@odessaarts.org
SUMMARY:Jazz Nights at Flair: Moments Notice
DESCRIPTION:
URL:https://odessaarts.org/event/jazz-nights-at-flair-moments-notice-2/
LOCATION:Flair Taverna\, 2701 JBS Parkway\, Odessa\, Texas
CATEGORIES:Music
ATTACH;FMTTYPE=image/png:https://odessaarts.org/wp-content/uploads/2024/10/Nov-w3-Moments-Notice-SQ.png
END:VEVENT
BEGIN:VEVENT
DTSTART;TZID=America/Chicago:20241122T180000
DTEND;TZID=America/Chicago:20241122T210000
DTSTAMP:20260425T053729
CREATED:20241017T220557Z
LAST-MODIFIED:20241017T220557Z
UID:74173-1732298400-1732309200@odessaarts.org
SUMMARY:Live Music with Flair: ZBD Band
DESCRIPTION:
URL:https://odessaarts.org/event/live-music-with-flair-zbd-band-11/
LOCATION:Flair Taverna\, 2701 JBS Parkway\, Odessa\, Texas
CATEGORIES:Music
ATTACH;FMTTYPE=image/png:https://odessaarts.org/wp-content/uploads/2024/10/Nov-w3-ZBD-Band-SQ.png
END:VEVENT
BEGIN:VEVENT
DTSTART;TZID=America/Chicago:20241122T190000
DTEND;TZID=America/Chicago:20241122T190000
DTSTAMP:20260425T053729
CREATED:20241101T205242Z
LAST-MODIFIED:20241101T205242Z
UID:74294-1732302000-1732302000@odessaarts.org
SUMMARY:Nutcracker! Magical Christmas Ballet
DESCRIPTION:  \n \nGive the gift of NUTCRACKER! Magical Christmas Ballet to the whole family. Celebrate America’s favorite Christmas tradition with an international all-star cast that blends world-class ballet with whimsical puppets\, lavish costumes\, and stunning acrobatics! Share the tradition of pure holiday magic and Tchaikovsky’s timeless score with friends and family of all ages. Don’t miss this chance to create memories of a lifetime. Get tickets now!
URL:https://odessaarts.org/event/nutcracker-magical-christmas-ballet-2/
LOCATION:Wagner Noël Performing Arts Center\, 1310 FM 1788\, Midland\, Texas
CATEGORIES:Humanities,Music,Theatre & Literary Arts
END:VEVENT
BEGIN:VEVENT
DTSTART;TZID=America/Chicago:20241123T090000
DTEND;TZID=America/Chicago:20241123T210000
DTSTAMP:20260425T053729
CREATED:20241119T173004Z
LAST-MODIFIED:20241119T173004Z
UID:74509-1732352400-1732395600@odessaarts.org
SUMMARY:Santa Landing and Live Skate Show
DESCRIPTION:About the eventSanta Landing and Live Skate Show \nCome see Santa land his sleigh and enjoy a live skate show – it’s gonna be a festive blast! \nAbout this Event \nWelcome to Santa Landing and Live Skate Show! \nhe biggest event of the season is here with Santa’s arrival by Helicopter! Join us for hot cocoa\, our signature selfie snowglobe\, music & more at Music City Mall Odessa. \nMusic City Mall’s biggest annual event is back and bigger than ever. The FREE Santa Landing event begins with hot cocoa and free kid’s activities at 9AM Saturday November 23rd. Back by popular demand is the GIANT SELFIE SNOWGLOBE! You’ll also enjoy live characters\, bounce houses\, Meet Mrs. Clause\, OPD and OFR Meet and Greet\, letters to santa\, refreshments and more! \nSpecial performances will be announced soon. Stick around after Santa lands to watch the free live roller skate show right after\, the LA Roller Entertainment Christmas Spectacular inside MCM Rink N’ Roll.
URL:https://odessaarts.org/event/santa-landing-and-live-skate-show/
LOCATION:Music City Mall\, 4101 E. 42nd Street\, Odessa\, TX\, 79762\, United States
CATEGORIES:Humanities,Music
END:VEVENT
BEGIN:VEVENT
DTSTART;TZID=America/Chicago:20241123T180000
DTEND;TZID=America/Chicago:20241123T210000
DTSTAMP:20260425T053729
CREATED:20241017T220739Z
LAST-MODIFIED:20241017T220739Z
UID:74175-1732384800-1732395600@odessaarts.org
SUMMARY:Live Music with Flair: Matthew Marcus McDaniel
DESCRIPTION:
URL:https://odessaarts.org/event/live-music-with-flair-matthew-marcus-mcdaniel-5/
LOCATION:Flair Taverna\, 2701 JBS Parkway\, Odessa\, Texas
CATEGORIES:Music
ATTACH;FMTTYPE=image/png:https://odessaarts.org/wp-content/uploads/2024/10/Nov-w3-MMM-SQ.png
END:VEVENT
BEGIN:VEVENT
DTSTART;TZID=America/Chicago:20241124T150000
DTEND;TZID=America/Chicago:20241124T150000
DTSTAMP:20260425T053729
CREATED:20240521T202700Z
LAST-MODIFIED:20241112T213107Z
UID:73338-1732460400-1732460400@odessaarts.org
SUMMARY:UTPB Jazz Kettle Concert
DESCRIPTION:
URL:https://odessaarts.org/event/utpb-jazz-kettle-concert/
LOCATION:J. Conrad Dunagan Library\, 4901 E University Blvd\, Odessa\, TX\, 79762\, United States
CATEGORIES:Music
END:VEVENT
END:VCALENDAR