BEGIN:VCALENDAR
VERSION:2.0
PRODID:-//Odessa Arts - ECPv6.15.20//NONSGML v1.0//EN
CALSCALE:GREGORIAN
METHOD:PUBLISH
X-ORIGINAL-URL:https://odessaarts.org
X-WR-CALDESC:Events for Odessa Arts
REFRESH-INTERVAL;VALUE=DURATION:PT1H
X-Robots-Tag:noindex
X-PUBLISHED-TTL:PT1H
BEGIN:VTIMEZONE
TZID:America/Chicago
BEGIN:DAYLIGHT
TZOFFSETFROM:-0600
TZOFFSETTO:-0500
TZNAME:CDT
DTSTART:20240310T080000
END:DAYLIGHT
BEGIN:STANDARD
TZOFFSETFROM:-0500
TZOFFSETTO:-0600
TZNAME:CST
DTSTART:20241103T070000
END:STANDARD
BEGIN:DAYLIGHT
TZOFFSETFROM:-0600
TZOFFSETTO:-0500
TZNAME:CDT
DTSTART:20250309T080000
END:DAYLIGHT
BEGIN:STANDARD
TZOFFSETFROM:-0500
TZOFFSETTO:-0600
TZNAME:CST
DTSTART:20251102T070000
END:STANDARD
BEGIN:DAYLIGHT
TZOFFSETFROM:-0600
TZOFFSETTO:-0500
TZNAME:CDT
DTSTART:20260308T080000
END:DAYLIGHT
BEGIN:STANDARD
TZOFFSETFROM:-0500
TZOFFSETTO:-0600
TZNAME:CST
DTSTART:20261101T070000
END:STANDARD
END:VTIMEZONE
BEGIN:VEVENT
DTSTART;TZID=America/Chicago:20250712T200000
DTEND;TZID=America/Chicago:20250712T200000
DTSTAMP:20260424T171142
CREATED:20250425T143342Z
LAST-MODIFIED:20250425T143342Z
UID:76270-1752350400-1752350400@odessaarts.org
SUMMARY:MARCA REGISTRADA
DESCRIPTION:¡Este 12 de julio no te puedes perder una noche inolvidable con Grupo Marca Registradaen Dos Amigos!El grupo está arrasando con su tour 2025 y trae lo mejor del norteño para que disfrutes a logrande. Ven a cantar\, bailar y pasarla increíble con la música más prendida en Odessa.Hora: 8:00 PMFecha: Sábado\, 12 de julio 2025Ubicación: 4700 N Golder Ave\, Odessa\, TX 21+Reserva tu mesa al(432) 582-0820Compra tus boletos en: www.dosamigostickets.com¡Que no te lo cuenten\, ven a disfrutar con nosotros!#GrupoMarcaRegistrada #DosAmigos #NocheDeMúsica #FiestaMexicana #OdessaTX#MúsicaEnVivo #NocheDeBanda #ReservaTuMesa #Tour2025
URL:https://odessaarts.org/event/marca-registrada/
LOCATION:Dos Amigos\, 4700 N.Golder Ave\, Odessa\, TX\, 79764\, United States
CATEGORIES:Music
END:VEVENT
BEGIN:VEVENT
DTSTART;TZID=America/Chicago:20250713T190000
DTEND;TZID=America/Chicago:20250713T200000
DTSTAMP:20260424T171142
CREATED:20250708T204528Z
LAST-MODIFIED:20250708T205415Z
UID:76439-1752433200-1752436800@odessaarts.org
SUMMARY:Bella Music Foundation Concert Series
DESCRIPTION:This event is part of the 2025 Bella Music Foundation Concert Series\, supporting the BMF International Music Festival for the Blind at the UNESCO House in Paris this fall. \nThis uplifting concert will feature performances by: \n\nYoung K. Whiting\, piano (Music Director)\nHyang Jo\, bass\nMira Kim\, piano\n\nThe diverse program includes classical pieces\, spirituals\, and personal testimonies\, all performed by talented musicians including those who are blind or visually impaired. It’s a heartfelt celebration of music\, inclusion\, and community.
URL:https://odessaarts.org/event/bella-music-foundation-concert-series/
LOCATION:First Presbyterian Church Odessa\, 1401 N. Sam Houston\, Odessa\, TX\, 79761\, United States
CATEGORIES:Music
END:VEVENT
BEGIN:VEVENT
DTSTART;TZID=America/Chicago:20250717T190000
DTEND;TZID=America/Chicago:20250717T190000
DTSTAMP:20260424T171142
CREATED:20250421T205943Z
LAST-MODIFIED:20250421T205943Z
UID:76083-1752778800-1752778800@odessaarts.org
SUMMARY:America: The Encore Tour 2025
DESCRIPTION:The iconic multi-platinum-selling group AMERICA will celebrate their 55th anniversary with a series of tour dates in 2025. Billed as “Encore Tour 2025.” Known for their timeless magic and powerful performances\, the Grammy Award-winning perennial classic-rock favorite will draw on their deep catalog of hits including signature song “A Horse With No Name\,” a Number One hit on Billboard’s Hot 100 in 1972. \nOn their way to becoming a global household name\, AMERICA’s journey found them exploring a wide variety of musical terrain. Their best-known tunes\, which also include “I Need You\,” “Ventura Highway\,” “Don’t Cross The River\,” “Tin Man\,” “Lonely People\,” and “Sister Golden Hair” were cornerstones of 1970’s Top 40 and FM rock radio. Yet beyond their impressive catalog of hits\, listeners would discover there was always much more to AMERICA than surface perceptions. The combination of melodic pop rock and folk-jazz elements\, slinky Latin-leaning rhythms and impressionistic lyric imagery contrasted well with other more traditional country-rock leanings and highly personal lyrics.
URL:https://odessaarts.org/event/america-the-encore-tour-2025/
LOCATION:Wagner Noël Performing Arts Center\, 1310 FM 1788\, Midland\, Texas
CATEGORIES:Music
END:VEVENT
BEGIN:VEVENT
DTSTART;TZID=America/Chicago:20250718T200000
DTEND;TZID=America/Chicago:20250718T200000
DTSTAMP:20260424T171142
CREATED:20250325T153813Z
LAST-MODIFIED:20250325T153813Z
UID:75921-1752868800-1752868800@odessaarts.org
SUMMARY:Polo Urias y La Maquina Norteña\, Los Jilgueros\, Los Marineros y Adolfo Urias
DESCRIPTION:
URL:https://odessaarts.org/event/polo-urias-y-la-maquina-nortena-los-jilgueros-los-marineros-y-adolfo-urias/
LOCATION:La Hacienda Event Center\, 12600 TX-191 Hwy\, Midland\, TX\, 79705\, United States
CATEGORIES:Music
END:VEVENT
BEGIN:VEVENT
DTSTART;TZID=America/Chicago:20250718T200000
DTEND;TZID=America/Chicago:20250718T200000
DTSTAMP:20260424T171142
CREATED:20250425T141517Z
LAST-MODIFIED:20250425T141517Z
UID:76259-1752868800-1752868800@odessaarts.org
SUMMARY:Polo Urias y La Maquina Norteña\, Los Jilgueros\, Los Marineros y Adolfo Urias
DESCRIPTION:
URL:https://odessaarts.org/event/polo-urias-y-la-maquina-nortena-los-jilgueros-los-marineros-y-adolfo-urias-2/
LOCATION:La Hacienda Event Center\, 12600 TX-191 Hwy\, Midland\, TX\, 79705\, United States
CATEGORIES:Music
END:VEVENT
BEGIN:VEVENT
DTSTART;TZID=America/Chicago:20250726T180000
DTEND;TZID=America/Chicago:20250726T180000
DTSTAMP:20260424T171142
CREATED:20250425T152830Z
LAST-MODIFIED:20250425T152830Z
UID:76288-1753552800-1753552800@odessaarts.org
SUMMARY:Corey Kent
DESCRIPTION:**THIS IS AN 18 AND UP EVENT! $10 minor upcharge. 18-20 year olds will have to pay $10 at the door. Anyone below the age of 18 will not be allowed entry. \nTicket Prices:\n\n\n• General Admission – $25.00 / Day of Show $35.00\n\n• Couch Sectional (Price includes entry for 8 people) $700.00\n• Rectangle Table (Price includes entry for 8 people) $675.00\n• Round Table (Price includes entry for 8 people) $650.00\n\n• Table for 4 (Price includes entry for 4 people) $338.00\n• Standing VIP ticket $65.00 / Day of Show $75.00\n\n\n\nDoors at 6pm. No re-entry. Clear bag policy. No lawn chairs permitted. Food trucks on site. \nThis is a rain or shine event. No refunds. \n\nTicket prices increase on the date of the performance. 
URL:https://odessaarts.org/event/corey-kent/
LOCATION:The Tailgate Midland\, 4401 N Big Spring\, Midland\, TX\, 79705\, United States
CATEGORIES:Music
END:VEVENT
END:VCALENDAR