BEGIN:VCALENDAR
VERSION:2.0
PRODID:-//Odessa Arts - ECPv6.15.20//NONSGML v1.0//EN
CALSCALE:GREGORIAN
METHOD:PUBLISH
X-WR-CALNAME:Odessa Arts
X-ORIGINAL-URL:https://odessaarts.org
X-WR-CALDESC:Events for Odessa Arts
REFRESH-INTERVAL;VALUE=DURATION:PT1H
X-Robots-Tag:noindex
X-PUBLISHED-TTL:PT1H
BEGIN:VTIMEZONE
TZID:America/Chicago
BEGIN:DAYLIGHT
TZOFFSETFROM:-0600
TZOFFSETTO:-0500
TZNAME:CDT
DTSTART:20240310T080000
END:DAYLIGHT
BEGIN:STANDARD
TZOFFSETFROM:-0500
TZOFFSETTO:-0600
TZNAME:CST
DTSTART:20241103T070000
END:STANDARD
BEGIN:DAYLIGHT
TZOFFSETFROM:-0600
TZOFFSETTO:-0500
TZNAME:CDT
DTSTART:20250309T080000
END:DAYLIGHT
BEGIN:STANDARD
TZOFFSETFROM:-0500
TZOFFSETTO:-0600
TZNAME:CST
DTSTART:20251102T070000
END:STANDARD
BEGIN:DAYLIGHT
TZOFFSETFROM:-0600
TZOFFSETTO:-0500
TZNAME:CDT
DTSTART:20260308T080000
END:DAYLIGHT
BEGIN:STANDARD
TZOFFSETFROM:-0500
TZOFFSETTO:-0600
TZNAME:CST
DTSTART:20261101T070000
END:STANDARD
END:VTIMEZONE
BEGIN:VEVENT
DTSTART;TZID=America/Chicago:20251204T193000
DTEND;TZID=America/Chicago:20251204T193000
DTSTAMP:20260424T032253
CREATED:20251202T170040Z
LAST-MODIFIED:20251202T170040Z
UID:77007-1764876600-1764876600@odessaarts.org
SUMMARY:A VERY MERRY MOJO CHRISTMAS CONCERT A VERY MERRY MOJO CHRISTMAS CONCERT
DESCRIPTION:featuring the Permian Band\, Choir & Orchestra\n\n\n\n\n\n\nWagner Noël Performing Arts Center\n\n  December 4\, 2025 7:30 PM\nDoors Open: 6:30 PM\n\n\n\n\n\nRESERVED SEATING – $22.40($15.00 Ticket price + $7.40 fees)All In Pricing Includes Convenience Fees \n\n\n\n \n\nALL PATRONS\, INCLUDING LAP CHILDREN\, INFANTS & BABIES\, WILL REQUIRE A TICKET FOR ENTRY FOR ALL TICKETED PERFORMANCES. \n\nPLEASE REVIEW CART CAREFULLY BEFORE COMPLETING YOUR PURCHASE\nALL SALES FINAL. NO REFUNDS OR EXCHANGES
URL:https://odessaarts.org/event/a-very-merry-mojo-christmas-concert-a-very-merry-mojo-christmas-concert/
LOCATION:Wagner Noël Performing Arts Center\, 1310 FM 1788\, Midland\, Texas
CATEGORIES:Music
END:VEVENT
BEGIN:VEVENT
DTSTART;TZID=America/Chicago:20251206T140000
DTEND;TZID=America/Chicago:20251206T140000
DTSTAMP:20260424T032253
CREATED:20250422T165507Z
LAST-MODIFIED:20250422T165507Z
UID:76099-1765029600-1765029600@odessaarts.org
SUMMARY:West Texas Symphony Sounds of the Season
DESCRIPTION:West Texas’ favorite holiday tradition featuring your symphony orchestra\, instrumental chamber ensembles\, and choral groups!
URL:https://odessaarts.org/event/west-texas-symphony-sounds-of-the-season/2025-12-06/
LOCATION:Wagner Noël Performing Arts Center\, 1310 FM 1788\, Midland\, Texas
CATEGORIES:Music
END:VEVENT
BEGIN:VEVENT
DTSTART;TZID=America/Chicago:20251206T193000
DTEND;TZID=America/Chicago:20251206T193000
DTSTAMP:20260424T032253
CREATED:20250825T185155Z
LAST-MODIFIED:20250825T185155Z
UID:76644-1765049400-1765049400@odessaarts.org
SUMMARY:SOUNDS OF THE SEASON
DESCRIPTION:SOUNDS OF THE SEASON\nSaturday\, December 6\, 2025\n2:00 PM | Wagner Noël Performing Arts Center\n7:30 PM | Wagner Noël Performing Arts Center\nGary Lewis\, Conductor \nWest Texas’ favorite holiday tradition featuring your symphony orchestra\, instrumental chamber ensembles\, and choral groups! \nTickets $46 – $83\, Students $12\nCLICK TO PURCHASE TICKETS ONLINE\n800-514-3849
URL:https://odessaarts.org/event/sounds-of-the-season-3/
LOCATION:Wagner Noël Performing Arts Center\, 1310 FM 1788\, Midland\, Texas
CATEGORIES:Music
END:VEVENT
BEGIN:VEVENT
DTSTART;TZID=America/Chicago:20251209T093000
DTEND;TZID=America/Chicago:20251209T103000
DTSTAMP:20260424T032253
CREATED:20251202T163444Z
LAST-MODIFIED:20251202T163444Z
UID:77002-1765272600-1765276200@odessaarts.org
SUMMARY:Christmas Concert - The City Manager's Office and Milan Fine Arts Academy
DESCRIPTION:
URL:https://odessaarts.org/event/christmas-concert-the-city-managers-office-and-milan-fine-arts-academy/
LOCATION:TX
CATEGORIES:Music
END:VEVENT
BEGIN:VEVENT
DTSTART;TZID=America/Chicago:20251209T193000
DTEND;TZID=America/Chicago:20251209T193000
DTSTAMP:20260424T032253
CREATED:20250820T155639Z
LAST-MODIFIED:20250820T155639Z
UID:76616-1765308600-1765308600@odessaarts.org
SUMMARY:Erica Lane: Here We Come A Caroling
DESCRIPTION:Join Midland’s own Erica Lane and her world-class band for a thrill ride of Christmas carols and originals. Feel the nostalgia of Yuletide with jazz\, pop\, and Celtic infusions that embody Erica’s stylistic artistry. This exhilarating performance coincides with her 2025 holiday album release\, “Here We Come a Caroling\,” produced by eight-time Grammy winner Danny Duncan and recorded live at Blue Rock Artist Ranch and Studio in Wimberley\, TX. Alongside her stellar musicians from around the country\, Erica Lane has reimagined a seasonal tour that radiates excitement\, warmth\, and togetherness\, leaving every person in the room bursting with wistful fun and holiday cheer.
URL:https://odessaarts.org/event/erica-lane-here-we-come-a-caroling/
LOCATION:Wagner Noël Performing Arts Center\, 1310 FM 1788\, Midland\, Texas
CATEGORIES:Music
END:VEVENT
BEGIN:VEVENT
DTSTART;TZID=America/Chicago:20251209T193000
DTEND;TZID=America/Chicago:20251209T193000
DTSTAMP:20260424T032253
CREATED:20251208T155541Z
LAST-MODIFIED:20251208T155541Z
UID:77014-1765308600-1765308600@odessaarts.org
SUMMARY:ERICA LANE: HERE WE COME A CAROLING
DESCRIPTION:ERICA LANE: HERE WE COME A CAROLING\n\n\nWagner Noël Performing Arts Center\n\n   December 9\, 2025 7:30 PM\nDoors Open: 6:30 PM\n\n\n\n\n\n\nBRAND NEW MAP Stage is now located at the top of this map\n\n\n\nTICKET PRICES $89.20 – $50.17\nAll In Pricing Includes Convenience Fees\nReserved Seating \n\n\nVIP SALES HAVE ENDED\n\nVIP PHOTO OPPORTUNITY – $111.50\nAll In Pricing Includes Convenience Fees\n\n\nPre-Show VIP includes an autographed vinyl record \nand photo op with Erica and the band after soundcheck.
URL:https://odessaarts.org/event/erica-lane-here-we-come-a-caroling-2/
LOCATION:Wagner Noël Performing Arts Center\, 1310 FM 1788\, Midland\, Texas
CATEGORIES:Music
END:VEVENT
BEGIN:VEVENT
DTSTART;TZID=America/Chicago:20251210T190000
DTEND;TZID=America/Chicago:20251210T190000
DTSTAMP:20260424T032253
CREATED:20251208T155837Z
LAST-MODIFIED:20251208T155837Z
UID:77016-1765393200-1765393200@odessaarts.org
SUMMARY:HCCM'S MARIACHI CHRISTMAS CONCERT
DESCRIPTION:Hispanic Cultural Center Midland Presents\nHCCM’S MARIACHI CHRISTMAS CONCERT\n \n\n\nWagner Noël Performing Arts Center\n\n   December 10\, 2025 7:00 PM\nDoors Open: 6:00 PM\n\n\n\n\n\nRESERVED SEATING \nADULTS $47.64All In Pricing Includes Convenience Fees \nCHILDREN (12 & Under) – $27.04\nAll In Pricing Includes Convenience Fees
URL:https://odessaarts.org/event/hccms-mariachi-christmas-concert/
LOCATION:Wagner Noël Performing Arts Center\, 1310 FM 1788\, Midland\, Texas
CATEGORIES:Music
END:VEVENT
BEGIN:VEVENT
DTSTART;TZID=America/Chicago:20251216T193000
DTEND;TZID=America/Chicago:20251216T193000
DTSTAMP:20260424T032253
CREATED:20250422T171003Z
LAST-MODIFIED:20250422T171003Z
UID:76101-1765913400-1765913400@odessaarts.org
SUMMARY:Lone Star Brass - Basin Brass Christmas Bonanza
DESCRIPTION:
URL:https://odessaarts.org/event/lone-star-brass-basin-brass-christmas-bonanza/
LOCATION:Wagner Noël Performing Arts Center\, 1310 FM 1788\, Midland\, Texas
CATEGORIES:Music
END:VEVENT
BEGIN:VEVENT
DTSTART;TZID=America/Chicago:20251216T193000
DTEND;TZID=America/Chicago:20251216T193000
DTSTAMP:20260424T032253
CREATED:20251210T222421Z
LAST-MODIFIED:20251210T222421Z
UID:77032-1765913400-1765913400@odessaarts.org
SUMMARY:Basin Brass Christmas Bonanza
DESCRIPTION:
URL:https://odessaarts.org/event/basin-brass-christmas-bonanza/
LOCATION:St Anns Catholic Church\, 1906 W. Texas Avenue\, Midland\, TX\, 79701\, United States
CATEGORIES:Music
END:VEVENT
BEGIN:VEVENT
DTSTART;TZID=America/Chicago:20251220T140000
DTEND;TZID=America/Chicago:20251220T140000
DTSTAMP:20260424T032253
CREATED:20250911T172427Z
LAST-MODIFIED:20250911T172427Z
UID:76774-1766239200-1766239200@odessaarts.org
SUMMARY:The Nutcracker
DESCRIPTION:Epic battles\, lands made of sweets\, living toys and even fairies\, there’s something for the whole family to enjoy! \nSince 1994\, Midland Festival Ballet’s annual production of The Nutcracker has been a culmination of the community’s effort and talent. While MFB facilitates the production\, the cast is comprised of over a hundred students from dance studios all over West Texas. (Midland\, Odessa\, Andrews\, Greenwood\, even Big Spring!) The principal roles are filled by dancers from premiere professional ballet companies across the country\, a treat for both the students and the audience. (Guests TBA.) Live orchestral accompaniment\, provided by the West Texas Symphony\, takes the performance to another level. \nExperience the magic and make Midland Festival Ballet’s The Nutcracker part of your holiday plans!
URL:https://odessaarts.org/event/the-nutcracker/
LOCATION:Wagner Noël Performing Arts Center\, 1310 FM 1788\, Midland\, Texas
CATEGORIES:Humanities,Music,Public Art,Theatre & Literary Arts,Visual Arts
END:VEVENT
BEGIN:VEVENT
DTSTART;TZID=America/Chicago:20251220T193000
DTEND;TZID=America/Chicago:20251220T193000
DTSTAMP:20260424T032253
CREATED:20250911T173918Z
LAST-MODIFIED:20250911T173918Z
UID:76776-1766259000-1766259000@odessaarts.org
SUMMARY:The Nutcracker
DESCRIPTION:Epic battles\, lands made of sweets\, living toys and even fairies\, there’s something for the whole family to enjoy! \nSince 1994\, Midland Festival Ballet’s annual production of The Nutcracker has been a culmination of the community’s effort and talent. While MFB facilitates the production\, the cast is comprised of over a hundred students from dance studios all over West Texas. (Midland\, Odessa\, Andrews\, Greenwood\, even Big Spring!) The principal roles are filled by dancers from premiere professional ballet companies across the country\, a treat for both the students and the audience. (Guests TBA.) Live orchestral accompaniment\, provided by the West Texas Symphony\, takes the performance to another level. \nExperience the magic and make Midland Festival Ballet’s The Nutcracker part of your holiday plans!
URL:https://odessaarts.org/event/the-nutcracker-2/
LOCATION:Wagner Noël Performing Arts Center\, 1310 FM 1788\, Midland\, Texas
CATEGORIES:Humanities,Music,Public Art,Theatre & Literary Arts,Visual Arts
END:VEVENT
BEGIN:VEVENT
DTSTART;TZID=America/Chicago:20251221T140000
DTEND;TZID=America/Chicago:20251221T140000
DTSTAMP:20260424T032253
CREATED:20250911T174623Z
LAST-MODIFIED:20250911T174623Z
UID:76778-1766325600-1766325600@odessaarts.org
SUMMARY:The Nutcracker
DESCRIPTION:Epic battles\, lands made of sweets\, living toys and even fairies\, there’s something for the whole family to enjoy! \nSince 1994\, Midland Festival Ballet’s annual production of The Nutcracker has been a culmination of the community’s effort and talent. While MFB facilitates the production\, the cast is comprised of over a hundred students from dance studios all over West Texas. (Midland\, Odessa\, Andrews\, Greenwood\, even Big Spring!) The principal roles are filled by dancers from premiere professional ballet companies across the country\, a treat for both the students and the audience. (Guests TBA.) Live orchestral accompaniment\, provided by the West Texas Symphony\, takes the performance to another level. \nExperience the magic and make Midland Festival Ballet’s The Nutcracker part of your holiday plans!
URL:https://odessaarts.org/event/the-nutcracker-3/
LOCATION:Wagner Noël Performing Arts Center\, 1310 FM 1788\, Midland\, Texas
CATEGORIES:Humanities,Music,Public Art,Theatre & Literary Arts,Visual Arts
END:VEVENT
BEGIN:VEVENT
DTSTART;TZID=America/Chicago:20251231T200000
DTEND;TZID=America/Chicago:20251231T200000
DTSTAMP:20260424T032253
CREATED:20251208T203411Z
LAST-MODIFIED:20251208T203411Z
UID:77018-1767211200-1767211200@odessaarts.org
SUMMARY:Conjunto Amanecer in Odessa
DESCRIPTION:Date & Location\n \n\nWed\, 31 Dec\, 2025 at 08:00 pm – Thu\, 01 Jan\, 2026 at 12:00 am (CST)  \n\n\n \n\nFar West Center \nFar West Center\, Odessa\, TX\, United States \n\n\n\n\nAbout the event\nConjunto Amanecer in Odessa \n\n🎶 Don’t Miss Conjunto Amanecer Live in Odessa on Wednesday\, December 31\, 2025! 🎶\nAre you ready to experience Conjunto Amanecer like never before? With chart-topping hits like El Peor de Mis Fracasos\, Por las Calles de Chihuahua and Antes de Que Te Vayas and 93.3K+ devoted fans\, Conjunto Amanecer is taking over Far West Center this Wednesday\, December 31\, 2025\, and trust us\, you don’t want to miss this. \nWith multiple shows lined up\, this one ensures to be the ultimate musical experience\, where the energy of Conjunto Amanecer will make you dance\, sing\, and maybe even cry (in a good way). \nEvent Details: \n📅 Date: Wednesday\, December 31\, 2025\n⏰ Time: 8:00 PM\n📍 Venue: Far West Center \nExpect an unforgettable performance featuring all your favorite songs and some surprises you’ve never heard before. So\, If you’re discovering Conjunto Amanecer for the first time\, this show will blow your mind. \nWhy This Show is Unmissable\nWith over 276K+ fans streaming their music monthly and viral singles in every playlist\, Conjunto Amanecer is at the peak of their career. If you’re a long-time fan or just love the buzz\, this show will be one for the books. \nP.S. – You don’t want to be that person who hears about it later! We will not let you miss this in any way!😉 \nArtist’s Power Move\nConjunto Amanecer has been setting the stage on fire with performances that leave fans begging for more. With an incredible setlist and live versions of your favorite songs\, you’ll leave with stories to tell (and maybe a few epic selfies). Follow Conjunto Amanecer on AllEvents to get hyped for the event! \n🎟️ Book Your Tickets Now! 🎟️\nThis is your chance to witness Conjunto Amanecer live and in their element. Grab your tickets now for Conjunto Amanecer in Odessa at Far West Center and be part of a night that everyone will be talking about. Don’t wait—tickets are selling fast. \n  \n  \n\n\n\n 
URL:https://odessaarts.org/event/conjunto-amanecer-in-odessa/
LOCATION:Far West Center
CATEGORIES:Music
END:VEVENT
BEGIN:VEVENT
DTSTART;TZID=America/Chicago:20251231T200000
DTEND;TZID=America/Chicago:20251231T200000
DTSTAMP:20260424T032253
CREATED:20251229T162458Z
LAST-MODIFIED:20251229T162458Z
UID:77069-1767211200-1767211200@odessaarts.org
SUMMARY:New Year's Eve Celebration
DESCRIPTION:Wed\, 31 Dec\, 2025 at 08:00 pm\nFarwest Odessa
URL:https://odessaarts.org/event/new-years-eve-celebration/
LOCATION:Farwest\, 5850 W University Blvd. #200\, Odessa\, TX\, 79764\, United States
CATEGORIES:Music
END:VEVENT
END:VCALENDAR