BEGIN:VCALENDAR
VERSION:2.0
PRODID:-//Odessa Arts - ECPv6.15.20//NONSGML v1.0//EN
CALSCALE:GREGORIAN
METHOD:PUBLISH
X-WR-CALNAME:Odessa Arts
X-ORIGINAL-URL:https://odessaarts.org
X-WR-CALDESC:Events for Odessa Arts
REFRESH-INTERVAL;VALUE=DURATION:PT1H
X-Robots-Tag:noindex
X-PUBLISHED-TTL:PT1H
BEGIN:VTIMEZONE
TZID:America/Chicago
BEGIN:DAYLIGHT
TZOFFSETFROM:-0600
TZOFFSETTO:-0500
TZNAME:CDT
DTSTART:20230312T080000
END:DAYLIGHT
BEGIN:STANDARD
TZOFFSETFROM:-0500
TZOFFSETTO:-0600
TZNAME:CST
DTSTART:20231105T070000
END:STANDARD
BEGIN:DAYLIGHT
TZOFFSETFROM:-0600
TZOFFSETTO:-0500
TZNAME:CDT
DTSTART:20240310T080000
END:DAYLIGHT
BEGIN:STANDARD
TZOFFSETFROM:-0500
TZOFFSETTO:-0600
TZNAME:CST
DTSTART:20241103T070000
END:STANDARD
BEGIN:DAYLIGHT
TZOFFSETFROM:-0600
TZOFFSETTO:-0500
TZNAME:CDT
DTSTART:20250309T080000
END:DAYLIGHT
BEGIN:STANDARD
TZOFFSETFROM:-0500
TZOFFSETTO:-0600
TZNAME:CST
DTSTART:20251102T070000
END:STANDARD
END:VTIMEZONE
BEGIN:VEVENT
DTSTART;TZID=America/Chicago:20240321T180000
DTEND;TZID=America/Chicago:20240321T210000
DTSTAMP:20260425T210339
CREATED:20240206T211747Z
LAST-MODIFIED:20240206T215530Z
UID:72399-1711044000-1711054800@odessaarts.org
SUMMARY:Jazz Nights with Flair: Craig Elliott Jazz Quartet
DESCRIPTION:
URL:https://odessaarts.org/event/jazz-nights-with-flair-craig-elliott-jazz-quartet-2/
LOCATION:Flair Taverna\, 2701 JBS Parkway\, Odessa\, Texas
CATEGORIES:Music
ATTACH;FMTTYPE=image/png:https://odessaarts.org/wp-content/uploads/2024/02/Flair-March-w3-Craig-Elliott-SQ-1.png
END:VEVENT
BEGIN:VEVENT
DTSTART;TZID=America/Chicago:20240321T193000
DTEND;TZID=America/Chicago:20240321T193000
DTSTAMP:20260425T210339
CREATED:20231213T213807Z
LAST-MODIFIED:20231213T213807Z
UID:72051-1711049400-1711049400@odessaarts.org
SUMMARY:Lone Star Brass - Spring Recital
DESCRIPTION:This event will not be held at Wagner Noël PAC. Wagner Noël will sell tickets for the performance on behalf of the West Texas Symphony.  \nThe event will be held at the ART COUNCIL OF MIDLAND located at 1506 W ILLINOIS AVE\, MIDLAND TX
URL:https://odessaarts.org/event/lone-star-brass-spring-recital/
LOCATION:Arts Council of Midland\, 806 S. Main Street\, Midland\, TX\, 79701\, United States
CATEGORIES:Music
END:VEVENT
END:VCALENDAR