BEGIN:VCALENDAR
VERSION:2.0
PRODID:-//Odessa Arts - ECPv6.15.20//NONSGML v1.0//EN
CALSCALE:GREGORIAN
METHOD:PUBLISH
X-WR-CALNAME:Odessa Arts
X-ORIGINAL-URL:https://odessaarts.org
X-WR-CALDESC:Events for Odessa Arts
REFRESH-INTERVAL;VALUE=DURATION:PT1H
X-Robots-Tag:noindex
X-PUBLISHED-TTL:PT1H
BEGIN:VTIMEZONE
TZID:America/Chicago
BEGIN:DAYLIGHT
TZOFFSETFROM:-0600
TZOFFSETTO:-0500
TZNAME:CDT
DTSTART:20230312T080000
END:DAYLIGHT
BEGIN:STANDARD
TZOFFSETFROM:-0500
TZOFFSETTO:-0600
TZNAME:CST
DTSTART:20231105T070000
END:STANDARD
BEGIN:DAYLIGHT
TZOFFSETFROM:-0600
TZOFFSETTO:-0500
TZNAME:CDT
DTSTART:20240310T080000
END:DAYLIGHT
BEGIN:STANDARD
TZOFFSETFROM:-0500
TZOFFSETTO:-0600
TZNAME:CST
DTSTART:20241103T070000
END:STANDARD
BEGIN:DAYLIGHT
TZOFFSETFROM:-0600
TZOFFSETTO:-0500
TZNAME:CDT
DTSTART:20250309T080000
END:DAYLIGHT
BEGIN:STANDARD
TZOFFSETFROM:-0500
TZOFFSETTO:-0600
TZNAME:CST
DTSTART:20251102T070000
END:STANDARD
END:VTIMEZONE
BEGIN:VEVENT
DTSTART;TZID=America/Chicago:20240323T180000
DTEND;TZID=America/Chicago:20240323T210000
DTSTAMP:20260425T204113
CREATED:20240206T212332Z
LAST-MODIFIED:20240206T212332Z
UID:72405-1711216800-1711227600@odessaarts.org
SUMMARY:Live Music with Flair: Dan Fruehauf
DESCRIPTION:
URL:https://odessaarts.org/event/live-music-with-flair-dan-fruehauf/
LOCATION:Flair Taverna\, 2701 JBS Parkway\, Odessa\, Texas
CATEGORIES:Music
ATTACH;FMTTYPE=image/png:https://odessaarts.org/wp-content/uploads/2024/02/Dan-Fruehauf-SQ.png
END:VEVENT
BEGIN:VEVENT
DTSTART;TZID=America/Chicago:20240323T190000
DTEND;TZID=America/Chicago:20240323T213000
DTSTAMP:20260425T204113
CREATED:20240209T175043Z
LAST-MODIFIED:20240209T175043Z
UID:72435-1711220400-1711229400@odessaarts.org
SUMMARY:Mr. Capone-E + Amanda Perez
DESCRIPTION:Pre-sale is open now! General sales open Friday\, 2/9 at 2:00 PM.\n\nJoin us for an unforgettable night with the renowned Mr. Capone-e and Amanda Perez at The Ector Theatre in Downtown Odessa\, Texas on Saturday\, March 23\, 2024! We will be featuring all of their classic hits\, so don’t miss out on this amazing concert experience.
URL:https://odessaarts.org/event/mr-capone-e-amanda-perez/
LOCATION:The Ector Theatre\, 500 N. Texas\, Odessa\, TX\, 79761\, United States
CATEGORIES:Music
END:VEVENT
BEGIN:VEVENT
DTSTART;TZID=America/Chicago:20240323T190000
DTEND;TZID=America/Chicago:20240323T220000
DTSTAMP:20260425T204113
CREATED:20240318T163506Z
LAST-MODIFIED:20240318T163506Z
UID:72825-1711220400-1711231200@odessaarts.org
SUMMARY:Live Music at Homemade Wines
DESCRIPTION:Hop into Homemade Wines every Saturday from 7pm – 10pm and enjoy live music from a local artist! 
URL:https://odessaarts.org/event/live-music-at-homemade-wines-4/
LOCATION:Homemade Wines\, 400 N. Texas Avenue\, Odessa\, 79761\, United States
CATEGORIES:Music
END:VEVENT
BEGIN:VEVENT
DTSTART;TZID=America/Chicago:20240323T200000
DTEND;TZID=America/Chicago:20240323T200000
DTSTAMP:20260425T204113
CREATED:20231213T213311Z
LAST-MODIFIED:20231213T213311Z
UID:72048-1711224000-1711224000@odessaarts.org
SUMMARY:Flatland Cavalry
DESCRIPTION:Flatland Cavalry is breaking out into a gallop. After years of hot trotting across their native Texas\,the country outfit is primed for a breakout with the release of their third full-length album\, thesonically sprawling and wistfully written Welcome to Countryland. \nThe Texas sextet––band leader and chief lyricist Cleto Cordero\, guitarist Reid Dillon\, bassist Jonathan Saenz\, drummer Jason Albers\, fiddle player Wesley Hall\, and utility instrumentalist Adam Gallegos––continue to embrace their trademark sound while further pushing into the wildunknown. When it was time to embark on recording a new album\, resting on their laurels wassimply out of the realm of possibilities. \nFollowing the release of 2019’s critically-acclaimed Homeland Insecurityand their 2016 full-length debut Humble Folks\, they’ve been on a healthy trajectory rising through the country ranks. After years of working with Lubbock stalwart Scott Faris in the friendly confines of Amusement ParkStudios\, Flatland decided a change ofscenery was necessary. Despite some hesitation and a mixof emotions\, they instantly knew recording at Nashville’s Sound Emporium Studio A with rising producer Jake Gear was the right move.Since its release\, Welcome To Countryland has garnered criticalpraise from Rolling Stone\, Wall Street Journal\, Holler\, Whiskey Riff\, Brooklyn Vegan and many other outlets. The band concluded their hugely successful Welcome To Countryland Tour by selling out Billy Bob’s Texas inDecember 2021\, and kicked off 2022 with the release of the Far Out West Sessions. \nThese stripped-down\, one-take acoustic performance videos of their 2021 hits recorded on-site in thevast deserts and mountain ranges of Far West Texas were an instant hit with fans\, so the bandreleased the tapes on streaming platforms and embarked on the Far Out West Tour. \nWith tour dates from Seattle to London\, festival debuts from C2C to Stagecoach\, and covetedsupport slots with Luke Combs\, Eric Church and more\, the Far Out West Tour brought Flatland Cavalry to new corners of the globe. As 2022 neared its end they surprise-released the highly anticipated single “Mountain Song” and announced an EP to arrive in the Fall. \nWith more new music on the horizon\, 17 upcoming stadium shows with Luke Combs\, and a stacked touring calendar for 2023\, Flatland Cavalry is approaching global influence in the Country& Folk music world.
URL:https://odessaarts.org/event/flatland-cavalry/
LOCATION:Wagner Noël Performing Arts Center\, 1310 FM 1788\, Midland\, Texas
CATEGORIES:Music
END:VEVENT
END:VCALENDAR