BEGIN:VCALENDAR
VERSION:2.0
PRODID:-//Odessa Arts - ECPv6.15.20//NONSGML v1.0//EN
CALSCALE:GREGORIAN
METHOD:PUBLISH
X-ORIGINAL-URL:https://odessaarts.org
X-WR-CALDESC:Events for Odessa Arts
REFRESH-INTERVAL;VALUE=DURATION:PT1H
X-Robots-Tag:noindex
X-PUBLISHED-TTL:PT1H
BEGIN:VTIMEZONE
TZID:America/Chicago
BEGIN:DAYLIGHT
TZOFFSETFROM:-0600
TZOFFSETTO:-0500
TZNAME:CDT
DTSTART:20230312T080000
END:DAYLIGHT
BEGIN:STANDARD
TZOFFSETFROM:-0500
TZOFFSETTO:-0600
TZNAME:CST
DTSTART:20231105T070000
END:STANDARD
BEGIN:DAYLIGHT
TZOFFSETFROM:-0600
TZOFFSETTO:-0500
TZNAME:CDT
DTSTART:20240310T080000
END:DAYLIGHT
BEGIN:STANDARD
TZOFFSETFROM:-0500
TZOFFSETTO:-0600
TZNAME:CST
DTSTART:20241103T070000
END:STANDARD
BEGIN:DAYLIGHT
TZOFFSETFROM:-0600
TZOFFSETTO:-0500
TZNAME:CDT
DTSTART:20250309T080000
END:DAYLIGHT
BEGIN:STANDARD
TZOFFSETFROM:-0500
TZOFFSETTO:-0600
TZNAME:CST
DTSTART:20251102T070000
END:STANDARD
END:VTIMEZONE
BEGIN:VEVENT
DTSTART;TZID=America/Chicago:20240328T180000
DTEND;TZID=America/Chicago:20240328T210000
DTSTAMP:20260425T222432
CREATED:20240213T182053Z
LAST-MODIFIED:20240213T182053Z
UID:72505-1711648800-1711659600@odessaarts.org
SUMMARY:Jazz Nights with Flair: Moments Notice
DESCRIPTION:
URL:https://odessaarts.org/event/jazz-nights-with-flair-moments-notice-3/
LOCATION:Flair Taverna\, 2701 JBS Parkway\, Odessa\, Texas
CATEGORIES:Music
ATTACH;FMTTYPE=image/png:https://odessaarts.org/wp-content/uploads/2024/02/March-w4-Moments-Notice-SQ-1.png
END:VEVENT
BEGIN:VEVENT
DTSTART;TZID=America/Chicago:20240328T190000
DTEND;TZID=America/Chicago:20240328T220000
DTSTAMP:20260425T222432
CREATED:20240111T210349Z
LAST-MODIFIED:20240111T210349Z
UID:72256-1711652400-1711663200@odessaarts.org
SUMMARY:Nitty Gritty Dirt Band
DESCRIPTION:With a refreshed lineup and newfound energy\, The Nitty Gritty Dirt Band\, featuring founding members Jeff Hanna (lead vocals\, guitar) and Jimmie Fadden (drums\, harmonica\, vocals); Bob Carpenter (keys\, vocals)—a member of the band since 1979; Jim Photoglo (bass\, vocals); Jaime Hanna (guitar\, vocals); and Ross Holmes (fiddle\, harmonica\, vocals); remains one of the most accomplished bands in American roots music. The Nitty Gritty Dirt Band played their first gig in 1966 in Southern California as a jug band and by 1969 had become a cornerstone of the burgeoning country-rock community. Their career breakthrough came in 1970 with the release of the record Uncle Charlie & His Dog Teddy and the single “Mr. Bojangles\,” a folksy Top 10 pop hit that brought folk music to the national forefront. In 1972\, they released the first of three groundbreaking Will The Circle Be Unbroken records\, collaborating with many of the best bluegrass\, Country\, and folk artists in the world. The band also has enjoyed vast success on the U.S. Country charts with hits like “Fishin’ In The Dark\,” “Modern Day Romance\,” and “Stand A Little Rain.” Their latest album\, Dirt Does Dylan—released in 2022—has received widespread critical acclaim. More at https://nittygritty.com/history/. \nBuy Tickets \n 
URL:https://odessaarts.org/event/nitty-gritty-dirt-band/
LOCATION:The Ector Theatre\, 500 N. Texas\, Odessa\, TX\, 79761\, United States
CATEGORIES:Music
END:VEVENT
END:VCALENDAR