BEGIN:VCALENDAR
VERSION:2.0
PRODID:-//Odessa Arts - ECPv6.15.20//NONSGML v1.0//EN
CALSCALE:GREGORIAN
METHOD:PUBLISH
X-WR-CALNAME:Odessa Arts
X-ORIGINAL-URL:https://odessaarts.org
X-WR-CALDESC:Events for Odessa Arts
REFRESH-INTERVAL;VALUE=DURATION:PT1H
X-Robots-Tag:noindex
X-PUBLISHED-TTL:PT1H
BEGIN:VTIMEZONE
TZID:America/Chicago
BEGIN:DAYLIGHT
TZOFFSETFROM:-0600
TZOFFSETTO:-0500
TZNAME:CDT
DTSTART:20230312T080000
END:DAYLIGHT
BEGIN:STANDARD
TZOFFSETFROM:-0500
TZOFFSETTO:-0600
TZNAME:CST
DTSTART:20231105T070000
END:STANDARD
BEGIN:DAYLIGHT
TZOFFSETFROM:-0600
TZOFFSETTO:-0500
TZNAME:CDT
DTSTART:20240310T080000
END:DAYLIGHT
BEGIN:STANDARD
TZOFFSETFROM:-0500
TZOFFSETTO:-0600
TZNAME:CST
DTSTART:20241103T070000
END:STANDARD
BEGIN:DAYLIGHT
TZOFFSETFROM:-0600
TZOFFSETTO:-0500
TZNAME:CDT
DTSTART:20250309T080000
END:DAYLIGHT
BEGIN:STANDARD
TZOFFSETFROM:-0500
TZOFFSETTO:-0600
TZNAME:CST
DTSTART:20251102T070000
END:STANDARD
END:VTIMEZONE
BEGIN:VEVENT
DTSTART;TZID=America/Chicago:20240330T180000
DTEND;TZID=America/Chicago:20240330T210000
DTSTAMP:20260425T220713
CREATED:20240213T182308Z
LAST-MODIFIED:20240213T182308Z
UID:72511-1711821600-1711832400@odessaarts.org
SUMMARY:Live Music with Flair: Cassidy Sooter
DESCRIPTION:
URL:https://odessaarts.org/event/live-music-with-flair-cassidy-sooter-7/
LOCATION:Flair Taverna\, 2701 JBS Parkway\, Odessa\, Texas
CATEGORIES:Music
ATTACH;FMTTYPE=image/png:https://odessaarts.org/wp-content/uploads/2024/02/MARCH-W4-CASSIFY-SQ.png
END:VEVENT
BEGIN:VEVENT
DTSTART;TZID=America/Chicago:20240330T193000
DTEND;TZID=America/Chicago:20240330T193000
DTSTAMP:20260425T220713
CREATED:20240321T193128Z
LAST-MODIFIED:20240321T193128Z
UID:72943-1711827000-1711827000@odessaarts.org
SUMMARY:Permian Basin String Quartet Presents Reflections in C
DESCRIPTION:Join the talented Permian Basin String Quartet for their spring recital March 30th! Tickets are on sale now at 800-514-3849\, https://www.wtxs.org/concerts/pbsq-spring.html or at the door. See you there!
URL:https://odessaarts.org/event/permian-basin-string-quartet-presents-reflections-in-c/
LOCATION:First Methodist Church of Midland\, 300 N Main Street\, Midland\, TX\, 79701\, United States
CATEGORIES:Music
END:VEVENT
END:VCALENDAR