BEGIN:VCALENDAR
VERSION:2.0
PRODID:-//Odessa Arts - ECPv6.15.20//NONSGML v1.0//EN
CALSCALE:GREGORIAN
METHOD:PUBLISH
X-WR-CALNAME:Odessa Arts
X-ORIGINAL-URL:https://odessaarts.org
X-WR-CALDESC:Events for Odessa Arts
REFRESH-INTERVAL;VALUE=DURATION:PT1H
X-Robots-Tag:noindex
X-PUBLISHED-TTL:PT1H
BEGIN:VTIMEZONE
TZID:America/Chicago
BEGIN:DAYLIGHT
TZOFFSETFROM:-0600
TZOFFSETTO:-0500
TZNAME:CDT
DTSTART:20230312T080000
END:DAYLIGHT
BEGIN:STANDARD
TZOFFSETFROM:-0500
TZOFFSETTO:-0600
TZNAME:CST
DTSTART:20231105T070000
END:STANDARD
BEGIN:DAYLIGHT
TZOFFSETFROM:-0600
TZOFFSETTO:-0500
TZNAME:CDT
DTSTART:20240310T080000
END:DAYLIGHT
BEGIN:STANDARD
TZOFFSETFROM:-0500
TZOFFSETTO:-0600
TZNAME:CST
DTSTART:20241103T070000
END:STANDARD
BEGIN:DAYLIGHT
TZOFFSETFROM:-0600
TZOFFSETTO:-0500
TZNAME:CDT
DTSTART:20250309T080000
END:DAYLIGHT
BEGIN:STANDARD
TZOFFSETFROM:-0500
TZOFFSETTO:-0600
TZNAME:CST
DTSTART:20251102T070000
END:STANDARD
END:VTIMEZONE
BEGIN:VEVENT
DTSTART;TZID=America/Chicago:20240419T180000
DTEND;TZID=America/Chicago:20240419T210000
DTSTAMP:20260425T194153
CREATED:20240306T193428Z
LAST-MODIFIED:20240306T193428Z
UID:72618-1713549600-1713560400@odessaarts.org
SUMMARY:Live Music with Flair: Black Gold
DESCRIPTION:
URL:https://odessaarts.org/event/live-music-with-flair-black-gold-10/
LOCATION:Flair Taverna\, 2701 JBS Parkway\, Odessa\, Texas
CATEGORIES:Music
ATTACH;FMTTYPE=image/png:https://odessaarts.org/wp-content/uploads/2024/03/BLACK-GOLD-SQ-1.png
END:VEVENT
BEGIN:VEVENT
DTSTART;TZID=America/Chicago:20240419T190000
DTEND;TZID=America/Chicago:20240419T190000
DTSTAMP:20260425T194153
CREATED:20240223T154717Z
LAST-MODIFIED:20240223T154717Z
UID:72568-1713553200-1713553200@odessaarts.org
SUMMARY:Rodney Carrington
DESCRIPTION:Rodney Carrington is a multi-talented comedian\, actor\, singer and writer playing sold-out shows around the world as one of the top 10 highest-grossing touring comedians for the past two decades. \nA platinum-recording artist\, Rodney’s recorded eight major record label comedy albums\, followed by three albums on his own record label\, Laughter’s Good Records. Rodney is fresh off the release of his latest album\, “Get Em Out\,” (released 2019) which hit #1 on iTunes. His album “Here Comes the Truth” (released 2017) climbed to #3 on the comedy charts\, accruing tens of millions of streams on Spotify and even spawned a Netflix special. \nRodney broke through with his major label comedy CD debut “Hangin’ With Rodney” in 1998. The next few years saw nine more Top 10 comedy albums: Live\, Morning Wood\, Nutsack\, Greatest Hits\, King of the Mountains\, El Nino Loco\, C’mon Laugh You\nBastards\, Laughter’s Good and The Hits\, all of which continue to receive radio airplay\nand regularly place on the national comedy charts. “Hangin’ With Rodney” and “Morning Wood” earned RIAA gold record certification\, and his Greatest Hits (a double CD) album reached platinum status. Rodney also released “Make it Christmas” which features his original song “Camouflage and Christmas Lights\,” a tribute to our military. \nRodney also added “author” to his list of accomplishments with the release of his book\n“Rodney Carrington\, Coming Clean” published by Hatchette Books. \nOver the years\, he’s starred in his own TV sitcom\, “Rodney”\, which ran for two seasons on ABC\, co-wrote and co-starred with Toby Keith in the feature film\, “Beer for My Horses\,” which won the Tex Ritter Award from the ACM\, and starred in his own Netflix special “Here Comes The Truth.” Rodney’s also appeared on countless other TV shows\, including the ACA (American Country Awards)\, hosting the American Country New Year’s Eve Live show on FOX\, and won “Supporting Character of the Year” from the CMT Music Video Awards for his appearance on the Trace Adkins’ music video “I Got My Game On.”
URL:https://odessaarts.org/event/rodney-carrington/
LOCATION:Wagner Noël Performing Arts Center\, 1310 FM 1788\, Midland\, Texas
CATEGORIES:Music
END:VEVENT
END:VCALENDAR