BEGIN:VCALENDAR
VERSION:2.0
PRODID:-//Odessa Arts - ECPv6.15.20//NONSGML v1.0//EN
CALSCALE:GREGORIAN
METHOD:PUBLISH
X-WR-CALNAME:Odessa Arts
X-ORIGINAL-URL:https://odessaarts.org
X-WR-CALDESC:Events for Odessa Arts
REFRESH-INTERVAL;VALUE=DURATION:PT1H
X-Robots-Tag:noindex
X-PUBLISHED-TTL:PT1H
BEGIN:VTIMEZONE
TZID:America/Chicago
BEGIN:DAYLIGHT
TZOFFSETFROM:-0600
TZOFFSETTO:-0500
TZNAME:CDT
DTSTART:20230312T080000
END:DAYLIGHT
BEGIN:STANDARD
TZOFFSETFROM:-0500
TZOFFSETTO:-0600
TZNAME:CST
DTSTART:20231105T070000
END:STANDARD
BEGIN:DAYLIGHT
TZOFFSETFROM:-0600
TZOFFSETTO:-0500
TZNAME:CDT
DTSTART:20240310T080000
END:DAYLIGHT
BEGIN:STANDARD
TZOFFSETFROM:-0500
TZOFFSETTO:-0600
TZNAME:CST
DTSTART:20241103T070000
END:STANDARD
BEGIN:DAYLIGHT
TZOFFSETFROM:-0600
TZOFFSETTO:-0500
TZNAME:CDT
DTSTART:20250309T080000
END:DAYLIGHT
BEGIN:STANDARD
TZOFFSETFROM:-0500
TZOFFSETTO:-0600
TZNAME:CST
DTSTART:20251102T070000
END:STANDARD
END:VTIMEZONE
BEGIN:VEVENT
DTSTART;TZID=America/Chicago:20240420T180000
DTEND;TZID=America/Chicago:20240420T210000
DTSTAMP:20260425T193442
CREATED:20240306T193519Z
LAST-MODIFIED:20240306T193519Z
UID:72620-1713636000-1713646800@odessaarts.org
SUMMARY:Live Music with Flair: Hayden Lewis
DESCRIPTION:
URL:https://odessaarts.org/event/live-music-with-flair-hayden-lewis/
LOCATION:Flair Taverna\, 2701 JBS Parkway\, Odessa\, Texas
CATEGORIES:Music
ATTACH;FMTTYPE=image/png:https://odessaarts.org/wp-content/uploads/2024/03/flair-w3-hayden-lewis.png
END:VEVENT
BEGIN:VEVENT
DTSTART;TZID=America/Chicago:20240420T190000
DTEND;TZID=America/Chicago:20240420T213000
DTSTAMP:20260425T193442
CREATED:20240318T170742Z
LAST-MODIFIED:20240318T170805Z
UID:72842-1713639600-1713648600@odessaarts.org
SUMMARY:Mark Chesnutt
DESCRIPTION:Mark Chesnutt is one of Country’s true musical treasures. Critics have hailed him as a classic Country singer of the first order and some of Country music’s most elite entertainers\, from George Jones to George Strait\, echo the sentiment. \nMark Chesnutt’s stature is easily gauged. He has 14 No. 1 hits\, 23 top ten singles\, four platinum albums and five gold records to his credit; he maintains a front-and-center presence with a hefty tour schedule year after year.  Country music critics and fans alike need look no further when it comes to Country music basics. If you ask Chesnutt\, he’ll tell you\, “It’s the music and the fans that have kept me around this long.” \nIn a creative forum that sometimes confuses style with substance\, Mark Chesnutt possesses both. Remaining true to himself as a traditional country artist\, while keeping the pace with the ever-changing country recording landscape\, Mark Chesnutt has a knack for picking great songs\, delivering them with world-class style and a heart-felt emotion that’s lived-in. \nWith a trademarked voice\, Chesnutt has set the bar for his generation and those that follow in his footsteps shaping the music of today’s country music newcomers and the new country music format. \nMark Chesnutt’s personal integrity combined with his principal to record a genuine country song has made him a fixture on radio and in honky tonks across the globe\, and an all-time country music fan favorite.
URL:https://odessaarts.org/event/mark-chesnutt/
LOCATION:The Ector Theatre\, 500 N. Texas\, Odessa\, TX\, 79761\, United States
CATEGORIES:Music
END:VEVENT
END:VCALENDAR