BEGIN:VCALENDAR
VERSION:2.0
PRODID:-//Odessa Arts - ECPv6.15.20//NONSGML v1.0//EN
CALSCALE:GREGORIAN
METHOD:PUBLISH
X-ORIGINAL-URL:https://odessaarts.org
X-WR-CALDESC:Events for Odessa Arts
REFRESH-INTERVAL;VALUE=DURATION:PT1H
X-Robots-Tag:noindex
X-PUBLISHED-TTL:PT1H
BEGIN:VTIMEZONE
TZID:America/Chicago
BEGIN:DAYLIGHT
TZOFFSETFROM:-0600
TZOFFSETTO:-0500
TZNAME:CDT
DTSTART:20230312T080000
END:DAYLIGHT
BEGIN:STANDARD
TZOFFSETFROM:-0500
TZOFFSETTO:-0600
TZNAME:CST
DTSTART:20231105T070000
END:STANDARD
BEGIN:DAYLIGHT
TZOFFSETFROM:-0600
TZOFFSETTO:-0500
TZNAME:CDT
DTSTART:20240310T080000
END:DAYLIGHT
BEGIN:STANDARD
TZOFFSETFROM:-0500
TZOFFSETTO:-0600
TZNAME:CST
DTSTART:20241103T070000
END:STANDARD
BEGIN:DAYLIGHT
TZOFFSETFROM:-0600
TZOFFSETTO:-0500
TZNAME:CDT
DTSTART:20250309T080000
END:DAYLIGHT
BEGIN:STANDARD
TZOFFSETFROM:-0500
TZOFFSETTO:-0600
TZNAME:CST
DTSTART:20251102T070000
END:STANDARD
END:VTIMEZONE
BEGIN:VEVENT
DTSTART;TZID=America/Chicago:20240423T180000
DTEND;TZID=America/Chicago:20240423T220000
DTSTAMP:20260425T193505
CREATED:20240423T184341Z
LAST-MODIFIED:20240423T184341Z
UID:73102-1713895200-1713909600@odessaarts.org
SUMMARY:Full Moon Party
DESCRIPTION:Join us for our first Full Moon Party of the year!!!  On Tuesday\, April 23rd\, from 6 to 10 pm\, come support your local artists! The party will be located in our parking lot and will feature live music\, food trucks\, your favorite vendors\, and more! Enjoy amazing tattoos by @blackcattattooco\, a cash bar provided by @redoakkitchenodessa\, and music by the talented @mckennakasowski.  Don’t miss out on the fun! 
URL:https://odessaarts.org/event/full-moon-party/
LOCATION:Black Tulip\, 4651 N. Grandview Ave\, Odessa\, TX\, 79762\, United States
CATEGORIES:Music,Visual Arts
END:VEVENT
BEGIN:VEVENT
DTSTART;TZID=America/Chicago:20240423T190000
DTEND;TZID=America/Chicago:20240423T213000
DTSTAMP:20260425T193505
CREATED:20240214T222508Z
LAST-MODIFIED:20240214T222508Z
UID:72524-1713898800-1713907800@odessaarts.org
SUMMARY:Education Foundation:  Nashville Songwriters under the West Texas Stars
DESCRIPTION:
URL:https://odessaarts.org/event/education-foundation-nashville-songwriters-under-the-west-texas-stars/
LOCATION:TX
CATEGORIES:Music
END:VEVENT
END:VCALENDAR