BEGIN:VCALENDAR
VERSION:2.0
PRODID:-//Odessa Arts - ECPv6.15.20//NONSGML v1.0//EN
CALSCALE:GREGORIAN
METHOD:PUBLISH
X-WR-CALNAME:Odessa Arts
X-ORIGINAL-URL:https://odessaarts.org
X-WR-CALDESC:Events for Odessa Arts
REFRESH-INTERVAL;VALUE=DURATION:PT1H
X-Robots-Tag:noindex
X-PUBLISHED-TTL:PT1H
BEGIN:VTIMEZONE
TZID:America/Chicago
BEGIN:DAYLIGHT
TZOFFSETFROM:-0600
TZOFFSETTO:-0500
TZNAME:CDT
DTSTART:20230312T080000
END:DAYLIGHT
BEGIN:STANDARD
TZOFFSETFROM:-0500
TZOFFSETTO:-0600
TZNAME:CST
DTSTART:20231105T070000
END:STANDARD
BEGIN:DAYLIGHT
TZOFFSETFROM:-0600
TZOFFSETTO:-0500
TZNAME:CDT
DTSTART:20240310T080000
END:DAYLIGHT
BEGIN:STANDARD
TZOFFSETFROM:-0500
TZOFFSETTO:-0600
TZNAME:CST
DTSTART:20241103T070000
END:STANDARD
BEGIN:DAYLIGHT
TZOFFSETFROM:-0600
TZOFFSETTO:-0500
TZNAME:CDT
DTSTART:20250309T080000
END:DAYLIGHT
BEGIN:STANDARD
TZOFFSETFROM:-0500
TZOFFSETTO:-0600
TZNAME:CST
DTSTART:20251102T070000
END:STANDARD
END:VTIMEZONE
BEGIN:VEVENT
DTSTART;TZID=America/Chicago:20240505T170000
DTEND;TZID=America/Chicago:20240505T230000
DTSTAMP:20260425T180606
CREATED:20240423T191041Z
LAST-MODIFIED:20240423T191041Z
UID:73112-1714928400-1714950000@odessaarts.org
SUMMARY:Viva La Fiesta 2024:  La Fiera de Ojinaga\, Impostores De Nuevo Leon\, and La Alianza Nortena
DESCRIPTION:The Garriga Law Firm Presents Viva La Fiesta at the Ector County Coliseum\, from Thursday\, May 2\, to Sunday\, May 5\, 2024.\n\nEach day of Viva La Fiesta\, ticket holders can enjoy concerts\, 100+ vendors\, food trucks\, petting zoo\, pig & duck racing\, carnival rides\, sea lion show (sunday only)\, Viva La Charreada (saturday & sunday only) \n\nSUNDAY CONCERTS & SPECIAL EVENTS\n\n\nConcerts include La Fiera de Ojinaga\, Impostores De Nuevo Leon\, and La Alianza Nortena\nCommunity Stage with performances from UTPB’s Ballet Folklorico and more\n\n\n\n\nFIND TICKETS HERE
URL:https://odessaarts.org/event/viva-la-fiesta-2024-la-fiera-de-ojinaga-impostores-de-nuevo-leon-and-la-alianza-nortena/
LOCATION:Ector County Coliseum\, 4201 Andrews Highway\, Odessa\, TX\, 79762\, United States
CATEGORIES:Music
END:VEVENT
END:VCALENDAR