BEGIN:VCALENDAR
VERSION:2.0
PRODID:-//Odessa Arts - ECPv6.15.20//NONSGML v1.0//EN
CALSCALE:GREGORIAN
METHOD:PUBLISH
X-ORIGINAL-URL:https://odessaarts.org
X-WR-CALDESC:Events for Odessa Arts
REFRESH-INTERVAL;VALUE=DURATION:PT1H
X-Robots-Tag:noindex
X-PUBLISHED-TTL:PT1H
BEGIN:VTIMEZONE
TZID:America/Chicago
BEGIN:DAYLIGHT
TZOFFSETFROM:-0600
TZOFFSETTO:-0500
TZNAME:CDT
DTSTART:20230312T080000
END:DAYLIGHT
BEGIN:STANDARD
TZOFFSETFROM:-0500
TZOFFSETTO:-0600
TZNAME:CST
DTSTART:20231105T070000
END:STANDARD
BEGIN:DAYLIGHT
TZOFFSETFROM:-0600
TZOFFSETTO:-0500
TZNAME:CDT
DTSTART:20240310T080000
END:DAYLIGHT
BEGIN:STANDARD
TZOFFSETFROM:-0500
TZOFFSETTO:-0600
TZNAME:CST
DTSTART:20241103T070000
END:STANDARD
BEGIN:DAYLIGHT
TZOFFSETFROM:-0600
TZOFFSETTO:-0500
TZNAME:CDT
DTSTART:20250309T080000
END:DAYLIGHT
BEGIN:STANDARD
TZOFFSETFROM:-0500
TZOFFSETTO:-0600
TZNAME:CST
DTSTART:20251102T070000
END:STANDARD
END:VTIMEZONE
BEGIN:VEVENT
DTSTART;TZID=America/Chicago:20240511T180000
DTEND;TZID=America/Chicago:20240511T210000
DTSTAMP:20260425T182759
CREATED:20240412T181217Z
LAST-MODIFIED:20240412T181217Z
UID:73034-1715450400-1715461200@odessaarts.org
SUMMARY:Live Music with Flair: Dan Fruehauf
DESCRIPTION:
URL:https://odessaarts.org/event/live-music-with-flair-dan-fruehauf-2/
LOCATION:Flair Taverna\, 2701 JBS Parkway\, Odessa\, Texas
CATEGORIES:Music
ATTACH;FMTTYPE=image/png:https://odessaarts.org/wp-content/uploads/2024/04/Flair-May-W2-Dan-fruehauf.png
END:VEVENT
BEGIN:VEVENT
DTSTART;TZID=America/Chicago:20240511T183000
DTEND;TZID=America/Chicago:20240511T183000
DTSTAMP:20260425T182759
CREATED:20240417T200910Z
LAST-MODIFIED:20240417T200910Z
UID:73085-1715452200-1715452200@odessaarts.org
SUMMARY:Tchaikovsky's Musical Gifts 2024 School Showcase
DESCRIPTION:“Every year our students get stronger\, expand their vocabulary\, improve their technique\, and develop their artistry. Celebrate how far each of our students have come this year at Midland Festival Ballet’s 2024 Showcase: Tchaikovsky’s Musical Gifts! \nAll of the music from this year’s Showcase is composed by Tchaikovsky\, primarily from his first hit ballet score\, The Sleeping Beauty. You’ll probably recognize most of the music; Disney’s animated film version actually uses Tchaikovsky’s score! In the original ballet\, there are 6 fairies that bring gifts to the baby Princess Aurora. Each fairy has a variation\, or solo\, during which she bestows her gift. These musical gifts were the inspiration for this year’s showcase theme. To enhance their performing experience\, each level has been learning about Tchaikovsky\, the story\, and even some of the original choreography. We’ve also enjoyed watching them use their imagination to personify these gifts with their movements.”
URL:https://odessaarts.org/event/tchaikovskys-musical-gifts-2024-school-showcase/
LOCATION:Wagner Noël Performing Arts Center\, 1310 FM 1788\, Midland\, Texas
CATEGORIES:Music,Theatre & Literary Arts
END:VEVENT
BEGIN:VEVENT
DTSTART;TZID=America/Chicago:20240511T190000
DTEND;TZID=America/Chicago:20240511T220000
DTSTAMP:20260425T182759
CREATED:20240423T191633Z
LAST-MODIFIED:20240423T191633Z
UID:73115-1715454000-1715464800@odessaarts.org
SUMMARY:Live Music at Homemade Wines
DESCRIPTION:Hop into Homemade Wines every Saturday from 7pm – 10pm and enjoy live music from a local artist! 
URL:https://odessaarts.org/event/live-music-at-homemade-wines-5/2024-05-11/
LOCATION:Homemade Wines\, 400 N. Texas Avenue\, Odessa\, 79761\, United States
CATEGORIES:Music
END:VEVENT
END:VCALENDAR