BEGIN:VCALENDAR
VERSION:2.0
PRODID:-//Odessa Arts - ECPv6.15.20//NONSGML v1.0//EN
CALSCALE:GREGORIAN
METHOD:PUBLISH
X-ORIGINAL-URL:https://odessaarts.org
X-WR-CALDESC:Events for Odessa Arts
REFRESH-INTERVAL;VALUE=DURATION:PT1H
X-Robots-Tag:noindex
X-PUBLISHED-TTL:PT1H
BEGIN:VTIMEZONE
TZID:America/Chicago
BEGIN:DAYLIGHT
TZOFFSETFROM:-0600
TZOFFSETTO:-0500
TZNAME:CDT
DTSTART:20230312T080000
END:DAYLIGHT
BEGIN:STANDARD
TZOFFSETFROM:-0500
TZOFFSETTO:-0600
TZNAME:CST
DTSTART:20231105T070000
END:STANDARD
BEGIN:DAYLIGHT
TZOFFSETFROM:-0600
TZOFFSETTO:-0500
TZNAME:CDT
DTSTART:20240310T080000
END:DAYLIGHT
BEGIN:STANDARD
TZOFFSETFROM:-0500
TZOFFSETTO:-0600
TZNAME:CST
DTSTART:20241103T070000
END:STANDARD
BEGIN:DAYLIGHT
TZOFFSETFROM:-0600
TZOFFSETTO:-0500
TZNAME:CDT
DTSTART:20250309T080000
END:DAYLIGHT
BEGIN:STANDARD
TZOFFSETFROM:-0500
TZOFFSETTO:-0600
TZNAME:CST
DTSTART:20251102T070000
END:STANDARD
END:VTIMEZONE
BEGIN:VEVENT
DTSTART;TZID=America/Chicago:20240516T180000
DTEND;TZID=America/Chicago:20240516T210000
DTSTAMP:20260425T182738
CREATED:20240412T181658Z
LAST-MODIFIED:20240412T181658Z
UID:73045-1715882400-1715893200@odessaarts.org
SUMMARY:Jazz Nights with Flair: Craig Elliott Jazz Quartet
DESCRIPTION:
URL:https://odessaarts.org/event/jazz-nights-with-flair-craig-elliott-jazz-quartet-3/
LOCATION:Flair Taverna\, 2701 JBS Parkway\, Odessa\, Texas
CATEGORIES:Music
ATTACH;FMTTYPE=image/png:https://odessaarts.org/wp-content/uploads/2024/04/W3-Craig-Elliott.png
END:VEVENT
BEGIN:VEVENT
DTSTART;TZID=America/Chicago:20240516T190000
DTEND;TZID=America/Chicago:20240516T213000
DTSTAMP:20260425T182738
CREATED:20240308T161838Z
LAST-MODIFIED:20240308T161838Z
UID:72748-1715886000-1715895000@odessaarts.org
SUMMARY:Ray Wylie Hubbard
DESCRIPTION:When F. Scott Fitzgerald issued his classic conclusion that ‘There are no second acts in American lives\,’ he failed to envision the career of legendary Texas troubadour Ray Wylie Hubbard. A willing conspirator in the late seventies Cosmic Cowboy revolt that ushered in the mythical Outlaw era\, Hubbard was a catalyst in the cultural upheaval that led to the peaceful coexistence of Lone Star music enthusiasts who comprised each end of the social and political spectrum of that troubled time. In the stellar company of iconic colleagues like Willie Nelson\, Waylon Jennings\, Doug Sahm and Jerry Jeff Walker\, Ray Wylie Hubbard was an architect of the musical legacy that continues to inspire subsequent generations of up-and-coming Texas talent. \nYes\, Hubbard is a Texas singer-songwriter\, complete with the classic trifurcated handle\, fundamental chapter of the canon in his song catalog (“Redneck Mother”)\, and enough wild hairs in his past to qualify him as a legend. But along the way\, his attention began to leave matters extraneous to his art and soul by the wayside and focus on the beauty and potential to be found in the blank canvas of\, in his case\, the yet to be written and recorded song. The result has been one of the most satisfying musical and lyrical journeys to witness over the last two decades. In the years that followed he evolved into a writer of uncommonly honest portraits of life\, alternately mixing deep personal sagas with poignant character studies of those traveling on the dark side of the road. \nIf one wanted to describe the sound of Ray Wylie Hubbard\, one could call it American music\, born from the time­ honored traditions of folk\, country\, and roots rock.
URL:https://odessaarts.org/event/ray-wylie-hubbard/
LOCATION:The Ector Theatre\, 500 N. Texas\, Odessa\, TX\, 79761\, United States
CATEGORIES:Music
END:VEVENT
END:VCALENDAR