BEGIN:VCALENDAR
VERSION:2.0
PRODID:-//Odessa Arts - ECPv6.15.20//NONSGML v1.0//EN
CALSCALE:GREGORIAN
METHOD:PUBLISH
X-WR-CALNAME:Odessa Arts
X-ORIGINAL-URL:https://odessaarts.org
X-WR-CALDESC:Events for Odessa Arts
REFRESH-INTERVAL;VALUE=DURATION:PT1H
X-Robots-Tag:noindex
X-PUBLISHED-TTL:PT1H
BEGIN:VTIMEZONE
TZID:America/Chicago
BEGIN:DAYLIGHT
TZOFFSETFROM:-0600
TZOFFSETTO:-0500
TZNAME:CDT
DTSTART:20230312T080000
END:DAYLIGHT
BEGIN:STANDARD
TZOFFSETFROM:-0500
TZOFFSETTO:-0600
TZNAME:CST
DTSTART:20231105T070000
END:STANDARD
BEGIN:DAYLIGHT
TZOFFSETFROM:-0600
TZOFFSETTO:-0500
TZNAME:CDT
DTSTART:20240310T080000
END:DAYLIGHT
BEGIN:STANDARD
TZOFFSETFROM:-0500
TZOFFSETTO:-0600
TZNAME:CST
DTSTART:20241103T070000
END:STANDARD
BEGIN:DAYLIGHT
TZOFFSETFROM:-0600
TZOFFSETTO:-0500
TZNAME:CDT
DTSTART:20250309T080000
END:DAYLIGHT
BEGIN:STANDARD
TZOFFSETFROM:-0500
TZOFFSETTO:-0600
TZNAME:CST
DTSTART:20251102T070000
END:STANDARD
END:VTIMEZONE
BEGIN:VEVENT
DTSTART;TZID=America/Chicago:20240519T143000
DTEND;TZID=America/Chicago:20240519T143000
DTSTAMP:20260425T180606
CREATED:20240513T172546Z
LAST-MODIFIED:20240513T172723Z
UID:73233-1716129000-1716129000@odessaarts.org
SUMMARY:Hi Tone School of Music - 2nd Annual Showcase - Free event
DESCRIPTION:
URL:https://odessaarts.org/event/hi-tone-school-of-music-2nd-annual-showcase-free-event/
LOCATION:American Legion\, 2701 E. 8th Street\, Odessa\, TX\, 79761\, United States
CATEGORIES:Music
END:VEVENT
BEGIN:VEVENT
DTSTART;TZID=America/Chicago:20240519T150000
DTEND;TZID=America/Chicago:20240519T150000
DTSTAMP:20260425T180606
CREATED:20240122T174957Z
LAST-MODIFIED:20240513T170358Z
UID:72324-1716130800-1716130800@odessaarts.org
SUMMARY:West Texas Symphony Chamber Chorale - Spring Recital titled "Resonating Faith: Choral Prayers Across Diverse Divinity"
DESCRIPTION:CHORALE\n“Resonating Faith” Choral Prayers Across Diverse Divinity\nSunday\, May 19\, 2024 | 3:00 pm\nWestminster Presbyterian Church Odessa \nDr. Juan Hernández\, Chorale Director\nGayle Bizzell\, Accompanist \nJoin us for an enchanting afternoon of musical exploration as voices unite in Resonating Faith: Choral Prayers Across Diverse Divinity. In this transcendent concert experience\, we journey through the depths of human spirituality\, weaving together choral prayers from a myriad of faith traditions. From the sacred hymns of Catholicism to the ancient chants of the Rig Veda\, and the reverent invocations of nature\, each piece resonates with the universal language of devotion. Through harmonious melodies and heartfelt expressions\, we celebrate the beauty of diversity and the interconnectedness of all spiritual paths. Come be uplifted by the ethereal voices and soul stirring music\, as we embrace the rich tapestry of faith that unites us all. \n$25 General Admission\, Students $12\nCLICK TO PURCHASE ONLINE\n800-514-3849 or at the door\nScheduled programs and individuals are subject to change. Ticketing is handled by the Wagner Noël Performing Arts Center – all ticketing\, security\, and venue policies apply.
URL:https://odessaarts.org/event/west-texas-symphony-chamber-chorale-spring-recital-location-tbd/
LOCATION:Westminster Presbyterian Church\, 4901 Maple Ave\, Odessa\, TX\, 79762\, United States
CATEGORIES:Music
END:VEVENT
END:VCALENDAR