BEGIN:VCALENDAR
VERSION:2.0
PRODID:-//Odessa Arts - ECPv6.15.20//NONSGML v1.0//EN
CALSCALE:GREGORIAN
METHOD:PUBLISH
X-ORIGINAL-URL:https://odessaarts.org
X-WR-CALDESC:Events for Odessa Arts
REFRESH-INTERVAL;VALUE=DURATION:PT1H
X-Robots-Tag:noindex
X-PUBLISHED-TTL:PT1H
BEGIN:VTIMEZONE
TZID:America/Chicago
BEGIN:DAYLIGHT
TZOFFSETFROM:-0600
TZOFFSETTO:-0500
TZNAME:CDT
DTSTART:20230312T080000
END:DAYLIGHT
BEGIN:STANDARD
TZOFFSETFROM:-0500
TZOFFSETTO:-0600
TZNAME:CST
DTSTART:20231105T070000
END:STANDARD
BEGIN:DAYLIGHT
TZOFFSETFROM:-0600
TZOFFSETTO:-0500
TZNAME:CDT
DTSTART:20240310T080000
END:DAYLIGHT
BEGIN:STANDARD
TZOFFSETFROM:-0500
TZOFFSETTO:-0600
TZNAME:CST
DTSTART:20241103T070000
END:STANDARD
BEGIN:DAYLIGHT
TZOFFSETFROM:-0600
TZOFFSETTO:-0500
TZNAME:CDT
DTSTART:20250309T080000
END:DAYLIGHT
BEGIN:STANDARD
TZOFFSETFROM:-0500
TZOFFSETTO:-0600
TZNAME:CST
DTSTART:20251102T070000
END:STANDARD
END:VTIMEZONE
BEGIN:VEVENT
DTSTART;TZID=America/Chicago:20240524T180000
DTEND;TZID=America/Chicago:20240524T210000
DTSTAMP:20260425T182739
CREATED:20240419T145146Z
LAST-MODIFIED:20240419T145146Z
UID:73097-1716573600-1716584400@odessaarts.org
SUMMARY:Live Music with Flair: Rhumba Kings
DESCRIPTION:
URL:https://odessaarts.org/event/live-music-with-flair-rhumba-kings-3/
LOCATION:Flair Taverna\, 2701 JBS Parkway\, Odessa\, Texas
CATEGORIES:Music
ATTACH;FMTTYPE=image/png:https://odessaarts.org/wp-content/uploads/2024/04/May-w4-Rhumba-SQ.png
END:VEVENT
BEGIN:VEVENT
DTSTART;TZID=America/Chicago:20240524T193000
DTEND;TZID=America/Chicago:20240524T220000
DTSTAMP:20260425T182739
CREATED:20240424T154516Z
LAST-MODIFIED:20240424T154516Z
UID:73154-1716579000-1716588000@odessaarts.org
SUMMARY:Memphis May Fire and Special Guest UABB
DESCRIPTION:J and B welcome Memphis May Fire w/ special guest Upon A Burning Body and local opener Gridiron at the Ector Theatre! Friday\, May 24th!
URL:https://odessaarts.org/event/memphis-may-fire-and-special-guest-uabb/
LOCATION:The Ector Theatre\, 500 N. Texas\, Odessa\, TX\, 79761\, United States
CATEGORIES:Music
END:VEVENT
END:VCALENDAR