BEGIN:VCALENDAR
VERSION:2.0
PRODID:-//Odessa Arts - ECPv6.15.20//NONSGML v1.0//EN
CALSCALE:GREGORIAN
METHOD:PUBLISH
X-ORIGINAL-URL:https://odessaarts.org
X-WR-CALDESC:Events for Odessa Arts
REFRESH-INTERVAL;VALUE=DURATION:PT1H
X-Robots-Tag:noindex
X-PUBLISHED-TTL:PT1H
BEGIN:VTIMEZONE
TZID:America/Chicago
BEGIN:DAYLIGHT
TZOFFSETFROM:-0600
TZOFFSETTO:-0500
TZNAME:CDT
DTSTART:20230312T080000
END:DAYLIGHT
BEGIN:STANDARD
TZOFFSETFROM:-0500
TZOFFSETTO:-0600
TZNAME:CST
DTSTART:20231105T070000
END:STANDARD
BEGIN:DAYLIGHT
TZOFFSETFROM:-0600
TZOFFSETTO:-0500
TZNAME:CDT
DTSTART:20240310T080000
END:DAYLIGHT
BEGIN:STANDARD
TZOFFSETFROM:-0500
TZOFFSETTO:-0600
TZNAME:CST
DTSTART:20241103T070000
END:STANDARD
BEGIN:DAYLIGHT
TZOFFSETFROM:-0600
TZOFFSETTO:-0500
TZNAME:CDT
DTSTART:20250309T080000
END:DAYLIGHT
BEGIN:STANDARD
TZOFFSETFROM:-0500
TZOFFSETTO:-0600
TZNAME:CST
DTSTART:20251102T070000
END:STANDARD
END:VTIMEZONE
BEGIN:VEVENT
DTSTART;TZID=America/Chicago:20240601T110000
DTEND;TZID=America/Chicago:20240601T150000
DTSTAMP:20260425T162605
CREATED:20240417T194416Z
LAST-MODIFIED:20240417T194416Z
UID:73081-1717239600-1717254000@odessaarts.org
SUMMARY:58th Annual West Texas Jazz Party
DESCRIPTION:2024 marks the 58th annual West Texas Jazz Party. The longest-running jazz party in the world!
URL:https://odessaarts.org/event/58th-annual-west-texas-jazz-party/2024-06-01/
LOCATION:Odessa Marriott Hotel & Conference Center\, 305 E. 5th Street\, Odessa\, Texas\, 79761
CATEGORIES:Music
END:VEVENT
BEGIN:VEVENT
DTSTART;TZID=America/Chicago:20240601T120000
DTEND;TZID=America/Chicago:20240601T120000
DTSTAMP:20260425T162605
CREATED:20240522T191037Z
LAST-MODIFIED:20240522T191037Z
UID:73381-1717243200-1717243200@odessaarts.org
SUMMARY:Bambamorama
DESCRIPTION:
URL:https://odessaarts.org/event/bambamorama/
LOCATION:Pat’s Place\, 7405 Andrew Hwy\, Odessa\, TX\, 79764\, United States
CATEGORIES:Music
END:VEVENT
BEGIN:VEVENT
DTSTART;TZID=America/Chicago:20240601T180000
DTEND;TZID=America/Chicago:20240601T210000
DTSTAMP:20260425T162605
CREATED:20240424T000335Z
LAST-MODIFIED:20240424T000335Z
UID:73146-1717264800-1717275600@odessaarts.org
SUMMARY:Live Music with Flair: Brown Sneakers Brothers
DESCRIPTION:
URL:https://odessaarts.org/event/live-music-with-flair-brown-sneakers-brothers-3/
LOCATION:Flair Taverna\, 2701 JBS Parkway\, Odessa\, Texas
CATEGORIES:Music
ATTACH;FMTTYPE=image/png:https://odessaarts.org/wp-content/uploads/2024/04/May-w5-Brown-Seankers-SQ.png
END:VEVENT
BEGIN:VEVENT
DTSTART;TZID=America/Chicago:20240601T180000
DTEND;TZID=America/Chicago:20240601T210000
DTSTAMP:20260425T162605
CREATED:20240510T193451Z
LAST-MODIFIED:20240510T193511Z
UID:73195-1717264800-1717275600@odessaarts.org
SUMMARY:Odessa's Got Talent
DESCRIPTION:Join us to watch the Best of the Best compete live in front of a distinguished judges panel as they compete for cash prizes! The judges’ panel will determine the winners of each category and audience members will be able to vote on the overall winner\, the coveted People’s Choice Award. Mark your calendars to support the Permian Basin Mission Center’s fundraiser\, Odessa’s Got Talent!
URL:https://odessaarts.org/event/odessas-got-talen/
LOCATION:The Ector Theatre\, 500 N. Texas\, Odessa\, TX\, 79761\, United States
CATEGORIES:Humanities,Music,Theatre & Literary Arts
END:VEVENT
BEGIN:VEVENT
DTSTART;TZID=America/Chicago:20240601T190000
DTEND;TZID=America/Chicago:20240601T220000
DTSTAMP:20260425T162605
CREATED:20240423T191633Z
LAST-MODIFIED:20240423T191633Z
UID:73118-1717268400-1717279200@odessaarts.org
SUMMARY:Live Music at Homemade Wines
DESCRIPTION:Hop into Homemade Wines every Saturday from 7pm – 10pm and enjoy live music from a local artist! 
URL:https://odessaarts.org/event/live-music-at-homemade-wines-5/2024-06-01/
LOCATION:Homemade Wines\, 400 N. Texas Avenue\, Odessa\, 79761\, United States
CATEGORIES:Music
END:VEVENT
BEGIN:VEVENT
DTSTART;TZID=America/Chicago:20240601T190000
DTEND;TZID=America/Chicago:20240601T230000
DTSTAMP:20260425T162605
CREATED:20240417T194416Z
LAST-MODIFIED:20240417T194416Z
UID:73082-1717268400-1717282800@odessaarts.org
SUMMARY:58th Annual West Texas Jazz Party
DESCRIPTION:2024 marks the 58th annual West Texas Jazz Party. The longest-running jazz party in the world!
URL:https://odessaarts.org/event/58th-annual-west-texas-jazz-party/2024-06-01/2/
LOCATION:Odessa Marriott Hotel & Conference Center\, 305 E. 5th Street\, Odessa\, Texas\, 79761
CATEGORIES:Music
END:VEVENT
END:VCALENDAR