BEGIN:VCALENDAR
VERSION:2.0
PRODID:-//Odessa Arts - ECPv6.15.20//NONSGML v1.0//EN
CALSCALE:GREGORIAN
METHOD:PUBLISH
X-WR-CALNAME:Odessa Arts
X-ORIGINAL-URL:https://odessaarts.org
X-WR-CALDESC:Events for Odessa Arts
REFRESH-INTERVAL;VALUE=DURATION:PT1H
X-Robots-Tag:noindex
X-PUBLISHED-TTL:PT1H
BEGIN:VTIMEZONE
TZID:America/Chicago
BEGIN:DAYLIGHT
TZOFFSETFROM:-0600
TZOFFSETTO:-0500
TZNAME:CDT
DTSTART:20230312T080000
END:DAYLIGHT
BEGIN:STANDARD
TZOFFSETFROM:-0500
TZOFFSETTO:-0600
TZNAME:CST
DTSTART:20231105T070000
END:STANDARD
BEGIN:DAYLIGHT
TZOFFSETFROM:-0600
TZOFFSETTO:-0500
TZNAME:CDT
DTSTART:20240310T080000
END:DAYLIGHT
BEGIN:STANDARD
TZOFFSETFROM:-0500
TZOFFSETTO:-0600
TZNAME:CST
DTSTART:20241103T070000
END:STANDARD
BEGIN:DAYLIGHT
TZOFFSETFROM:-0600
TZOFFSETTO:-0500
TZNAME:CDT
DTSTART:20250309T080000
END:DAYLIGHT
BEGIN:STANDARD
TZOFFSETFROM:-0500
TZOFFSETTO:-0600
TZNAME:CST
DTSTART:20251102T070000
END:STANDARD
END:VTIMEZONE
BEGIN:VEVENT
DTSTART;TZID=America/Chicago:20240621T180000
DTEND;TZID=America/Chicago:20240621T210000
DTSTAMP:20260425T162335
CREATED:20240517T151704Z
LAST-MODIFIED:20240518T165709Z
UID:73248-1718992800-1719003600@odessaarts.org
SUMMARY:Live Music with Flair: Groove City
DESCRIPTION:
URL:https://odessaarts.org/event/live-music-with-flair-groove-city-17/
LOCATION:Flair Taverna\, 2701 JBS Parkway\, Odessa\, Texas
CATEGORIES:Music
ATTACH;FMTTYPE=image/png:https://odessaarts.org/wp-content/uploads/2024/05/flair-JUNE-w3-groove-city-SQ.png
END:VEVENT
BEGIN:VEVENT
DTSTART;TZID=America/Chicago:20240621T193000
DTEND;TZID=America/Chicago:20240621T193000
DTSTAMP:20260425T162335
CREATED:20240412T181131Z
LAST-MODIFIED:20240412T181131Z
UID:73033-1718998200-1718998200@odessaarts.org
SUMMARY:Taylor Shines - Laser Spectacular
DESCRIPTION:Taylor Shines-The Laser Spectacular\, hosted by our electrifying DJs\, is taking Americaby storm in 2024. \nIt’s two hours of non-stop Taylor Swift hits seamlessly blended with the world-famous touring Laser Spectacular & Light show! The show also features large-screen video projection\, 3-D glasses\, and all the mind-bending effects the Laser Spectacular is famous for. \nDJ Tiff is an extraordinary on-stage presence that has the Swifties singing along with their favorite Taylor Swift hits. DJ Tiff propels Taylor Shines to a thoroughly enjoyable evening for moms\, dads\, and all the Swifties in the family.
URL:https://odessaarts.org/event/taylor-shines-laser-spectacular/
LOCATION:Wagner Noël Performing Arts Center\, 1310 FM 1788\, Midland\, Texas
CATEGORIES:Music,Theatre & Literary Arts
END:VEVENT
END:VCALENDAR