BEGIN:VCALENDAR
VERSION:2.0
PRODID:-//Odessa Arts - ECPv6.15.20//NONSGML v1.0//EN
CALSCALE:GREGORIAN
METHOD:PUBLISH
X-ORIGINAL-URL:https://odessaarts.org
X-WR-CALDESC:Events for Odessa Arts
REFRESH-INTERVAL;VALUE=DURATION:PT1H
X-Robots-Tag:noindex
X-PUBLISHED-TTL:PT1H
BEGIN:VTIMEZONE
TZID:America/Chicago
BEGIN:DAYLIGHT
TZOFFSETFROM:-0600
TZOFFSETTO:-0500
TZNAME:CDT
DTSTART:20230312T080000
END:DAYLIGHT
BEGIN:STANDARD
TZOFFSETFROM:-0500
TZOFFSETTO:-0600
TZNAME:CST
DTSTART:20231105T070000
END:STANDARD
BEGIN:DAYLIGHT
TZOFFSETFROM:-0600
TZOFFSETTO:-0500
TZNAME:CDT
DTSTART:20240310T080000
END:DAYLIGHT
BEGIN:STANDARD
TZOFFSETFROM:-0500
TZOFFSETTO:-0600
TZNAME:CST
DTSTART:20241103T070000
END:STANDARD
BEGIN:DAYLIGHT
TZOFFSETFROM:-0600
TZOFFSETTO:-0500
TZNAME:CDT
DTSTART:20250309T080000
END:DAYLIGHT
BEGIN:STANDARD
TZOFFSETFROM:-0500
TZOFFSETTO:-0600
TZNAME:CST
DTSTART:20251102T070000
END:STANDARD
END:VTIMEZONE
BEGIN:VEVENT
DTSTART;TZID=America/Chicago:20240629T130000
DTEND;TZID=America/Chicago:20240629T220000
DTSTAMP:20260425T162607
CREATED:20240611T230407Z
LAST-MODIFIED:20240611T232242Z
UID:73503-1719666000-1719698400@odessaarts.org
SUMMARY:BBQ\, Bags & Boots benefitting Permian Basin Rehab
DESCRIPTION:Get ready for a fun-filled day of delicious barbecue\, a cornhole tournament and country concert. Join us on Sat\, Jun 29\, 2024 for a day to remember. Bring your friends and family for a day of great food\, friendly competition\, and good company. Don’t forget to wear your favorite boots and be ready for some boot scootin’! \n\n\n\n\n\n\n\n\n\n\n1:00 PM  – Doors Open\n2:00 PM – Cornhole Tournament \n\n\n\n\n\n\n\n\n\nDouble Elimination\, Blind Draw\n2-Person Teams (all skill levels welcome)\nRegister on Scoreholio App\n\n6:30 – 8:00 PM – BBQ Dinner For Sponsors & VIP Ticket Holders with music by Colton Fox \n\n\n\n\n\n\n\n\n8:30 PM – Kyle Park LIVE!
URL:https://odessaarts.org/event/bbq-bags-boots/
LOCATION:Casa de Windswept\, 16040 N Windswept Ave\, Gardendale\, TX\, 79758\, United States
CATEGORIES:Music
ATTACH;FMTTYPE=image/png:https://odessaarts.org/wp-content/uploads/2024/06/Kyle-Park-Reveal.png
END:VEVENT
BEGIN:VEVENT
DTSTART;TZID=America/Chicago:20240629T180000
DTEND;TZID=America/Chicago:20240629T210000
DTSTAMP:20260425T162607
CREATED:20240523T043634Z
LAST-MODIFIED:20240525T155755Z
UID:73404-1719684000-1719694800@odessaarts.org
SUMMARY:Live Music with Flair: Matthew Marcus McDaniel
DESCRIPTION:
URL:https://odessaarts.org/event/live-music-with-flair-matthew-marcus-mcdaniel-2/
LOCATION:Flair Taverna\, 2701 JBS Parkway\, Odessa\, Texas
CATEGORIES:Music
ATTACH;FMTTYPE=image/png:https://odessaarts.org/wp-content/uploads/2024/05/June-w4-MMM-SQ-2.png
END:VEVENT
BEGIN:VEVENT
DTSTART;TZID=America/Chicago:20240629T190000
DTEND;TZID=America/Chicago:20240629T220000
DTSTAMP:20260425T162607
CREATED:20240423T191633Z
LAST-MODIFIED:20240423T191633Z
UID:73122-1719687600-1719698400@odessaarts.org
SUMMARY:Live Music at Homemade Wines
DESCRIPTION:Hop into Homemade Wines every Saturday from 7pm – 10pm and enjoy live music from a local artist! 
URL:https://odessaarts.org/event/live-music-at-homemade-wines-5/2024-06-29/
LOCATION:Homemade Wines\, 400 N. Texas Avenue\, Odessa\, 79761\, United States
CATEGORIES:Music
END:VEVENT
END:VCALENDAR