BEGIN:VCALENDAR
VERSION:2.0
PRODID:-//Odessa Arts - ECPv6.15.20//NONSGML v1.0//EN
CALSCALE:GREGORIAN
METHOD:PUBLISH
X-ORIGINAL-URL:https://odessaarts.org
X-WR-CALDESC:Events for Odessa Arts
REFRESH-INTERVAL;VALUE=DURATION:PT1H
X-Robots-Tag:noindex
X-PUBLISHED-TTL:PT1H
BEGIN:VTIMEZONE
TZID:America/Chicago
BEGIN:DAYLIGHT
TZOFFSETFROM:-0600
TZOFFSETTO:-0500
TZNAME:CDT
DTSTART:20230312T080000
END:DAYLIGHT
BEGIN:STANDARD
TZOFFSETFROM:-0500
TZOFFSETTO:-0600
TZNAME:CST
DTSTART:20231105T070000
END:STANDARD
BEGIN:DAYLIGHT
TZOFFSETFROM:-0600
TZOFFSETTO:-0500
TZNAME:CDT
DTSTART:20240310T080000
END:DAYLIGHT
BEGIN:STANDARD
TZOFFSETFROM:-0500
TZOFFSETTO:-0600
TZNAME:CST
DTSTART:20241103T070000
END:STANDARD
BEGIN:DAYLIGHT
TZOFFSETFROM:-0600
TZOFFSETTO:-0500
TZNAME:CDT
DTSTART:20250309T080000
END:DAYLIGHT
BEGIN:STANDARD
TZOFFSETFROM:-0500
TZOFFSETTO:-0600
TZNAME:CST
DTSTART:20251102T070000
END:STANDARD
END:VTIMEZONE
BEGIN:VEVENT
DTSTART;TZID=America/Chicago:20240706T180000
DTEND;TZID=America/Chicago:20240706T210000
DTSTAMP:20260425T145905
CREATED:20240601T194920Z
LAST-MODIFIED:20240601T194920Z
UID:73479-1720288800-1720299600@odessaarts.org
SUMMARY:Live Music with Flair: E-Flat Porch Band
DESCRIPTION:
URL:https://odessaarts.org/event/live-music-with-flair-e-flat-porch-band-11/
LOCATION:Flair Taverna\, 2701 JBS Parkway\, Odessa\, Texas
CATEGORIES:Music
ATTACH;FMTTYPE=image/png:https://odessaarts.org/wp-content/uploads/2024/06/Flair-July-w1-Eflat-SQ.png
END:VEVENT
BEGIN:VEVENT
DTSTART;TZID=America/Chicago:20240706T190000
DTEND;TZID=America/Chicago:20240706T220000
DTSTAMP:20260425T145905
CREATED:20240423T191633Z
LAST-MODIFIED:20240423T191633Z
UID:73123-1720292400-1720303200@odessaarts.org
SUMMARY:Live Music at Homemade Wines
DESCRIPTION:Hop into Homemade Wines every Saturday from 7pm – 10pm and enjoy live music from a local artist! 
URL:https://odessaarts.org/event/live-music-at-homemade-wines-5/2024-07-06/
LOCATION:Homemade Wines\, 400 N. Texas Avenue\, Odessa\, 79761\, United States
CATEGORIES:Music
END:VEVENT
END:VCALENDAR