BEGIN:VCALENDAR
VERSION:2.0
PRODID:-//Odessa Arts - ECPv6.15.20//NONSGML v1.0//EN
CALSCALE:GREGORIAN
METHOD:PUBLISH
X-ORIGINAL-URL:https://odessaarts.org
X-WR-CALDESC:Events for Odessa Arts
REFRESH-INTERVAL;VALUE=DURATION:PT1H
X-Robots-Tag:noindex
X-PUBLISHED-TTL:PT1H
BEGIN:VTIMEZONE
TZID:America/Chicago
BEGIN:DAYLIGHT
TZOFFSETFROM:-0600
TZOFFSETTO:-0500
TZNAME:CDT
DTSTART:20230312T080000
END:DAYLIGHT
BEGIN:STANDARD
TZOFFSETFROM:-0500
TZOFFSETTO:-0600
TZNAME:CST
DTSTART:20231105T070000
END:STANDARD
BEGIN:DAYLIGHT
TZOFFSETFROM:-0600
TZOFFSETTO:-0500
TZNAME:CDT
DTSTART:20240310T080000
END:DAYLIGHT
BEGIN:STANDARD
TZOFFSETFROM:-0500
TZOFFSETTO:-0600
TZNAME:CST
DTSTART:20241103T070000
END:STANDARD
BEGIN:DAYLIGHT
TZOFFSETFROM:-0600
TZOFFSETTO:-0500
TZNAME:CDT
DTSTART:20250309T080000
END:DAYLIGHT
BEGIN:STANDARD
TZOFFSETFROM:-0500
TZOFFSETTO:-0600
TZNAME:CST
DTSTART:20251102T070000
END:STANDARD
END:VTIMEZONE
BEGIN:VEVENT
DTSTART;TZID=America/Chicago:20240727T180000
DTEND;TZID=America/Chicago:20240727T210000
DTSTAMP:20260425T150005
CREATED:20240625T042221Z
LAST-MODIFIED:20240625T042221Z
UID:73527-1722103200-1722114000@odessaarts.org
SUMMARY:Live Music with Flair: McKenna Kasowski
DESCRIPTION:
URL:https://odessaarts.org/event/live-music-with-flair-mckenna-kasowski-3/
LOCATION:Flair Taverna\, 2701 JBS Parkway\, Odessa\, Texas
CATEGORIES:Music
ATTACH;FMTTYPE=image/png:https://odessaarts.org/wp-content/uploads/2024/06/Flair-July-w4-McKenna-SQ.png
END:VEVENT
BEGIN:VEVENT
DTSTART;TZID=America/Chicago:20240727T190000
DTEND;TZID=America/Chicago:20240727T213000
DTSTAMP:20260425T150005
CREATED:20240415T183813Z
LAST-MODIFIED:20240415T183813Z
UID:73060-1722106800-1722115800@odessaarts.org
SUMMARY:Frankie J & Paula DeAnda
DESCRIPTION:Pre-Sale now open! Public on-sale Friday\, April 12 at 10:00 AM! \nJoin us for a night to remember with Frankie J & Paula Deanda at The Ector Theatre in Downtown Odessa\, Texas on Saturday\, July 27\, 2024! We will be featuring all of their classic hits\, so don’t miss out on this amazing concert experience.
URL:https://odessaarts.org/event/frankie-j-paula-deanda/
LOCATION:The Ector Theatre\, 500 N. Texas\, Odessa\, TX\, 79761\, United States
CATEGORIES:Music
END:VEVENT
BEGIN:VEVENT
DTSTART;TZID=America/Chicago:20240727T190000
DTEND;TZID=America/Chicago:20240727T220000
DTSTAMP:20260425T150005
CREATED:20240423T191633Z
LAST-MODIFIED:20240423T191633Z
UID:73127-1722106800-1722117600@odessaarts.org
SUMMARY:Live Music at Homemade Wines
DESCRIPTION:Hop into Homemade Wines every Saturday from 7pm – 10pm and enjoy live music from a local artist! 
URL:https://odessaarts.org/event/live-music-at-homemade-wines-5/2024-07-27/
LOCATION:Homemade Wines\, 400 N. Texas Avenue\, Odessa\, 79761\, United States
CATEGORIES:Music
END:VEVENT
BEGIN:VEVENT
DTSTART;TZID=America/Chicago:20240727T190000
DTEND;TZID=America/Chicago:20240727T220000
DTSTAMP:20260425T150005
CREATED:20240522T160955Z
LAST-MODIFIED:20240522T160955Z
UID:73373-1722106800-1722117600@odessaarts.org
SUMMARY:Sam Allen: Music at the Marriott
DESCRIPTION:
URL:https://odessaarts.org/event/sam-allen-music-at-the-marriott/
LOCATION:Odessa Marriott Hotel & Conference Center\, 305 E. 5th Street\, Odessa\, Texas\, 79761
CATEGORIES:Music
END:VEVENT
END:VCALENDAR