BEGIN:VCALENDAR
VERSION:2.0
PRODID:-//Odessa Arts - ECPv6.15.20//NONSGML v1.0//EN
CALSCALE:GREGORIAN
METHOD:PUBLISH
X-ORIGINAL-URL:https://odessaarts.org
X-WR-CALDESC:Events for Odessa Arts
REFRESH-INTERVAL;VALUE=DURATION:PT1H
X-Robots-Tag:noindex
X-PUBLISHED-TTL:PT1H
BEGIN:VTIMEZONE
TZID:America/Chicago
BEGIN:DAYLIGHT
TZOFFSETFROM:-0600
TZOFFSETTO:-0500
TZNAME:CDT
DTSTART:20230312T080000
END:DAYLIGHT
BEGIN:STANDARD
TZOFFSETFROM:-0500
TZOFFSETTO:-0600
TZNAME:CST
DTSTART:20231105T070000
END:STANDARD
BEGIN:DAYLIGHT
TZOFFSETFROM:-0600
TZOFFSETTO:-0500
TZNAME:CDT
DTSTART:20240310T080000
END:DAYLIGHT
BEGIN:STANDARD
TZOFFSETFROM:-0500
TZOFFSETTO:-0600
TZNAME:CST
DTSTART:20241103T070000
END:STANDARD
BEGIN:DAYLIGHT
TZOFFSETFROM:-0600
TZOFFSETTO:-0500
TZNAME:CDT
DTSTART:20250309T080000
END:DAYLIGHT
BEGIN:STANDARD
TZOFFSETFROM:-0500
TZOFFSETTO:-0600
TZNAME:CST
DTSTART:20251102T070000
END:STANDARD
END:VTIMEZONE
BEGIN:VEVENT
DTSTART;TZID=America/Chicago:20240801T180000
DTEND;TZID=America/Chicago:20240801T210000
DTSTAMP:20260425T132138
CREATED:20240628T135040Z
LAST-MODIFIED:20240629T194334Z
UID:73539-1722535200-1722546000@odessaarts.org
SUMMARY:Jazz Nights with Flair: Eric Baker & Jordan Holmes
DESCRIPTION:
URL:https://odessaarts.org/event/jazz-night-flair-eric-baker-jordan-holmes/
LOCATION:Flair Taverna\, 2701 JBS Parkway\, Odessa\, Texas
CATEGORIES:Music
ATTACH;FMTTYPE=image/png:https://odessaarts.org/wp-content/uploads/2024/06/Flair-Aug-w1-Eric-Baker-SQ-2.png
END:VEVENT
BEGIN:VEVENT
DTSTART;TZID=America/Chicago:20240801T193000
DTEND;TZID=America/Chicago:20240801T193000
DTSTAMP:20260425T132138
CREATED:20240209T170935Z
LAST-MODIFIED:20240209T170935Z
UID:72429-1722540600-1722540600@odessaarts.org
SUMMARY:Piano Men:  Generations
DESCRIPTION:Get ready for an electrifying musical extravaganza like no other! Introducing “PIANO MEN: GENERATIONS\,” a sensational celebration of the legendary Billy Joel and Elton John\, brought to life by the extraordinary father and son duo of Terry and Nick Davies. These two virtuosos are about to take you on a mesmerizing journey through the timeless hits that have captured the hearts of music lovers for decades. \nAs the lights dim and the first notes fill the air\, you’ll be transported through time\, witnessing the evolution of two incredible careers. Terry and Nick\, accompanied by their exceptional band\, deliver a high-energy performance that will leave you breathless. Get ready to sing along and tap your feet to mega-hits like “Only the Good Die Young\,” “Circle of Life\,” “Philadelphia Freedom\,” “Bennie and the Jets\,” and\, of course\, the iconic “Piano Man.” \nBut the excitement doesn’t end there! Terry and Nick have a surprise in store for you. In a unique twist\, they’ve created an interactive audience shout-out section\, where you become part of the show! Your input will shape the performance\, making each night a one-of-a-kind experience that leaves an indelible mark on everyone present. \nPIANO MEN: GENERATIONS is not just a concert; it’s a testament to the enduring power of music and the profound impact of two legendary entertainers. Terry and Nick Davies channel the spirit\, passion\, and talent of Billy Joel and Elton John\, captivating audiences with their exceptional artistry and undeniable chemistry. So\, come join this musical voyage and witness the magic unfold as two generations of piano men unite to create an unforgettable experience that will resonate in your heart long after the final note fades away.
URL:https://odessaarts.org/event/piano-men-generations/
LOCATION:Wagner Noël Performing Arts Center\, 1310 FM 1788\, Midland\, Texas
CATEGORIES:Music
END:VEVENT
END:VCALENDAR