BEGIN:VCALENDAR
VERSION:2.0
PRODID:-//Odessa Arts - ECPv6.15.20//NONSGML v1.0//EN
CALSCALE:GREGORIAN
METHOD:PUBLISH
X-ORIGINAL-URL:https://odessaarts.org
X-WR-CALDESC:Events for Odessa Arts
REFRESH-INTERVAL;VALUE=DURATION:PT1H
X-Robots-Tag:noindex
X-PUBLISHED-TTL:PT1H
BEGIN:VTIMEZONE
TZID:America/Chicago
BEGIN:DAYLIGHT
TZOFFSETFROM:-0600
TZOFFSETTO:-0500
TZNAME:CDT
DTSTART:20230312T080000
END:DAYLIGHT
BEGIN:STANDARD
TZOFFSETFROM:-0500
TZOFFSETTO:-0600
TZNAME:CST
DTSTART:20231105T070000
END:STANDARD
BEGIN:DAYLIGHT
TZOFFSETFROM:-0600
TZOFFSETTO:-0500
TZNAME:CDT
DTSTART:20240310T080000
END:DAYLIGHT
BEGIN:STANDARD
TZOFFSETFROM:-0500
TZOFFSETTO:-0600
TZNAME:CST
DTSTART:20241103T070000
END:STANDARD
BEGIN:DAYLIGHT
TZOFFSETFROM:-0600
TZOFFSETTO:-0500
TZNAME:CDT
DTSTART:20250309T080000
END:DAYLIGHT
BEGIN:STANDARD
TZOFFSETFROM:-0500
TZOFFSETTO:-0600
TZNAME:CST
DTSTART:20251102T070000
END:STANDARD
END:VTIMEZONE
BEGIN:VEVENT
DTSTART;TZID=America/Chicago:20240817T173000
DTEND;TZID=America/Chicago:20240817T233000
DTSTAMP:20260425T132057
CREATED:20240816T164410Z
LAST-MODIFIED:20240816T164410Z
UID:73807-1723915800-1723937400@odessaarts.org
SUMMARY:Basin Brunch ft. 2 Chains
DESCRIPTION:**This is a 21 and up event.
URL:https://odessaarts.org/event/basin-brunch-ft-2-chains/
LOCATION:The Tailgate Midland\, 4401 N Big Spring\, Midland\, TX\, 79705\, United States
CATEGORIES:Music
END:VEVENT
BEGIN:VEVENT
DTSTART;TZID=America/Chicago:20240817T180000
DTEND;TZID=America/Chicago:20240817T210000
DTSTAMP:20260425T132057
CREATED:20240711T162900Z
LAST-MODIFIED:20240711T162900Z
UID:73576-1723917600-1723928400@odessaarts.org
SUMMARY:Live Music with Flair: Matthew Marcus McDaniel
DESCRIPTION:
URL:https://odessaarts.org/event/live-music-with-flair-matthew-marcus-mcdaniel-3/
LOCATION:Flair Taverna\, 2701 JBS Parkway\, Odessa\, Texas
CATEGORIES:Music
ATTACH;FMTTYPE=image/png:https://odessaarts.org/wp-content/uploads/2024/07/Matthew-Marcus-McDaniel-SQ.png
END:VEVENT
END:VCALENDAR