BEGIN:VCALENDAR
VERSION:2.0
PRODID:-//Odessa Arts - ECPv6.15.20//NONSGML v1.0//EN
CALSCALE:GREGORIAN
METHOD:PUBLISH
X-ORIGINAL-URL:https://odessaarts.org
X-WR-CALDESC:Events for Odessa Arts
REFRESH-INTERVAL;VALUE=DURATION:PT1H
X-Robots-Tag:noindex
X-PUBLISHED-TTL:PT1H
BEGIN:VTIMEZONE
TZID:America/Chicago
BEGIN:DAYLIGHT
TZOFFSETFROM:-0600
TZOFFSETTO:-0500
TZNAME:CDT
DTSTART:20230312T080000
END:DAYLIGHT
BEGIN:STANDARD
TZOFFSETFROM:-0500
TZOFFSETTO:-0600
TZNAME:CST
DTSTART:20231105T070000
END:STANDARD
BEGIN:DAYLIGHT
TZOFFSETFROM:-0600
TZOFFSETTO:-0500
TZNAME:CDT
DTSTART:20240310T080000
END:DAYLIGHT
BEGIN:STANDARD
TZOFFSETFROM:-0500
TZOFFSETTO:-0600
TZNAME:CST
DTSTART:20241103T070000
END:STANDARD
BEGIN:DAYLIGHT
TZOFFSETFROM:-0600
TZOFFSETTO:-0500
TZNAME:CDT
DTSTART:20250309T080000
END:DAYLIGHT
BEGIN:STANDARD
TZOFFSETFROM:-0500
TZOFFSETTO:-0600
TZNAME:CST
DTSTART:20251102T070000
END:STANDARD
END:VTIMEZONE
BEGIN:VEVENT
DTSTART;TZID=America/Chicago:20240818T140000
DTEND;TZID=America/Chicago:20240818T160000
DTSTAMP:20260425T132151
CREATED:20240719T211004Z
LAST-MODIFIED:20240814T220922Z
UID:73654-1723989600-1723996800@odessaarts.org
SUMMARY:West Texas Jazz Jam
DESCRIPTION:Calling all jazz enthusiasts! Flair Taverna\, in collaboration with the West Texas Jazz Society\, is excited to host a West Texas Jazz Jam on Sunday\, Aug 18\, from 2-4 PM in our lounge. \n\n\n\n🎺 🎷🎹🎸🎙️🥁Bring your horn\, your voice\, or simply your love for jazz\, and join in the fun with fellow music aficionados! We’re all set with backline provided by the West Texas Jazz Society’s house band\, ensuring a seamless jamming experience.  \n\n\n\n\n🌟All ages are welcome and reservations are recommended. Come feel the rhythm and become part of our vibrant community of jazz lovers. \n\n\n\nEnjoy an afternoon where great music and great company meet Flair’s chef-inspired dishes and craft cocktails. \n\n\n\n\n\nMessage us or call us at 432-653-5154 to make reservations.\n\n\n\n 2701 John Ben Shepperd Pkwy\, Odessa\nCorner of Parkway and University
URL:https://odessaarts.org/event/west-texas-jazz-jam-6/
LOCATION:Flair Taverna\, 2701 JBS Parkway\, Odessa\, Texas
CATEGORIES:Music
ATTACH;FMTTYPE=image/png:https://odessaarts.org/wp-content/uploads/2024/07/JAZZ-JAM-SQ1.png
END:VEVENT
END:VCALENDAR