BEGIN:VCALENDAR
VERSION:2.0
PRODID:-//Odessa Arts - ECPv6.15.20//NONSGML v1.0//EN
CALSCALE:GREGORIAN
METHOD:PUBLISH
X-ORIGINAL-URL:https://odessaarts.org
X-WR-CALDESC:Events for Odessa Arts
REFRESH-INTERVAL;VALUE=DURATION:PT1H
X-Robots-Tag:noindex
X-PUBLISHED-TTL:PT1H
BEGIN:VTIMEZONE
TZID:America/Chicago
BEGIN:DAYLIGHT
TZOFFSETFROM:-0600
TZOFFSETTO:-0500
TZNAME:CDT
DTSTART:20230312T080000
END:DAYLIGHT
BEGIN:STANDARD
TZOFFSETFROM:-0500
TZOFFSETTO:-0600
TZNAME:CST
DTSTART:20231105T070000
END:STANDARD
BEGIN:DAYLIGHT
TZOFFSETFROM:-0600
TZOFFSETTO:-0500
TZNAME:CDT
DTSTART:20240310T080000
END:DAYLIGHT
BEGIN:STANDARD
TZOFFSETFROM:-0500
TZOFFSETTO:-0600
TZNAME:CST
DTSTART:20241103T070000
END:STANDARD
BEGIN:DAYLIGHT
TZOFFSETFROM:-0600
TZOFFSETTO:-0500
TZNAME:CDT
DTSTART:20250309T080000
END:DAYLIGHT
BEGIN:STANDARD
TZOFFSETFROM:-0500
TZOFFSETTO:-0600
TZNAME:CST
DTSTART:20251102T070000
END:STANDARD
END:VTIMEZONE
BEGIN:VEVENT
DTSTART;TZID=America/Chicago:20240819T180000
DTEND;TZID=America/Chicago:20240819T220000
DTSTAMP:20260425T132136
CREATED:20240816T151503Z
LAST-MODIFIED:20240816T151503Z
UID:73769-1724090400-1724104800@odessaarts.org
SUMMARY:Full Moon Party - BUCK Moon at Black Tulip
DESCRIPTION:Join us for our Full Moon pARTy!!   Black Tulip and our ROOTS Garden will be open for business and the party will be located in our parking lot and will feature your favorite vendors\, artists\, live music\, food trucks\, drinks\, tattoos\, piercings\, and more! Don’t miss out! Our Full Moon Parties happen each month on the nights of the Full Moons from April through October!
URL:https://odessaarts.org/event/full-moon-party-buck-moon-at-black-tulip/
LOCATION:Black Tulip\, 4651 N. Grandview Ave\, Odessa\, TX\, 79762\, United States
CATEGORIES:Humanities,Music,Visual Arts
END:VEVENT
END:VCALENDAR