BEGIN:VCALENDAR
VERSION:2.0
PRODID:-//Odessa Arts - ECPv6.15.20//NONSGML v1.0//EN
CALSCALE:GREGORIAN
METHOD:PUBLISH
X-WR-CALNAME:Odessa Arts
X-ORIGINAL-URL:https://odessaarts.org
X-WR-CALDESC:Events for Odessa Arts
REFRESH-INTERVAL;VALUE=DURATION:PT1H
X-Robots-Tag:noindex
X-PUBLISHED-TTL:PT1H
BEGIN:VTIMEZONE
TZID:America/Chicago
BEGIN:DAYLIGHT
TZOFFSETFROM:-0600
TZOFFSETTO:-0500
TZNAME:CDT
DTSTART:20230312T080000
END:DAYLIGHT
BEGIN:STANDARD
TZOFFSETFROM:-0500
TZOFFSETTO:-0600
TZNAME:CST
DTSTART:20231105T070000
END:STANDARD
BEGIN:DAYLIGHT
TZOFFSETFROM:-0600
TZOFFSETTO:-0500
TZNAME:CDT
DTSTART:20240310T080000
END:DAYLIGHT
BEGIN:STANDARD
TZOFFSETFROM:-0500
TZOFFSETTO:-0600
TZNAME:CST
DTSTART:20241103T070000
END:STANDARD
BEGIN:DAYLIGHT
TZOFFSETFROM:-0600
TZOFFSETTO:-0500
TZNAME:CDT
DTSTART:20250309T080000
END:DAYLIGHT
BEGIN:STANDARD
TZOFFSETFROM:-0500
TZOFFSETTO:-0600
TZNAME:CST
DTSTART:20251102T070000
END:STANDARD
END:VTIMEZONE
BEGIN:VEVENT
DTSTART;TZID=America/Chicago:20240830T120000
DTEND;TZID=America/Chicago:20240908T230000
DTSTAMP:20260425T103129
CREATED:20240816T152357Z
LAST-MODIFIED:20240816T152638Z
UID:73771-1725019200-1725836400@odessaarts.org
SUMMARY:Permian Basin Fair & Exposition 2024
DESCRIPTION:
URL:https://odessaarts.org/event/permian-basin-fair-exposition-2024/
LOCATION:Ector County Coliseum\, 4201 Andrews Highway\, Odessa\, TX\, 79762\, United States
CATEGORIES:Humanities,Music,Visual Arts
END:VEVENT
BEGIN:VEVENT
DTSTART;TZID=America/Chicago:20240906T180000
DTEND;TZID=America/Chicago:20240906T210000
DTSTAMP:20260425T103129
CREATED:20231208T182558Z
LAST-MODIFIED:20231208T182558Z
UID:71965-1725645600-1725656400@odessaarts.org
SUMMARY:First Friday
DESCRIPTION:WHAT IS FIRST FRIDAY?\n\n\n\n\n\nFirst Friday ODTX is a monthly gathering every first Friday of the month for residents and visitors of downtown Odessa. Each month\, the streets are lively and colorful with music\, games\, and delicious food. There are unbeatable deals from local businesses and exciting opportunities to collect amazing giveaways. The event is open to all ages and caters to everyone’s interests. For music lovers\, there are live performances by local bands and artists\, while foodies can indulge in a diverse range of street eats. Downtown shops and eateries will offer special promotions. First Friday ODTX event brings vibrancy and community spirit to downtown Odessa\, making it the perfect place to spend a Friday evening.
URL:https://odessaarts.org/event/first-friday-3/2024-09-06/
LOCATION:Downtown Odessa\, 79761\, United States
CATEGORIES:Humanities,Music,Visual Arts
END:VEVENT
BEGIN:VEVENT
DTSTART;TZID=America/Chicago:20240906T180000
DTEND;TZID=America/Chicago:20240906T210000
DTSTAMP:20260425T103129
CREATED:20240730T184850Z
LAST-MODIFIED:20240730T184850Z
UID:73711-1725645600-1725656400@odessaarts.org
SUMMARY:Live Music with Flair: Black Gold
DESCRIPTION:
URL:https://odessaarts.org/event/live-music-with-flair-black-gold-12/
LOCATION:Flair Taverna\, 2701 JBS Parkway\, Odessa\, Texas
CATEGORIES:Music
ATTACH;FMTTYPE=image/png:https://odessaarts.org/wp-content/uploads/2024/07/Black-Gold-SQ.png
END:VEVENT
END:VCALENDAR