BEGIN:VCALENDAR
VERSION:2.0
PRODID:-//Odessa Arts - ECPv6.15.20//NONSGML v1.0//EN
CALSCALE:GREGORIAN
METHOD:PUBLISH
X-WR-CALNAME:Odessa Arts
X-ORIGINAL-URL:https://odessaarts.org
X-WR-CALDESC:Events for Odessa Arts
REFRESH-INTERVAL;VALUE=DURATION:PT1H
X-Robots-Tag:noindex
X-PUBLISHED-TTL:PT1H
BEGIN:VTIMEZONE
TZID:America/Chicago
BEGIN:DAYLIGHT
TZOFFSETFROM:-0600
TZOFFSETTO:-0500
TZNAME:CDT
DTSTART:20230312T080000
END:DAYLIGHT
BEGIN:STANDARD
TZOFFSETFROM:-0500
TZOFFSETTO:-0600
TZNAME:CST
DTSTART:20231105T070000
END:STANDARD
BEGIN:DAYLIGHT
TZOFFSETFROM:-0600
TZOFFSETTO:-0500
TZNAME:CDT
DTSTART:20240310T080000
END:DAYLIGHT
BEGIN:STANDARD
TZOFFSETFROM:-0500
TZOFFSETTO:-0600
TZNAME:CST
DTSTART:20241103T070000
END:STANDARD
BEGIN:DAYLIGHT
TZOFFSETFROM:-0600
TZOFFSETTO:-0500
TZNAME:CDT
DTSTART:20250309T080000
END:DAYLIGHT
BEGIN:STANDARD
TZOFFSETFROM:-0500
TZOFFSETTO:-0600
TZNAME:CST
DTSTART:20251102T070000
END:STANDARD
END:VTIMEZONE
BEGIN:VEVENT
DTSTART;TZID=America/Chicago:20240830T120000
DTEND;TZID=America/Chicago:20240908T230000
DTSTAMP:20260425T103208
CREATED:20240816T152357Z
LAST-MODIFIED:20240816T152638Z
UID:73771-1725019200-1725836400@odessaarts.org
SUMMARY:Permian Basin Fair & Exposition 2024
DESCRIPTION:
URL:https://odessaarts.org/event/permian-basin-fair-exposition-2024/
LOCATION:Ector County Coliseum\, 4201 Andrews Highway\, Odessa\, TX\, 79762\, United States
CATEGORIES:Humanities,Music,Visual Arts
END:VEVENT
BEGIN:VEVENT
DTSTART;TZID=America/Chicago:20240907T180000
DTEND;TZID=America/Chicago:20240907T210000
DTSTAMP:20260425T103208
CREATED:20240730T185132Z
LAST-MODIFIED:20240730T185132Z
UID:73714-1725732000-1725742800@odessaarts.org
SUMMARY:Live Music with Flair: Ri Wolf
DESCRIPTION:
URL:https://odessaarts.org/event/live-music-with-flair-ri-wolf-4/
LOCATION:Flair Taverna\, 2701 JBS Parkway\, Odessa\, Texas
CATEGORIES:Music
ATTACH;FMTTYPE=image/png:https://odessaarts.org/wp-content/uploads/2024/07/Ri-Wolf-SQ.png
END:VEVENT
BEGIN:VEVENT
DTSTART;TZID=America/Chicago:20240907T193000
DTEND;TZID=America/Chicago:20240907T193000
DTSTAMP:20260425T103208
CREATED:20240510T195730Z
LAST-MODIFIED:20240510T195730Z
UID:73206-1725737400-1725737400@odessaarts.org
SUMMARY:American Stories
DESCRIPTION:Ethan Blake\, Cello \nCello Concerto in B minor – ANTONÍN DVOŘÁK \nSymphony No. 1 – WILLIAM GRANT STILL
URL:https://odessaarts.org/event/american-stories/
LOCATION:Wagner Noël Performing Arts Center\, 1310 FM 1788\, Midland\, Texas
CATEGORIES:Music
END:VEVENT
END:VCALENDAR