BEGIN:VCALENDAR
VERSION:2.0
PRODID:-//Odessa Arts - ECPv6.15.20//NONSGML v1.0//EN
CALSCALE:GREGORIAN
METHOD:PUBLISH
X-WR-CALNAME:Odessa Arts
X-ORIGINAL-URL:https://odessaarts.org
X-WR-CALDESC:Events for Odessa Arts
REFRESH-INTERVAL;VALUE=DURATION:PT1H
X-Robots-Tag:noindex
X-PUBLISHED-TTL:PT1H
BEGIN:VTIMEZONE
TZID:America/Chicago
BEGIN:DAYLIGHT
TZOFFSETFROM:-0600
TZOFFSETTO:-0500
TZNAME:CDT
DTSTART:20230312T080000
END:DAYLIGHT
BEGIN:STANDARD
TZOFFSETFROM:-0500
TZOFFSETTO:-0600
TZNAME:CST
DTSTART:20231105T070000
END:STANDARD
BEGIN:DAYLIGHT
TZOFFSETFROM:-0600
TZOFFSETTO:-0500
TZNAME:CDT
DTSTART:20240310T080000
END:DAYLIGHT
BEGIN:STANDARD
TZOFFSETFROM:-0500
TZOFFSETTO:-0600
TZNAME:CST
DTSTART:20241103T070000
END:STANDARD
BEGIN:DAYLIGHT
TZOFFSETFROM:-0600
TZOFFSETTO:-0500
TZNAME:CDT
DTSTART:20250309T080000
END:DAYLIGHT
BEGIN:STANDARD
TZOFFSETFROM:-0500
TZOFFSETTO:-0600
TZNAME:CST
DTSTART:20251102T070000
END:STANDARD
END:VTIMEZONE
BEGIN:VEVENT
DTSTART;TZID=America/Chicago:20240912T180000
DTEND;TZID=America/Chicago:20240912T210000
DTSTAMP:20260425T104102
CREATED:20240808T171139Z
LAST-MODIFIED:20240808T171234Z
UID:73736-1726164000-1726174800@odessaarts.org
SUMMARY:Jazz Nights at Flair: Sergio Tarin
DESCRIPTION:
URL:https://odessaarts.org/event/jazz-nights-at-flair-sergio-tarin/
LOCATION:Flair Taverna\, 2701 JBS Parkway\, Odessa\, Texas
CATEGORIES:Music
ATTACH;FMTTYPE=image/png:https://odessaarts.org/wp-content/uploads/2024/08/Sept-w2-Sergio-Tarin-SQ.png
END:VEVENT
BEGIN:VEVENT
DTSTART;TZID=America/Chicago:20240912T180000
DTEND;TZID=America/Chicago:20240912T210000
DTSTAMP:20260425T104102
CREATED:20240816T155258Z
LAST-MODIFIED:20240816T155258Z
UID:73783-1726164000-1726174800@odessaarts.org
SUMMARY:Midland Art Crawl
DESCRIPTION:Dark Arts Crawl: A Night of Unconventional Creativity \nJoin us for an enchanting evening of art\, food\, and magic at the Dark Arts Crawl\, happening on September 12th from 6-9 PM. Experience Midland’s vibrant art scene as you explore five unique venues\, each offering its own take on the darker side of creativity: \n\n\nThe Blue Door (21+): Step into a surreal world of avant-garde expression. Enjoy themed cocktails that perfectly complement the art\, making your visit a sensory experience like no other. \n\n\nThe FaFa Gallery: Dive into thought-provoking installations and mixed-media works while enjoying complimentary refreshments and exploring the Midland Arts Association Fall Show in conjunction with the Dark Arts Crawl. \n\n\nVelvet Mesquite Design: Embrace the bohemian vibe and experience art through all 5 senses. This stop offers a laid-back atmosphere where you can relax with complimentary food and drink while getting a little witch-y. \n\n\nThe Waystone Brewery & Board Games: Step into a wizarding world where magic meets craft beer and board games. Experience an evening of enchantment as you explore art and enjoy the immersive atmosphere created just for the Dark Arts Crawl. \n\n\nCotton Flat Records: Immerse yourself in the fusion of music and visual art. Sip on your favorite beverage and let the sounds and sights transport you to a different world. \n\n\nEvery venue will have food and drink available\, either complimentary or for purchase\, so you can savor the evening without missing a beat. The event is family-friendly\, with many stops welcoming your four-legged friends as well. Whether you decide to explore all the unique offerings at each venue or choose a few favorites to make a night of it\, the Dark Arts Crawl promises an evening of inspiration\, intrigue\, and unforgettable experiences. \nWant to Get Involved? \n\n\nArtists: Renew your membership or become a member today to participate in future crawls and showcase your work at these unique venues. Don’t miss your chance to be part of Midland’s most exciting art event! \n\n\nArt Lovers: Support the Dark Arts Crawl by becoming a public member. Your membership helps us continue to bring innovative art events to the community and gives you exclusive access to member-only benefits. \n\n\nBusinesses: Partner with us by becoming a sponsor. Showcase your brand to a creative and engaged audience while supporting the local art scene. \n\n\nDate: September 12th\nTime: 6:00 PM – 9:00 PM\nVenues: The Blue Door\, Fafa Gallery\, Cotton Flat Records\, The Waystone Brewery & Board Games\, and Velvet Mesquite Designs \nBring the whole family\, enjoy the art\, and make it a night to remember! Visit our website to learn more about memberships\, artist opportunities\, and sponsorship packages. Let’s make the Dark Arts Crawl bigger and better together! \n 
URL:https://odessaarts.org/event/midland-art-crawl/
LOCATION:TX
CATEGORIES:Humanities,Music,Visual Arts
END:VEVENT
END:VCALENDAR