BEGIN:VCALENDAR
VERSION:2.0
PRODID:-//Odessa Arts - ECPv6.15.20//NONSGML v1.0//EN
CALSCALE:GREGORIAN
METHOD:PUBLISH
X-WR-CALNAME:Odessa Arts
X-ORIGINAL-URL:https://odessaarts.org
X-WR-CALDESC:Events for Odessa Arts
REFRESH-INTERVAL;VALUE=DURATION:PT1H
X-Robots-Tag:noindex
X-PUBLISHED-TTL:PT1H
BEGIN:VTIMEZONE
TZID:America/Chicago
BEGIN:DAYLIGHT
TZOFFSETFROM:-0600
TZOFFSETTO:-0500
TZNAME:CDT
DTSTART:20230312T080000
END:DAYLIGHT
BEGIN:STANDARD
TZOFFSETFROM:-0500
TZOFFSETTO:-0600
TZNAME:CST
DTSTART:20231105T070000
END:STANDARD
BEGIN:DAYLIGHT
TZOFFSETFROM:-0600
TZOFFSETTO:-0500
TZNAME:CDT
DTSTART:20240310T080000
END:DAYLIGHT
BEGIN:STANDARD
TZOFFSETFROM:-0500
TZOFFSETTO:-0600
TZNAME:CST
DTSTART:20241103T070000
END:STANDARD
BEGIN:DAYLIGHT
TZOFFSETFROM:-0600
TZOFFSETTO:-0500
TZNAME:CDT
DTSTART:20250309T080000
END:DAYLIGHT
BEGIN:STANDARD
TZOFFSETFROM:-0500
TZOFFSETTO:-0600
TZNAME:CST
DTSTART:20251102T070000
END:STANDARD
END:VTIMEZONE
BEGIN:VEVENT
DTSTART;TZID=America/Chicago:20240913T080000
DTEND;TZID=America/Chicago:20240915T170000
DTSTAMP:20260425T103206
CREATED:20240910T204741Z
LAST-MODIFIED:20240910T204908Z
UID:73923-1726214400-1726419600@odessaarts.org
SUMMARY:Barrio Fest III
DESCRIPTION:
URL:https://odessaarts.org/event/barrio-fest-iii-2/
LOCATION:Fort Stockton Community Theatre\, 102 S Nelson Street\, Fort Stockton\, TX\, 79735\, United States
CATEGORIES:Humanities,Music,Public Art,Visual Arts
END:VEVENT
BEGIN:VEVENT
DTSTART;TZID=America/Chicago:20240914T180000
DTEND;TZID=America/Chicago:20240914T210000
DTSTAMP:20260425T103206
CREATED:20240808T171639Z
LAST-MODIFIED:20240808T171639Z
UID:73740-1726336800-1726347600@odessaarts.org
SUMMARY:Live Music with Flair: Jeff George
DESCRIPTION:
URL:https://odessaarts.org/event/live-music-with-flair-jeff-george/
LOCATION:Flair Taverna\, 2701 JBS Parkway\, Odessa\, Texas
CATEGORIES:Music
ATTACH;FMTTYPE=image/png:https://odessaarts.org/wp-content/uploads/2024/08/Sept-w2-Jeff-George-SQ.png
END:VEVENT
BEGIN:VEVENT
DTSTART;TZID=America/Chicago:20240914T190000
DTEND;TZID=America/Chicago:20240914T190000
DTSTAMP:20260425T103206
CREATED:20240904T155425Z
LAST-MODIFIED:20240904T160310Z
UID:73838-1726340400-1726340400@odessaarts.org
SUMMARY:Jeremy Camp:  Deeper Water's Tour
DESCRIPTION:Join Jeremy Camp and special guest Joseph O’Brien on the Deeper Waters Tour! This tour will be a powerful night of music playing songs off Jeremy’s recently released album “Deeper Waters\,” as well as past favorites like “Dead Man Walking\,” “Keep Me in the Moment\,” “When You Speak\,” and more. We’ll see you this Fall!
URL:https://odessaarts.org/event/jeremy-camp-deeper-waters-tour-2/
LOCATION:Wagner Noël Performing Arts Center\, 1310 FM 1788\, Midland\, Texas
CATEGORIES:Music
END:VEVENT
END:VCALENDAR