BEGIN:VCALENDAR
VERSION:2.0
PRODID:-//Odessa Arts - ECPv6.15.20//NONSGML v1.0//EN
CALSCALE:GREGORIAN
METHOD:PUBLISH
X-ORIGINAL-URL:https://odessaarts.org
X-WR-CALDESC:Events for Odessa Arts
REFRESH-INTERVAL;VALUE=DURATION:PT1H
X-Robots-Tag:noindex
X-PUBLISHED-TTL:PT1H
BEGIN:VTIMEZONE
TZID:America/Chicago
BEGIN:DAYLIGHT
TZOFFSETFROM:-0600
TZOFFSETTO:-0500
TZNAME:CDT
DTSTART:20230312T080000
END:DAYLIGHT
BEGIN:STANDARD
TZOFFSETFROM:-0500
TZOFFSETTO:-0600
TZNAME:CST
DTSTART:20231105T070000
END:STANDARD
BEGIN:DAYLIGHT
TZOFFSETFROM:-0600
TZOFFSETTO:-0500
TZNAME:CDT
DTSTART:20240310T080000
END:DAYLIGHT
BEGIN:STANDARD
TZOFFSETFROM:-0500
TZOFFSETTO:-0600
TZNAME:CST
DTSTART:20241103T070000
END:STANDARD
BEGIN:DAYLIGHT
TZOFFSETFROM:-0600
TZOFFSETTO:-0500
TZNAME:CDT
DTSTART:20250309T080000
END:DAYLIGHT
BEGIN:STANDARD
TZOFFSETFROM:-0500
TZOFFSETTO:-0600
TZNAME:CST
DTSTART:20251102T070000
END:STANDARD
END:VTIMEZONE
BEGIN:VEVENT
DTSTART;TZID=America/Chicago:20241011T180000
DTEND;TZID=America/Chicago:20241011T210000
DTSTAMP:20260425T085346
CREATED:20240906T124820Z
LAST-MODIFIED:20240906T124820Z
UID:73893-1728669600-1728680400@odessaarts.org
SUMMARY:Live Music with Flair: The Hill Brothers
DESCRIPTION:
URL:https://odessaarts.org/event/live-music-with-flair-the-hill-brothers-2/
LOCATION:Flair Taverna\, 2701 JBS Parkway\, Odessa\, Texas
CATEGORIES:Music
ATTACH;FMTTYPE=image/png:https://odessaarts.org/wp-content/uploads/2024/09/Oct-w2-Hill-brothers-SQ-2.png
END:VEVENT
BEGIN:VEVENT
DTSTART;TZID=America/Chicago:20241011T190000
DTEND;TZID=America/Chicago:20241011T190000
DTSTAMP:20260425T085346
CREATED:20240912T193055Z
LAST-MODIFIED:20240912T193515Z
UID:73983-1728673200-1728673200@odessaarts.org
SUMMARY:Songwriter Concert & Workshop
DESCRIPTION:Love music? The Songwriter Concert & Workshop are FREE events open to the community. Hear from expert songwriters about methods of composition and develop/enhance your own songwriting skills. Whether you’ve been songwriting for years or new to the art\, this weekend will be great for exploring your creativity and networking with fellow songwriters.
URL:https://odessaarts.org/event/songwriter-concert-workshop/2024-10-11/
LOCATION:Midland College\, 3600 N. Garfield Street\, Midland\, TX\, 79705\, United States
CATEGORIES:Humanities,Music
END:VEVENT
BEGIN:VEVENT
DTSTART;TZID=America/Chicago:20241011T193000
DTEND;TZID=America/Chicago:20241011T193000
DTSTAMP:20260425T085346
CREATED:20240911T192827Z
LAST-MODIFIED:20240912T160010Z
UID:73934-1728675000-1728675000@odessaarts.org
SUMMARY:A Midsummer Night's Dream
DESCRIPTION:  \n  \n  \n  \nShakespeare’s most famous comedy entangles two worlds – the court of Athens and a mystical forest of magical creatures that lie just beyond the city’s walls.
URL:https://odessaarts.org/event/a-midsummer-nights-dream-2024-10-06-2-2024-10-11/
LOCATION:2000 W. Wadley\, Midland TX 79705\, 200 W. Wadley\, Midland\, TX\, 79705\, United States
CATEGORIES:Humanities,Music,Theatre & Literary Arts
END:VEVENT
BEGIN:VEVENT
DTSTART;TZID=America/Chicago:20241011T200000
DTEND;TZID=America/Chicago:20241011T200000
DTSTAMP:20260425T085346
CREATED:20240930T192842Z
LAST-MODIFIED:20240930T192842Z
UID:74083-1728676800-1728676800@odessaarts.org
SUMMARY:Luis Angel El Flaco
DESCRIPTION:Dos Amigos te trae una dinámica padrísima para que ganes una mesa VIP con 6 entradas para Luis Ángel “El Flaco” este próximo viernes 11 de octubre. ¿Listos para una noche inolvidable? \n\n\n¿Cómo le entran? ¡Muy fácil\,\nDale Like a esta publicación.\nComparte esta publicación en tu muro. ¡Que se entere toda la banda!\nEtiqueta a tus cinco (5) compas con quienes te gustaría compartir la mesa VIP. ¡Asegúrate de que estén listos para darle duro!\n ¡Eso es todo! Siguiendo estos pasos ya estarás participando para asegurar una gran noche en el mejor evento de Luis Ángel “El Flaco”.\n\n\n Fecha: Viernes\, 11 de octubre\n Lugar: Restaurante Dos Amigos\n Hora: Desde las 8 PM\n\n\n¡No dejen pasar esta oportunidad! El ganador se anunciará el miércoles 9 de octubre a las 5 PM en nuestra página oficial.\nDos Amigos\n\n\n#ViernesVIPConElFlaco #DosAmigosYUnaNocheEpic\n\n\nAlerta de Seguridad de Restaurante Dos Amigos\n\n\nQueridos clientes\, les recordamos que nunca solicitamos información personal ni enviamos enlaces de registro. Por favor\, ignoren cualquier link sospechoso que parezca provenir de nosotros y verifiquen su autenticidad contactándonos directamente a través de nuestros canales oficiales.\n\n\nGracias por su atención y precaución.\n\n\nEl Equipo de Restaurante Dos Amigos\n\n\n ¡A compartir y a etiquetar se ha dicho! Vamos a llenar de ritmo y sabor esa noche. ¡Viva la música\, viva la amistad\, y viva Dos Amigos!
URL:https://odessaarts.org/event/luis-angel-el-flaco/
LOCATION:Dos Amigos\, 4700 N.Golder Ave\, Odessa\, TX\, 79764\, United States
CATEGORIES:Humanities,Music
END:VEVENT
END:VCALENDAR