BEGIN:VCALENDAR
VERSION:2.0
PRODID:-//Odessa Arts - ECPv6.15.20//NONSGML v1.0//EN
CALSCALE:GREGORIAN
METHOD:PUBLISH
X-WR-CALNAME:Odessa Arts
X-ORIGINAL-URL:https://odessaarts.org
X-WR-CALDESC:Events for Odessa Arts
REFRESH-INTERVAL;VALUE=DURATION:PT1H
X-Robots-Tag:noindex
X-PUBLISHED-TTL:PT1H
BEGIN:VTIMEZONE
TZID:America/Chicago
BEGIN:DAYLIGHT
TZOFFSETFROM:-0600
TZOFFSETTO:-0500
TZNAME:CDT
DTSTART:20230312T080000
END:DAYLIGHT
BEGIN:STANDARD
TZOFFSETFROM:-0500
TZOFFSETTO:-0600
TZNAME:CST
DTSTART:20231105T070000
END:STANDARD
BEGIN:DAYLIGHT
TZOFFSETFROM:-0600
TZOFFSETTO:-0500
TZNAME:CDT
DTSTART:20240310T080000
END:DAYLIGHT
BEGIN:STANDARD
TZOFFSETFROM:-0500
TZOFFSETTO:-0600
TZNAME:CST
DTSTART:20241103T070000
END:STANDARD
BEGIN:DAYLIGHT
TZOFFSETFROM:-0600
TZOFFSETTO:-0500
TZNAME:CDT
DTSTART:20250309T080000
END:DAYLIGHT
BEGIN:STANDARD
TZOFFSETFROM:-0500
TZOFFSETTO:-0600
TZNAME:CST
DTSTART:20251102T070000
END:STANDARD
END:VTIMEZONE
BEGIN:VEVENT
DTSTART;TZID=America/Chicago:20241016T190000
DTEND;TZID=America/Chicago:20241016T213000
DTSTAMP:20260425T085329
CREATED:20240522T202550Z
LAST-MODIFIED:20240522T202550Z
UID:73386-1729105200-1729114200@odessaarts.org
SUMMARY:Soul Asylum: Slowly but Shirley Tour
DESCRIPTION:Join us for a night you won’t forget with Grammy award-winning and multi-platinum selling rock band Soul Asylum with support from The Juliana Hatfield Three performing “Become What You Are” at The Ector Theatre on Wednesday\, October 16\, 2024\, at 7 PM! \nRead More About the Band…\nGrammy award-winning and multi-platinum selling rock band Soul Asylum started as Minneapolis’ punk younger brothers to the Replacements and Husker Dü. \nTheir 1992 breakthrough album\, Grave Dancers Union\, featured the international hits “Runaway Train\,” “Black Gold” and “Somebody to Shove.” \n“Runaway Train” won a Grammy\, and its music video brought nearly two dozen missing and exploited children and teens around the world home to their families. \nSoul Asylum has released 12 original albums\, in addition to multiple live albums and greatest hits collections. \nHurry Up and Wait was released in 2020 to much fan and critical acclaim worldwide\, landing the band their highest Billboard chart position since 1995’s platinum-selling Let Your Dim Light Shine. \nThe current Soul Asylum line-up features Dave Pirner (lead vocals/guitar)\, Michael Bland (drums)\, Ryan Smith (lead guitar) and Jeremy Tappero (bass). \nPirner\, generally considered to be one of the great American songwriters\, released a best-selling annotated collection of lyrics\, Loud\, Fast\, Words\, in 2020. \nSoul Asylum released their 1993 MTV Unplugged performance on vinyl for the first time ever as a 2023 Record Store Day exclusive. In celebration of that 30-year anniversary\, the band played a special unplugged show at State Theatre in Minneapolis on April 20 that was Soul Asylum’s highest-grossing show ever.
URL:https://odessaarts.org/event/soul-asylum-slowly-but-shirley-tour/
LOCATION:The Ector Theatre\, 500 N. Texas\, Odessa\, TX\, 79761\, United States
CATEGORIES:Music
END:VEVENT
BEGIN:VEVENT
DTSTART;TZID=America/Chicago:20241016T193000
DTEND;TZID=America/Chicago:20241016T193000
DTSTAMP:20260425T085329
CREATED:20240521T202111Z
LAST-MODIFIED:20240521T202111Z
UID:73330-1729107000-1729107000@odessaarts.org
SUMMARY:UTPB Choir Concert
DESCRIPTION:
URL:https://odessaarts.org/event/utpb-choir-concert/
LOCATION:Rea-Greathouse Recital Hall\, 1310 Farm to Market 1788\, Midlan\, TX\, 79707\, United States
CATEGORIES:Music
END:VEVENT
BEGIN:VEVENT
DTSTART;TZID=America/Chicago:20241016T193000
DTEND;TZID=America/Chicago:20241016T193000
DTSTAMP:20260425T085329
CREATED:20240717T182137Z
LAST-MODIFIED:20240717T182137Z
UID:73633-1729107000-1729107000@odessaarts.org
SUMMARY:98 Degrees
DESCRIPTION:98 Degrees is an internationally acclaimed\, multi-platinum\, multi-award winning and nominated vocal group\, comprised of brothers Nick and Drew Lachey\, Jeff Timmons\, and Justin Jeffre. The group has sold over 15 million albums worldwide with (4) Top 5 Billboard charting radio singles including mega-hits such as “The Hardest Thing”\, “I Do\, Cherish You”\, “Because of You”\, and the number one hit single featuring Mariah Carey called\, “Thank God I Found You.” 98 Degrees’ albums have reached gold or platinum status in more than 60 countries around the world and their first Christmas album entitled “98 Degrees This Christmas\,” has sold over two million copies\, which is widely recognized as one of the most successful holiday albums of all time. Their latest holiday single\, The First Noel was released in 2023 and charted within the Top 10. \nWith countless concert performances\, singing in front of millions of fans\, the group has also performed at the White House (twice) and made appearances on The Grammys\, Soul Train\, Motown Live\, The Tonight Show\, The American Music Awards\, The Teen Choice Awards\, MTV’s TRL and Dick Clark’s “Rockin New Year’s Eve\, to name a few highlights. \nMost recently\, the band released their latest holiday single\, The First Noel\, which charted on the Billboard Top 10 and they are currently working on new music with plans to release their forthcoming studio album in 2024. \n 
URL:https://odessaarts.org/event/98-degrees/
LOCATION:Wagner Noël Performing Arts Center\, 1310 FM 1788\, Midland\, Texas
CATEGORIES:Music
END:VEVENT
END:VCALENDAR