BEGIN:VCALENDAR
VERSION:2.0
PRODID:-//Odessa Arts - ECPv6.15.20//NONSGML v1.0//EN
CALSCALE:GREGORIAN
METHOD:PUBLISH
X-WR-CALNAME:Odessa Arts
X-ORIGINAL-URL:https://odessaarts.org
X-WR-CALDESC:Events for Odessa Arts
REFRESH-INTERVAL;VALUE=DURATION:PT1H
X-Robots-Tag:noindex
X-PUBLISHED-TTL:PT1H
BEGIN:VTIMEZONE
TZID:America/Chicago
BEGIN:DAYLIGHT
TZOFFSETFROM:-0600
TZOFFSETTO:-0500
TZNAME:CDT
DTSTART:20230312T080000
END:DAYLIGHT
BEGIN:STANDARD
TZOFFSETFROM:-0500
TZOFFSETTO:-0600
TZNAME:CST
DTSTART:20231105T070000
END:STANDARD
BEGIN:DAYLIGHT
TZOFFSETFROM:-0600
TZOFFSETTO:-0500
TZNAME:CDT
DTSTART:20240310T080000
END:DAYLIGHT
BEGIN:STANDARD
TZOFFSETFROM:-0500
TZOFFSETTO:-0600
TZNAME:CST
DTSTART:20241103T070000
END:STANDARD
BEGIN:DAYLIGHT
TZOFFSETFROM:-0600
TZOFFSETTO:-0500
TZNAME:CDT
DTSTART:20250309T080000
END:DAYLIGHT
BEGIN:STANDARD
TZOFFSETFROM:-0500
TZOFFSETTO:-0600
TZNAME:CST
DTSTART:20251102T070000
END:STANDARD
END:VTIMEZONE
BEGIN:VEVENT
DTSTART;TZID=America/Chicago:20241026T150000
DTEND;TZID=America/Chicago:20241026T210000
DTSTAMP:20260425T085325
CREATED:20240912T185648Z
LAST-MODIFIED:20240912T185648Z
UID:73984-1729954800-1729976400@odessaarts.org
SUMMARY:Fall Festival
DESCRIPTION:Family Event: Ages 4 and up
URL:https://odessaarts.org/event/fall-festival/
LOCATION:McKinney Park\, 625 W Pool Road\, Odessa\, TX\, 79763\, United States
CATEGORIES:Humanities,Music,Visual Arts
END:VEVENT
BEGIN:VEVENT
DTSTART;TZID=America/Chicago:20241026T180000
DTEND;TZID=America/Chicago:20241026T210000
DTSTAMP:20260425T085325
CREATED:20240930T023421Z
LAST-MODIFIED:20240930T023421Z
UID:74064-1729965600-1729976400@odessaarts.org
SUMMARY:Live Music with Flair: Yosh & Yimmy
DESCRIPTION:
URL:https://odessaarts.org/event/live-music-with-flair-yosh-yimmy/
LOCATION:Flair Taverna\, 2701 JBS Parkway\, Odessa\, Texas
CATEGORIES:Music
ATTACH;FMTTYPE=image/png:https://odessaarts.org/wp-content/uploads/2024/09/Yosh-Yimmy-SQ.png
END:VEVENT
BEGIN:VEVENT
DTSTART;TZID=America/Chicago:20241026T200000
DTEND;TZID=America/Chicago:20241026T200000
DTSTAMP:20260425T085325
CREATED:20241024T200428Z
LAST-MODIFIED:20241024T200428Z
UID:74213-1729972800-1729972800@odessaarts.org
SUMMARY:Los Caporales De Chihuahua 🌵
DESCRIPTION:This Saturday\, October 26th\, the party lights up at Dos Amigos with Los Caporales De Chihuahua \n\n\nDon’t worry about the cold! Here at Dos Amigos we continue with the most pleasant weather for you to enjoy it to the fullest. Get ready for a night filled with live music and DJ that won’t stop playing from 8 PM until the body holds out. \n\n\n Date: Saturday\, October 26th  Time: Starting at 8 PM  Venue: Bar Dos Amigos\n\n\n#NocheConLosCaporales #MúsicaEnVivo #DosAmigosBar\n\n\nWe’re waiting for you to spend an incredible night of pure music and good atmosphere! Don’t miss out\, it’s going to be a blast!
URL:https://odessaarts.org/event/los-caporales-de-chihuahua-%f0%9f%8c%b5/
LOCATION:Dos Amigos\, 4700 N.Golder Ave\, Odessa\, TX\, 79764\, United States
CATEGORIES:Humanities,Music
END:VEVENT
END:VCALENDAR