BEGIN:VCALENDAR
VERSION:2.0
PRODID:-//Odessa Arts - ECPv6.15.20//NONSGML v1.0//EN
CALSCALE:GREGORIAN
METHOD:PUBLISH
X-ORIGINAL-URL:https://odessaarts.org
X-WR-CALDESC:Events for Odessa Arts
REFRESH-INTERVAL;VALUE=DURATION:PT1H
X-Robots-Tag:noindex
X-PUBLISHED-TTL:PT1H
BEGIN:VTIMEZONE
TZID:America/Chicago
BEGIN:DAYLIGHT
TZOFFSETFROM:-0600
TZOFFSETTO:-0500
TZNAME:CDT
DTSTART:20230312T080000
END:DAYLIGHT
BEGIN:STANDARD
TZOFFSETFROM:-0500
TZOFFSETTO:-0600
TZNAME:CST
DTSTART:20231105T070000
END:STANDARD
BEGIN:DAYLIGHT
TZOFFSETFROM:-0600
TZOFFSETTO:-0500
TZNAME:CDT
DTSTART:20240310T080000
END:DAYLIGHT
BEGIN:STANDARD
TZOFFSETFROM:-0500
TZOFFSETTO:-0600
TZNAME:CST
DTSTART:20241103T070000
END:STANDARD
BEGIN:DAYLIGHT
TZOFFSETFROM:-0600
TZOFFSETTO:-0500
TZNAME:CDT
DTSTART:20250309T080000
END:DAYLIGHT
BEGIN:STANDARD
TZOFFSETFROM:-0500
TZOFFSETTO:-0600
TZNAME:CST
DTSTART:20251102T070000
END:STANDARD
END:VTIMEZONE
BEGIN:VEVENT
DTSTART;TZID=America/Chicago:20241212T170000
DTEND;TZID=America/Chicago:20241217T180000
DTSTAMP:20260425T053901
CREATED:20241211T214859Z
LAST-MODIFIED:20241211T214859Z
UID:74844-1734022800-1734458400@odessaarts.org
SUMMARY:Holiday Programs EISD
DESCRIPTION:
URL:https://odessaarts.org/event/holiday-programs-eisd/
LOCATION:TX
CATEGORIES:Humanities,Music
END:VEVENT
BEGIN:VEVENT
DTSTART;TZID=America/Chicago:20241213T180000
DTEND;TZID=America/Chicago:20241213T210000
DTSTAMP:20260425T053901
CREATED:20241111T172212Z
LAST-MODIFIED:20241111T172212Z
UID:74346-1734112800-1734123600@odessaarts.org
SUMMARY:Live Music with Flair: Black Gold
DESCRIPTION:
URL:https://odessaarts.org/event/live-music-with-flair-black-gold-13/
LOCATION:Flair Taverna\, 2701 JBS Parkway\, Odessa\, Texas
CATEGORIES:Music
ATTACH;FMTTYPE=image/png:https://odessaarts.org/wp-content/uploads/2024/11/Dec-w2-Black-Gold-SQ-2.png
END:VEVENT
END:VCALENDAR