BEGIN:VCALENDAR
VERSION:2.0
PRODID:-//Odessa Arts - ECPv6.15.20//NONSGML v1.0//EN
CALSCALE:GREGORIAN
METHOD:PUBLISH
X-WR-CALNAME:Odessa Arts
X-ORIGINAL-URL:https://odessaarts.org
X-WR-CALDESC:Events for Odessa Arts
REFRESH-INTERVAL;VALUE=DURATION:PT1H
X-Robots-Tag:noindex
X-PUBLISHED-TTL:PT1H
BEGIN:VTIMEZONE
TZID:America/Chicago
BEGIN:DAYLIGHT
TZOFFSETFROM:-0600
TZOFFSETTO:-0500
TZNAME:CDT
DTSTART:20230312T080000
END:DAYLIGHT
BEGIN:STANDARD
TZOFFSETFROM:-0500
TZOFFSETTO:-0600
TZNAME:CST
DTSTART:20231105T070000
END:STANDARD
BEGIN:DAYLIGHT
TZOFFSETFROM:-0600
TZOFFSETTO:-0500
TZNAME:CDT
DTSTART:20240310T080000
END:DAYLIGHT
BEGIN:STANDARD
TZOFFSETFROM:-0500
TZOFFSETTO:-0600
TZNAME:CST
DTSTART:20241103T070000
END:STANDARD
BEGIN:DAYLIGHT
TZOFFSETFROM:-0600
TZOFFSETTO:-0500
TZNAME:CDT
DTSTART:20250309T080000
END:DAYLIGHT
BEGIN:STANDARD
TZOFFSETFROM:-0500
TZOFFSETTO:-0600
TZNAME:CST
DTSTART:20251102T070000
END:STANDARD
END:VTIMEZONE
BEGIN:VEVENT
DTSTART;TZID=America/Chicago:20241212T170000
DTEND;TZID=America/Chicago:20241217T180000
DTSTAMP:20260425T053821
CREATED:20241211T214859Z
LAST-MODIFIED:20241211T214859Z
UID:74844-1734022800-1734458400@odessaarts.org
SUMMARY:Holiday Programs EISD
DESCRIPTION:
URL:https://odessaarts.org/event/holiday-programs-eisd/
LOCATION:TX
CATEGORIES:Humanities,Music
END:VEVENT
BEGIN:VEVENT
DTSTART;TZID=America/Chicago:20241214T080000
DTEND;TZID=America/Chicago:20241214T170000
DTSTAMP:20260425T053821
CREATED:20241212T193959Z
LAST-MODIFIED:20241212T193959Z
UID:74884-1734163200-1734195600@odessaarts.org
SUMMARY:Cookies with Santa
DESCRIPTION:Cookies with Santa | Grandview \nJoin us at our Grandview Financial Center in Odessa for a little holiday cheer. We’ll have cookies and a special appearance from Santa Claus. Bring your camera for a day to remember. Be sure to invite your family and friends. This event is free and open to the public.\n–\nInvestment and insurance products are not FDIC insured\, are not bank guaranteed\, and may lose value. Additionally\, insurance products are offered through Frost Insurance. Deposit and loan products are offered through Frost Bank\, Member FDIC.
URL:https://odessaarts.org/event/cookies-with-santa/
LOCATION:Frost\, 2710 N Grandview Ave\, Odessa\, TX\, United States
CATEGORIES:Humanities,Music
END:VEVENT
BEGIN:VEVENT
DTSTART;TZID=America/Chicago:20241214T100000
DTEND;TZID=America/Chicago:20241214T100000
DTSTAMP:20260425T053821
CREATED:20241024T152540Z
LAST-MODIFIED:20241024T152540Z
UID:74187-1734170400-1734170400@odessaarts.org
SUMMARY:An Aaron Watson Family Christmas Tour
DESCRIPTION:An Aaron Watson Family Christmas” is the perfect holiday event for the whole family. The event will be packed full of Christmas classics and songs from his critically-acclaimed Christmas album of the same name\, plus some of Aaron’s most popular hits\, performed by Aaron and the band\, along with special appearances from the Watson family. The event will also feature special surprises sure to put everyone in the holiday spirit.
URL:https://odessaarts.org/event/an-aaron-watson-family-christmas-tour-2/
LOCATION:The Ector Theatre\, 500 N. Texas\, Odessa\, TX\, 79761\, United States
CATEGORIES:Humanities,Music
END:VEVENT
BEGIN:VEVENT
DTSTART;TZID=America/Chicago:20241214T180000
DTEND;TZID=America/Chicago:20241214T210000
DTSTAMP:20260425T053821
CREATED:20241111T173241Z
LAST-MODIFIED:20241111T173241Z
UID:74350-1734199200-1734210000@odessaarts.org
SUMMARY:Live Music with Flair: John Sprott & Ron Riley as 2Blue2
DESCRIPTION:
URL:https://odessaarts.org/event/live-music-with-flair-john-sprott-ron-riley-as-2blue2/
LOCATION:Flair Taverna\, 2701 JBS Parkway\, Odessa\, Texas
CATEGORIES:Music
ATTACH;FMTTYPE=image/png:https://odessaarts.org/wp-content/uploads/2024/11/2blue2-SQ.png
END:VEVENT
END:VCALENDAR