BEGIN:VCALENDAR
VERSION:2.0
PRODID:-//Odessa Arts - ECPv6.15.20//NONSGML v1.0//EN
CALSCALE:GREGORIAN
METHOD:PUBLISH
X-WR-CALNAME:Odessa Arts
X-ORIGINAL-URL:https://odessaarts.org
X-WR-CALDESC:Events for Odessa Arts
REFRESH-INTERVAL;VALUE=DURATION:PT1H
X-Robots-Tag:noindex
X-PUBLISHED-TTL:PT1H
BEGIN:VTIMEZONE
TZID:America/Chicago
BEGIN:DAYLIGHT
TZOFFSETFROM:-0600
TZOFFSETTO:-0500
TZNAME:CDT
DTSTART:20230312T080000
END:DAYLIGHT
BEGIN:STANDARD
TZOFFSETFROM:-0500
TZOFFSETTO:-0600
TZNAME:CST
DTSTART:20231105T070000
END:STANDARD
BEGIN:DAYLIGHT
TZOFFSETFROM:-0600
TZOFFSETTO:-0500
TZNAME:CDT
DTSTART:20240310T080000
END:DAYLIGHT
BEGIN:STANDARD
TZOFFSETFROM:-0500
TZOFFSETTO:-0600
TZNAME:CST
DTSTART:20241103T070000
END:STANDARD
BEGIN:DAYLIGHT
TZOFFSETFROM:-0600
TZOFFSETTO:-0500
TZNAME:CDT
DTSTART:20250309T080000
END:DAYLIGHT
BEGIN:STANDARD
TZOFFSETFROM:-0500
TZOFFSETTO:-0600
TZNAME:CST
DTSTART:20251102T070000
END:STANDARD
END:VTIMEZONE
BEGIN:VEVENT
DTSTART;TZID=America/Chicago:20241221T180000
DTEND;TZID=America/Chicago:20241221T210000
DTSTAMP:20260425T053824
CREATED:20241114T045104Z
LAST-MODIFIED:20241114T045104Z
UID:74367-1734804000-1734814800@odessaarts.org
SUMMARY:Live Music with Flair: The Piano Room
DESCRIPTION:
URL:https://odessaarts.org/event/live-music-with-flair-the-piano-room/
LOCATION:Flair Taverna\, 2701 JBS Parkway\, Odessa\, Texas
CATEGORIES:Music
ATTACH;FMTTYPE=image/png:https://odessaarts.org/wp-content/uploads/2024/11/Flair-Dec-w3-Piano-Room-SQ.png
END:VEVENT
BEGIN:VEVENT
DTSTART;TZID=America/Chicago:20241221T180000
DTEND;TZID=America/Chicago:20241221T210000
DTSTAMP:20260425T053824
CREATED:20241218T192044Z
LAST-MODIFIED:20241218T192044Z
UID:75002-1734804000-1734814800@odessaarts.org
SUMMARY:Irish Airs & Graces
DESCRIPTION:Irish Airs & Graces \nwe are delighted to collaborate with Dave on this special St Patrick’s Day event. \nAbout this Event \n‘Irish Airs & Graces’ is a special St Patrick’s Day concert\, blurring the boundaries between traditional Irish music and contemporary classical music and featuring Irish composer Dave Flynn & the New Zealand String Quartet\, and guest traditional Irish musicians. \n\n 
URL:https://odessaarts.org/event/irish-airs-graces/
LOCATION:Volcano\, 3952 E 42nd St\, Odessa\, TX\, United States
CATEGORIES:Humanities,Music
END:VEVENT
BEGIN:VEVENT
DTSTART;TZID=America/Chicago:20241221T193000
DTEND;TZID=America/Chicago:20241221T193000
DTSTAMP:20260425T053824
CREATED:20240911T195853Z
LAST-MODIFIED:20240912T184928Z
UID:73962-1734809400-1734809400@odessaarts.org
SUMMARY:White Christmas
DESCRIPTION:  \n  \n  \nVeterans Bob Wallace and Phil Davis have a successful song-and-dance act after World War II. With romance in mind\, the two follow a duo of beautiful singing sisters en route to their Christmas show at a Vermont lodge\, which just happens to be owned by Bob and Phil’s former army commander. With a dazzling score featuring well-known standards including “Blue Skies\,” “I Love A Piano\,” “How Deep Is the Ocean” and the perennial title song\, White Christmas is an uplifting\, wholesome musical that will delight audiences of all ages.
URL:https://odessaarts.org/event/white-christmas-2/2024-12-21/
LOCATION:Midland Community Theatre\, 2000 W. Wadley\, Midland\, 79705\, United States
CATEGORIES:Humanities,Music,Theatre & Literary Arts
END:VEVENT
END:VCALENDAR