BEGIN:VCALENDAR
VERSION:2.0
PRODID:-//Odessa Arts - ECPv6.15.20//NONSGML v1.0//EN
CALSCALE:GREGORIAN
METHOD:PUBLISH
X-ORIGINAL-URL:https://odessaarts.org
X-WR-CALDESC:Events for Odessa Arts
REFRESH-INTERVAL;VALUE=DURATION:PT1H
X-Robots-Tag:noindex
X-PUBLISHED-TTL:PT1H
BEGIN:VTIMEZONE
TZID:America/Chicago
BEGIN:DAYLIGHT
TZOFFSETFROM:-0600
TZOFFSETTO:-0500
TZNAME:CDT
DTSTART:20240310T080000
END:DAYLIGHT
BEGIN:STANDARD
TZOFFSETFROM:-0500
TZOFFSETTO:-0600
TZNAME:CST
DTSTART:20241103T070000
END:STANDARD
BEGIN:DAYLIGHT
TZOFFSETFROM:-0600
TZOFFSETTO:-0500
TZNAME:CDT
DTSTART:20250309T080000
END:DAYLIGHT
BEGIN:STANDARD
TZOFFSETFROM:-0500
TZOFFSETTO:-0600
TZNAME:CST
DTSTART:20251102T070000
END:STANDARD
BEGIN:DAYLIGHT
TZOFFSETFROM:-0600
TZOFFSETTO:-0500
TZNAME:CDT
DTSTART:20260308T080000
END:DAYLIGHT
BEGIN:STANDARD
TZOFFSETFROM:-0500
TZOFFSETTO:-0600
TZNAME:CST
DTSTART:20261101T070000
END:STANDARD
END:VTIMEZONE
BEGIN:VEVENT
DTSTART;TZID=America/Chicago:20250303T193000
DTEND;TZID=America/Chicago:20250303T193000
DTSTAMP:20260425T090158
CREATED:20240521T204322Z
LAST-MODIFIED:20240521T204322Z
UID:73351-1741030200-1741030200@odessaarts.org
SUMMARY:UTPB Choir Concert
DESCRIPTION:
URL:https://odessaarts.org/event/utpb-choir-concert-3/
LOCATION:Rea-Greathouse Recital Hall\, 1310 Farm to Market 1788\, Midlan\, TX\, 79707\, United States
CATEGORIES:Music
END:VEVENT
BEGIN:VEVENT
DTSTART;TZID=America/Chicago:20250303T193000
DTEND;TZID=America/Chicago:20250303T210000
DTSTAMP:20260425T090158
CREATED:20250221T222446Z
LAST-MODIFIED:20250221T222446Z
UID:75362-1741030200-1741035600@odessaarts.org
SUMMARY:UTPB Music Presents Jazz Extravaganza
DESCRIPTION:The UTPB Jazz Kettle will be hosting internationally celebrated musicians Willie Murillo and James Morrison for a concert on Monday\, March 3\, 2025. This will be an event that will benefit students at UTPB\, Odessa College\, and Midland College\, as well as community members. The Guest Artists will rehearse with community and college musicians on Sunday night\, speak to groups and individuals in private lessons and Master Classes on Monday\, and perform with jazz band members from UTPB\, OC\, MC and the greater Permian Basin community that evening at the Wagner Noel Performing Arts Center. \nThe magnitude of this experience cannot be overstated. Willie Murillo is an LA based trumpeter\, singer\, arranger\, and producer who visited UTPB last year for a similar residence. Everyone who was associated with that rehearsal/performance 2-day event left the experience exhilarated and edified. James Morrison is an Australia based multi-instrumentalist who has been called “the Genius of Jazz”. He and Mr. Murillo will be on multi-state tour across the nation\, and they are looking forward to spending a few days in the Permian Basin before moving on to other tour dates and locations. \nIncludes musicians from Odessa College\, UTPB Jazz Kettle\, and Midland College.
URL:https://odessaarts.org/event/utpb-music-presents-jazz-extravaganza/
LOCATION:Wagner Noël Performing Arts Center\, 1310 FM 1788\, Midland\, Texas
CATEGORIES:Music
END:VEVENT
END:VCALENDAR