BEGIN:VCALENDAR
VERSION:2.0
PRODID:-//Odessa Arts - ECPv6.15.20//NONSGML v1.0//EN
CALSCALE:GREGORIAN
METHOD:PUBLISH
X-ORIGINAL-URL:https://odessaarts.org
X-WR-CALDESC:Events for Odessa Arts
REFRESH-INTERVAL;VALUE=DURATION:PT1H
X-Robots-Tag:noindex
X-PUBLISHED-TTL:PT1H
BEGIN:VTIMEZONE
TZID:America/Chicago
BEGIN:DAYLIGHT
TZOFFSETFROM:-0600
TZOFFSETTO:-0500
TZNAME:CDT
DTSTART:20240310T080000
END:DAYLIGHT
BEGIN:STANDARD
TZOFFSETFROM:-0500
TZOFFSETTO:-0600
TZNAME:CST
DTSTART:20241103T070000
END:STANDARD
BEGIN:DAYLIGHT
TZOFFSETFROM:-0600
TZOFFSETTO:-0500
TZNAME:CDT
DTSTART:20250309T080000
END:DAYLIGHT
BEGIN:STANDARD
TZOFFSETFROM:-0500
TZOFFSETTO:-0600
TZNAME:CST
DTSTART:20251102T070000
END:STANDARD
BEGIN:DAYLIGHT
TZOFFSETFROM:-0600
TZOFFSETTO:-0500
TZNAME:CDT
DTSTART:20260308T080000
END:DAYLIGHT
BEGIN:STANDARD
TZOFFSETFROM:-0500
TZOFFSETTO:-0600
TZNAME:CST
DTSTART:20261101T070000
END:STANDARD
END:VTIMEZONE
BEGIN:VEVENT
DTSTART;TZID=America/Chicago:20250403T180000
DTEND;TZID=America/Chicago:20250403T230000
DTSTAMP:20260424T213858
CREATED:20250325T175728Z
LAST-MODIFIED:20250325T175855Z
UID:75948-1743703200-1743721200@odessaarts.org
SUMMARY:Tejano Thirsty Thursday’s
DESCRIPTION:A FREE community event\, hosted by DJ Picasso spinning all your favorite Tejano jams plus so much more! \nDoors open at 6 PM. Family and pet friendly. Bar service and a food truck vendor are always available on site. \nTejano Thirsty Thursday’s season is sponsored by Basin Sales & Service.
URL:https://odessaarts.org/event/tejano-thirsty-thursdays/
LOCATION:The Destination\, 1705 W. Industrial Ave.\, Midland\, TX\, 79701
CATEGORIES:Music
END:VEVENT
BEGIN:VEVENT
DTSTART;TZID=America/Chicago:20250403T193000
DTEND;TZID=America/Chicago:20250403T193000
DTSTAMP:20260424T213858
CREATED:20250121T160643Z
LAST-MODIFIED:20250121T160643Z
UID:75178-1743708600-1743708600@odessaarts.org
SUMMARY:Pretty Guardian Sailor Moon: The Super Live
DESCRIPTION:Prepare to be enchanted! \nPretty Guardian Sailor Moon: The Super Live\, the ground breaking 2.5D musical\, is bringing the iconic Sailor Moon universe to life like never before. This stunning stage adaptation—based on the legendary manga and anime—transports audiences into a dazzling world of magic\, friendship and justice with its electrifying performances\, unforgettable choreography and show-stopping music. \nThis production was the first-ever 2.5D musical to hit North American stages\, ushering in anew era of live theatre that merges the visual style of manga and anime with the immersive power of live performance. Pretty Guardian Sailor Moon: The Super Live is a one-of-a-kind experience that will captivate fans of all ages. \nWith book\, lyrics and direction by Kaori Miura (The Musical The Prince of Tennis\, Tokyo Revengers the Musical)\, choreography by Satomi Toma and music by Go Sakabe and KYOHEI\, this is your chance to see “Sailor Moon” like never before\, live\, on stage\, in aspectacular 2.5D musical event! \nFeel the magic\, witness the excitement and be part of the phenomenon that’s captured the hearts of millions worldwide! Pretty Guardian Sailor Moon: The Super Live will be performed in Japanese with English subtitles. \nRunning time: 90 minutes with no intermission
URL:https://odessaarts.org/event/pretty-guardian-sailor-moon-the-super-live/
LOCATION:Wagner Noël Performing Arts Center\, 1310 FM 1788\, Midland\, Texas
CATEGORIES:Music,Theatre & Literary Arts
END:VEVENT
END:VCALENDAR